BEGIN:VCALENDAR
VERSION:2.0
PRODID:-//Fit Frog Adventures - ECPv6.15.20//NONSGML v1.0//EN
CALSCALE:GREGORIAN
METHOD:PUBLISH
X-WR-CALNAME:Fit Frog Adventures
X-ORIGINAL-URL:https://www.fitfrog.ca
X-WR-CALDESC:Events for Fit Frog Adventures
REFRESH-INTERVAL;VALUE=DURATION:PT1H
X-Robots-Tag:noindex
X-PUBLISHED-TTL:PT1H
BEGIN:VTIMEZONE
TZID:America/Edmonton
BEGIN:DAYLIGHT
TZOFFSETFROM:-0700
TZOFFSETTO:-0600
TZNAME:MDT
DTSTART:20250309T090000
END:DAYLIGHT
BEGIN:STANDARD
TZOFFSETFROM:-0600
TZOFFSETTO:-0700
TZNAME:MST
DTSTART:20251102T080000
END:STANDARD
BEGIN:DAYLIGHT
TZOFFSETFROM:-0700
TZOFFSETTO:-0600
TZNAME:MDT
DTSTART:20260308T090000
END:DAYLIGHT
BEGIN:STANDARD
TZOFFSETFROM:-0600
TZOFFSETTO:-0700
TZNAME:MST
DTSTART:20261101T080000
END:STANDARD
BEGIN:DAYLIGHT
TZOFFSETFROM:-0700
TZOFFSETTO:-0600
TZNAME:MDT
DTSTART:20270314T090000
END:DAYLIGHT
BEGIN:STANDARD
TZOFFSETFROM:-0600
TZOFFSETTO:-0700
TZNAME:MST
DTSTART:20271107T080000
END:STANDARD
END:VTIMEZONE
BEGIN:VEVENT
DTSTART;TZID=America/Edmonton:20260421T090000
DTEND;TZID=America/Edmonton:20260421T103000
DTSTAMP:20260421T033611
CREATED:20260417T003636Z
LAST-MODIFIED:20260417T003906Z
UID:9535-1776762000-1776767400@www.fitfrog.ca
SUMMARY:Calgary Walk: Inglewood & East Village RiverWalk\, SE
DESCRIPTION:Description:\nExplore Calgary’s eclectic neighbourhoods! This relatively flat hike starts with a climb to a spectacular view of the Saddledome and the downtown core. Historic neighbourhoods\, the Bow River\, and some funky window shopping are all part of this walk. \nWant to join us?\nScroll down to the bottom for the options \nMeet Place:\nMeet at the intersection of 8th and 8th\, SE. There is free street parking. \nPost-Walk Coffee Stop (Optional):\nMany options\, Gravity\, Canela\, Good News Cafe
URL:https://www.fitfrog.ca/event/calgary-walk-inglewood-east-village-riverwalk-se-april-2/
LOCATION:Inglewood\, SE\, 800 8 St SE\, Calgary\, Canada
CATEGORIES:Calgary City Walk & Cafe
ATTACH;FMTTYPE=image/jpeg:https://www.fitfrog.ca/wp-content/uploads/2026/03/1-Hubcap-Folk-Art-Garden-Inglewood-Spring-small.jpeg
END:VEVENT
END:VCALENDAR