BEGIN:VCALENDAR
VERSION:2.0
PRODID:-//Fit Frog Adventures - ECPv6.15.20//NONSGML v1.0//EN
CALSCALE:GREGORIAN
METHOD:PUBLISH
X-WR-CALNAME:Fit Frog Adventures
X-ORIGINAL-URL:https://www.fitfrog.ca
X-WR-CALDESC:Events for Fit Frog Adventures
REFRESH-INTERVAL;VALUE=DURATION:PT1H
X-Robots-Tag:noindex
X-PUBLISHED-TTL:PT1H
BEGIN:VTIMEZONE
TZID:America/Edmonton
BEGIN:DAYLIGHT
TZOFFSETFROM:-0700
TZOFFSETTO:-0600
TZNAME:MDT
DTSTART:20210314T090000
END:DAYLIGHT
BEGIN:STANDARD
TZOFFSETFROM:-0600
TZOFFSETTO:-0700
TZNAME:MST
DTSTART:20211107T080000
END:STANDARD
BEGIN:DAYLIGHT
TZOFFSETFROM:-0700
TZOFFSETTO:-0600
TZNAME:MDT
DTSTART:20220313T090000
END:DAYLIGHT
BEGIN:STANDARD
TZOFFSETFROM:-0600
TZOFFSETTO:-0700
TZNAME:MST
DTSTART:20221106T080000
END:STANDARD
BEGIN:DAYLIGHT
TZOFFSETFROM:-0700
TZOFFSETTO:-0600
TZNAME:MDT
DTSTART:20230312T090000
END:DAYLIGHT
BEGIN:STANDARD
TZOFFSETFROM:-0600
TZOFFSETTO:-0700
TZNAME:MST
DTSTART:20231105T080000
END:STANDARD
END:VTIMEZONE
BEGIN:VEVENT
DTSTART;TZID=America/Edmonton:20220514T140000
DTEND;TZID=America/Edmonton:20220514T180000
DTSTAMP:20260422T163509
CREATED:20220513T154210Z
LAST-MODIFIED:20220513T154735Z
UID:3985-1652536800-1652551200@www.fitfrog.ca
SUMMARY:Bike Fest at Capital Hill: Books for sale!
DESCRIPTION:Meet Lori!\nSwing by BIKE FEST at the Capital Hill Community Association at 2-6 pm to meet Lori and pick up a copy of her brand new book\, Calgary’s Best Bike Rides! \nLocation:\nCapital Hill Community Association (More info here ) \nMore about the book:\nBest-selling author Lori Beattie is back and this time she is connecting the city by bike. Pedal along the Bow River Pathway past the Peace Bridge before connecting to the East Village RiverWalk and St. Patrick’s Island. Disconnect and recharge on a ride around the Glenmore Reservoir. Enjoy big sky views from Royal Oak\, Panorama Hills\, Glenbow Ranch Provincial Park\, the Dover escarpment\, Scotsman’s Hill\, and Fish Creek Provincial Park. Detailed maps lead you from river pathways into  https://www.capitolhillcommunity.ca/#/events/\, through parks\, and past Farmers Markets and local shops where you can fill your pannier with fresh produce\, spices\, and ingredients from around the globe. Calgary’s Best Bike Rides has something for everyone\, including Lori’s suggestions on where to find the best locally made ice cream\, craft beer\, and bagels. Connect\, discover and explore Calgary by bike on these 50 curated cycle tours and pathway pedals. \n● Detailed full colour maps for every ride\n● Fantastic photos featuring Calgary’s iconic\, quirky and awe-inspiring sights\n● Detours\, destinations and suggested pit stops featured for every ride\n● Afternoon ice cream pedals to full day tour de Calgary rides\n● LRT start options so you can leave your car at home\n● Sidebars featuring tasty pit stops\, mountain biking in Calgary\, geology\, First Nations history\, botanical gardens\, winter biking\, wetlands\, and why biking makes us happy
URL:https://www.fitfrog.ca/event/bike-fest-at-capital-hill-books-for-sale/
LOCATION:Capital Hill Community Association\, 1531 21 Ave NW\, Calgary\, AB T2M 1L9
CATEGORIES:Book event
ATTACH;FMTTYPE=image/png:https://www.fitfrog.ca/wp-content/uploads/2022/05/Screen-Shot-2022-05-13-at-9.19.08-AM.png
END:VEVENT
BEGIN:VEVENT
DTSTART;TZID=America/Edmonton:20220528T130000
DTEND;TZID=America/Edmonton:20220528T150000
DTSTAMP:20260422T163509
CREATED:20220216T161157Z
LAST-MODIFIED:20220420T135408Z
UID:3144-1653742800-1653750000@www.fitfrog.ca
SUMMARY:Book Signing at Shelf Life Books
DESCRIPTION:Meet Lori!\nSwing by Shelf Life Books to meet Lori and pick up a copy of her brand new book\, Calgary’s Best Bike Rides! \nLocation:\nShelf Life Books\, 1302\, 4 Street\, SW\, Calgary \nMore about the book:\nBest-selling author Lori Beattie is back and this time she is connecting the city by bike. Pedal along the Bow River Pathway past the Peace Bridge before connecting to the East Village RiverWalk and St. Patrick’s Island. Disconnect and recharge on a ride around the Glenmore Reservoir. Enjoy big sky views from Royal Oak\, Panorama Hills\, Glenbow Ranch Provincial Park\, the Dover escarpment\, Scotsman’s Hill\, and Fish Creek Provincial Park. Detailed maps lead you from river pathways into neighbourhoods\, through parks\, and past Farmers Markets and local shops where you can fill your pannier with fresh produce\, spices and ingredients from around the globe. Calgary’s Best Bike Rides has something for everyone\, including Lori’s suggestions on where to find the best locally made ice cream\, craft beer and bagels. Connect\, discover and explore Calgary by bike on these 50 curated cycle tours and pathway pedals. \n● Detailed full colour maps for every ride\n● Fantastic photos featuring Calgary’s iconic\, quirky and awe-inspiring sights\n● Detours\, destinations and suggested pit stops featured for every ride\n● Afternoon ice cream pedals to full day tour de Calgary rides\n● LRT start options so you can leave your car at home\n● Sidebars featuring tasty pit stops\, mountain biking in Calgary\, geology\, First Nations history\, botanical gardens\, winter biking\, wetlands\, and why biking makes us happy
URL:https://www.fitfrog.ca/event/book-signing-at-shelf-life-books/
LOCATION:Shelf Life Books\, 1302 4 St SW\, Calgary\, AB T2R 0X8
CATEGORIES:Book event
ATTACH;FMTTYPE=image/png:https://www.fitfrog.ca/wp-content/uploads/2022/03/Calgarys-Best-Bike-Rides-guidebook.png
END:VEVENT
END:VCALENDAR