BEGIN:VCALENDAR
VERSION:2.0
PRODID:-//Fit Frog Adventures - ECPv6.15.20//NONSGML v1.0//EN
CALSCALE:GREGORIAN
METHOD:PUBLISH
X-ORIGINAL-URL:https://www.fitfrog.ca
X-WR-CALDESC:Events for Fit Frog Adventures
REFRESH-INTERVAL;VALUE=DURATION:PT1H
X-Robots-Tag:noindex
X-PUBLISHED-TTL:PT1H
BEGIN:VTIMEZONE
TZID:America/Edmonton
BEGIN:DAYLIGHT
TZOFFSETFROM:-0700
TZOFFSETTO:-0600
TZNAME:MDT
DTSTART:20210314T090000
END:DAYLIGHT
BEGIN:STANDARD
TZOFFSETFROM:-0600
TZOFFSETTO:-0700
TZNAME:MST
DTSTART:20211107T080000
END:STANDARD
BEGIN:DAYLIGHT
TZOFFSETFROM:-0700
TZOFFSETTO:-0600
TZNAME:MDT
DTSTART:20220313T090000
END:DAYLIGHT
BEGIN:STANDARD
TZOFFSETFROM:-0600
TZOFFSETTO:-0700
TZNAME:MST
DTSTART:20221106T080000
END:STANDARD
BEGIN:DAYLIGHT
TZOFFSETFROM:-0700
TZOFFSETTO:-0600
TZNAME:MDT
DTSTART:20230312T090000
END:DAYLIGHT
BEGIN:STANDARD
TZOFFSETFROM:-0600
TZOFFSETTO:-0700
TZNAME:MST
DTSTART:20231105T080000
END:STANDARD
END:VTIMEZONE
BEGIN:VEVENT
DTSTART;TZID=America/Edmonton:20220702T100000
DTEND;TZID=America/Edmonton:20220702T140000
DTSTAMP:20260422T081703
CREATED:20220522T211116Z
LAST-MODIFIED:20220523T222804Z
UID:4086-1656756000-1656770400@www.fitfrog.ca
SUMMARY:Farmers & Makers Market at CSpace: book signing and meet Lori!
DESCRIPTION:Meet Lori!\nSwing by the Farmers & Makers Market at CSpace in Marda Loop to meet Lori and get your signed copy* of both of her books\, Calgary’s Best Walks and her brand new book\, Calgary’s Best Bike Rides! Buy a set of Lori’s books and save 10%!  \nCalgary’s Best Walks guidebook: 45 urban jaunts and nature strolls \nCalgary’s Best Bike Rides Guidebook: 50 urban cycle tours and pathway pedals \nSO many fantastic vendors at the market that you’ll want to plan the time to check it all out! \n*Cash\, debit\, and credit accepted! \nLocation:\nThe market is located at cSPACE King Edward arts & creative hub (1721 29 Avenue SW)\, at the convergence of 5 inner-city Calgary communities: South Calgary/Marda Loop\, Bankview\, Altadore\, Richmond\, and Upper Mount Royal\, just a 3-minute walk from major bus routes that connect city-wide. \nMore about Lori’s NEW bike book:\nBest-selling author Lori Beattie is back and this time she is connecting the city by bike. Pedal along the Bow River Pathway past the Peace Bridge before connecting to the East Village RiverWalk and St. Patrick’s Island. Disconnect and recharge on a ride around the Glenmore Reservoir. Enjoy big sky views from Royal Oak\, Panorama Hills\, Glenbow Ranch Provincial Park\, the Dover escarpment\, Scotsman’s Hill\, and Fish Creek Provincial Park. Detailed maps lead you from river pathways into neighbourhoods\, through parks\, and past Farmers’ Markets and local shops where you can fill your pannier with fresh produce\, spices and ingredients from around the globe. Calgary’s Best Bike Rides has something for everyone\, including Lori’s suggestions on where to find the best locally made ice cream\, craft beer and bagels. Connect\, discover and explore Calgary by bike on these 50 curated cycle tours and pathway pedals. \n● Detailed full colour maps for every ride\n● Fantastic photos featuring Calgary’s iconic\, quirky and awe-inspiring sights\n● Detours\, destinations and suggested pit stops featured for every ride\n● Afternoon ice cream pedals to full day tour de Calgary rides\n● LRT start options so you can leave your car at home\n● Sidebars featuring tasty pit stops\, mountain biking in Calgary\, geology\, First Nations history\, botanical gardens\, winter biking\, wetlands\, and why biking makes us happy \nRead more about Lori’s book Calgary’s Best Walks here!
URL:https://www.fitfrog.ca/event/cspace-farmers-makers-market-book-signing-and-meet-lori/
LOCATION:CSpace\, 1721 29 Ave SW\, Calgary\, AB T2T 6T7
CATEGORIES:Book event
ATTACH;FMTTYPE=image/png:https://www.fitfrog.ca/wp-content/uploads/2022/05/Book-signing.png
END:VEVENT
END:VCALENDAR