BEGIN:VCALENDAR
VERSION:2.0
PRODID:-//Fit Frog Adventures - ECPv6.15.20//NONSGML v1.0//EN
CALSCALE:GREGORIAN
METHOD:PUBLISH
X-ORIGINAL-URL:https://www.fitfrog.ca
X-WR-CALDESC:Events for Fit Frog Adventures
REFRESH-INTERVAL;VALUE=DURATION:PT1H
X-Robots-Tag:noindex
X-PUBLISHED-TTL:PT1H
BEGIN:VTIMEZONE
TZID:America/Edmonton
BEGIN:DAYLIGHT
TZOFFSETFROM:-0700
TZOFFSETTO:-0600
TZNAME:MDT
DTSTART:20210314T090000
END:DAYLIGHT
BEGIN:STANDARD
TZOFFSETFROM:-0600
TZOFFSETTO:-0700
TZNAME:MST
DTSTART:20211107T080000
END:STANDARD
BEGIN:DAYLIGHT
TZOFFSETFROM:-0700
TZOFFSETTO:-0600
TZNAME:MDT
DTSTART:20220313T090000
END:DAYLIGHT
BEGIN:STANDARD
TZOFFSETFROM:-0600
TZOFFSETTO:-0700
TZNAME:MST
DTSTART:20221106T080000
END:STANDARD
BEGIN:DAYLIGHT
TZOFFSETFROM:-0700
TZOFFSETTO:-0600
TZNAME:MDT
DTSTART:20230312T090000
END:DAYLIGHT
BEGIN:STANDARD
TZOFFSETFROM:-0600
TZOFFSETTO:-0700
TZNAME:MST
DTSTART:20231105T080000
END:STANDARD
END:VTIMEZONE
BEGIN:VEVENT
DTSTART;TZID=America/Edmonton:20220803T180000
DTEND;TZID=America/Edmonton:20220803T190000
DTSTAMP:20260422T081643
CREATED:20220527T212121Z
LAST-MODIFIED:20220527T212312Z
UID:4129-1659549600-1659553200@www.fitfrog.ca
SUMMARY:Book Presentation at Memorial Park Library
DESCRIPTION:Meet Lori!\nJoin author Lori Beattie for a visual presentation featuring her NEW book\, Calgary’s Best Bike Rides! Books will be for sale at the event. \nSpace is limited\, please register here with the library. \nLocation:\nMemorial Park Library\, Calgary\, register here: Calgary Library Programs \nMore about the book:\nBest-selling author Lori Beattie is back and this time she is connecting the city by bike. Pedal along the Bow River Pathway past the Peace Bridge before connecting to the East Village RiverWalk and St. Patrick’s Island. Disconnect and recharge on a ride around the Glenmore Reservoir. Enjoy big sky views from Royal Oak\, Panorama Hills\, Glenbow Ranch Provincial Park\, the Dover escarpment\, Scotsman’s Hill\, and Fish Creek Provincial Park. Detailed maps lead you from river pathways into neighbourhoods\, through parks\, and past Farmers Markets and local shops where you can fill your pannier with fresh produce\, spices and ingredients from around the globe. Calgary’s Best Bike Rides has something for everyone\, including Lori’s suggestions on where to find the best locally made ice cream\, craft beer and bagels. Connect\, discover and explore Calgary by bike on these 50 curated cycle tours and pathway pedals. \n● Detailed full colour maps for every ride\n● Fantastic photos featuring Calgary’s iconic\, quirky and awe-inspiring sights\n● Detours\, destinations and suggested pit stops featured for every ride\n● Afternoon ice cream pedals to full day tour de Calgary rides\n● LRT start options so you can leave your car at home\n● Sidebars featuring tasty pit stops\, mountain biking in Calgary\, geology\, First Nations history\, botanical gardens\, winter biking\, wetlands\, and why biking makes us happy
URL:https://www.fitfrog.ca/event/book-presentation-at-memorial-park-library/
LOCATION:Memorial Park Library\, 1221 2 St SW\, Calgary\, AB T2R 1N8
CATEGORIES:Book event
ATTACH;FMTTYPE=image/jpeg:https://www.fitfrog.ca/wp-content/uploads/2022/04/Library-Poster-all-bike-book-events.jpg
END:VEVENT
END:VCALENDAR