BEGIN:VCALENDAR
VERSION:2.0
PRODID:-//Fit Frog Adventures - ECPv6.15.20//NONSGML v1.0//EN
CALSCALE:GREGORIAN
METHOD:PUBLISH
X-WR-CALNAME:Fit Frog Adventures
X-ORIGINAL-URL:https://www.fitfrog.ca
X-WR-CALDESC:Events for Fit Frog Adventures
REFRESH-INTERVAL;VALUE=DURATION:PT1H
X-Robots-Tag:noindex
X-PUBLISHED-TTL:PT1H
BEGIN:VTIMEZONE
TZID:America/Edmonton
BEGIN:DAYLIGHT
TZOFFSETFROM:-0700
TZOFFSETTO:-0600
TZNAME:MDT
DTSTART:20220313T090000
END:DAYLIGHT
BEGIN:STANDARD
TZOFFSETFROM:-0600
TZOFFSETTO:-0700
TZNAME:MST
DTSTART:20221106T080000
END:STANDARD
BEGIN:DAYLIGHT
TZOFFSETFROM:-0700
TZOFFSETTO:-0600
TZNAME:MDT
DTSTART:20230312T090000
END:DAYLIGHT
BEGIN:STANDARD
TZOFFSETFROM:-0600
TZOFFSETTO:-0700
TZNAME:MST
DTSTART:20231105T080000
END:STANDARD
BEGIN:DAYLIGHT
TZOFFSETFROM:-0700
TZOFFSETTO:-0600
TZNAME:MDT
DTSTART:20240310T090000
END:DAYLIGHT
BEGIN:STANDARD
TZOFFSETFROM:-0600
TZOFFSETTO:-0700
TZNAME:MST
DTSTART:20241103T080000
END:STANDARD
END:VTIMEZONE
BEGIN:VEVENT
DTSTART;TZID=America/Edmonton:20230107T130000
DTEND;TZID=America/Edmonton:20230107T150000
DTSTAMP:20260419T230051
CREATED:20221205T210348Z
LAST-MODIFIED:20221205T211514Z
UID:5610-1673096400-1673103600@www.fitfrog.ca
SUMMARY:LIBRARY WALK from Giuffre Library
DESCRIPTION:Walk with Lori!\nJoin author Lori Beattie for a FREE guided walk from her book\, Calgary’s Best Walks! Calgary’s Best-selling author is back\, and this time she is taking it on the road. Come talk to Lori Beattie about her book Calgary’s Best Walks and then join her on a walkabout from the library. Bring your walking shoes and come explore the beauty of Calgary by foot. \nCalgary’s Best Walks and Calgary’s Best Bike Rides will be for sale at the event. \nPlease register with the library or just show up!  \nLocation:\nGiuffre Library\, register here: Calgary Library Programs  \nDistance and Difficulty:\n6-7 km with hills following sidewalks\, pathways and dirt paths \nCost:\nFREE!
URL:https://www.fitfrog.ca/event/book-walk-from-giuffre-library-winter/
LOCATION:Giuffre Library\, 3223 14 St SW\, Calgary\, AB T2T 3V8
CATEGORIES:Book event
ATTACH;FMTTYPE=image/png:https://www.fitfrog.ca/wp-content/uploads/2022/09/Library-Walks-general-Promo.png
END:VEVENT
END:VCALENDAR