BEGIN:VCALENDAR
VERSION:2.0
PRODID:-//Fit Frog Adventures - ECPv6.15.20//NONSGML v1.0//EN
CALSCALE:GREGORIAN
METHOD:PUBLISH
X-ORIGINAL-URL:https://www.fitfrog.ca
X-WR-CALDESC:Events for Fit Frog Adventures
REFRESH-INTERVAL;VALUE=DURATION:PT1H
X-Robots-Tag:noindex
X-PUBLISHED-TTL:PT1H
BEGIN:VTIMEZONE
TZID:America/Edmonton
BEGIN:DAYLIGHT
TZOFFSETFROM:-0700
TZOFFSETTO:-0600
TZNAME:MDT
DTSTART:20220313T090000
END:DAYLIGHT
BEGIN:STANDARD
TZOFFSETFROM:-0600
TZOFFSETTO:-0700
TZNAME:MST
DTSTART:20221106T080000
END:STANDARD
BEGIN:DAYLIGHT
TZOFFSETFROM:-0700
TZOFFSETTO:-0600
TZNAME:MDT
DTSTART:20230312T090000
END:DAYLIGHT
BEGIN:STANDARD
TZOFFSETFROM:-0600
TZOFFSETTO:-0700
TZNAME:MST
DTSTART:20231105T080000
END:STANDARD
BEGIN:DAYLIGHT
TZOFFSETFROM:-0700
TZOFFSETTO:-0600
TZNAME:MDT
DTSTART:20240310T090000
END:DAYLIGHT
BEGIN:STANDARD
TZOFFSETFROM:-0600
TZOFFSETTO:-0700
TZNAME:MST
DTSTART:20241103T080000
END:STANDARD
END:VTIMEZONE
BEGIN:VEVENT
DTSTART;TZID=America/Edmonton:20230318T100000
DTEND;TZID=America/Edmonton:20230318T120000
DTSTAMP:20260419T201129
CREATED:20221205T210649Z
LAST-MODIFIED:20230304T164228Z
UID:5614-1679133600-1679140800@www.fitfrog.ca
SUMMARY:LIBRARY WALK from Bowness Library
DESCRIPTION:Walk with Lori!\nJoin author Lori Beattie for a guided walk from her book\, Calgary’s Best Walks! Calgary’s Best-selling author is back\, and this time she is taking it on the road. Come talk to Lori Beattie about her book Calgary’s Best Walks and then join her on a walkabout from the library. Bring your walking shoes and come explore the beauty of Calgary by foot. \nCalgary’s Best Walks and Calgary’s Best Bike Rides will be for sale at the event. \nPlease register with the library or just show up! Registration will open on the library site about 30-45 days in advance. \nLocation:\nBowness Library\, register here: Calgary Library Programs  \nDistance and Difficulty:\n6-7 km with hills following sidewalks\, pathways and dirt / snowy paths \nCost:\nFREE!
URL:https://www.fitfrog.ca/event/library-walk-from-bowness-library/
LOCATION:Bowness Library\, 6532 Bowness Rd NW\, Calgary\, AB T3B 0E8
CATEGORIES:Book event
ATTACH;FMTTYPE=image/png:https://www.fitfrog.ca/wp-content/uploads/2022/09/Library-Walks-general-Promo.png
END:VEVENT
END:VCALENDAR