BEGIN:VCALENDAR
VERSION:2.0
PRODID:-//Fit Frog Adventures - ECPv6.15.20//NONSGML v1.0//EN
CALSCALE:GREGORIAN
METHOD:PUBLISH
X-WR-CALNAME:Fit Frog Adventures
X-ORIGINAL-URL:https://www.fitfrog.ca
X-WR-CALDESC:Events for Fit Frog Adventures
REFRESH-INTERVAL;VALUE=DURATION:PT1H
X-Robots-Tag:noindex
X-PUBLISHED-TTL:PT1H
BEGIN:VTIMEZONE
TZID:America/Edmonton
BEGIN:DAYLIGHT
TZOFFSETFROM:-0700
TZOFFSETTO:-0600
TZNAME:MDT
DTSTART:20220313T090000
END:DAYLIGHT
BEGIN:STANDARD
TZOFFSETFROM:-0600
TZOFFSETTO:-0700
TZNAME:MST
DTSTART:20221106T080000
END:STANDARD
BEGIN:DAYLIGHT
TZOFFSETFROM:-0700
TZOFFSETTO:-0600
TZNAME:MDT
DTSTART:20230312T090000
END:DAYLIGHT
BEGIN:STANDARD
TZOFFSETFROM:-0600
TZOFFSETTO:-0700
TZNAME:MST
DTSTART:20231105T080000
END:STANDARD
BEGIN:DAYLIGHT
TZOFFSETFROM:-0700
TZOFFSETTO:-0600
TZNAME:MDT
DTSTART:20240310T090000
END:DAYLIGHT
BEGIN:STANDARD
TZOFFSETFROM:-0600
TZOFFSETTO:-0700
TZNAME:MST
DTSTART:20241103T080000
END:STANDARD
END:VTIMEZONE
BEGIN:VEVENT
DTSTART;TZID=America/Edmonton:20230920T183000
DTEND;TZID=America/Edmonton:20230920T203000
DTSTAMP:20260419T112447
CREATED:20230817T214216Z
LAST-MODIFIED:20230817T215508Z
UID:6784-1695234600-1695241800@www.fitfrog.ca
SUMMARY:LIBRARY WALK from Memorial Park Library
DESCRIPTION:Walk with Lori!\nJoin Lori Beattie\, best-selling author of Calgary’s Best Walks for a guided 6-7 km city walk with hills. You’ll connect neighbourhoods\, parks\, pathways\, and hidden stairways while chatting with interesting people from around the city and the world. Grab signed copies of Lori’s guidebooks Calgary’s Best Walks and Calgary’s Best Bike Rides. They will be for sale at the start and end of the walk (cash\, debit and credit payments accepted) \nPlease register with the library or just show up! Registration will open on the library site about 30-45 days in advance. \nLocation:\nMemorial Park Library\, register here: Calgary Library Programs  \nDistance and Difficulty:\n6-7 km with stairs and hills. We’ll walk aling sidewalks\, paved and gravel pathways. \nCost:\nFREE!
URL:https://www.fitfrog.ca/event/library-walk-from-memorial-park-library-fall-2023/
LOCATION:Memorial Park Library\, 1221 2 St SW\, Calgary\, AB T2R 1N8
CATEGORIES:Book event
ATTACH;FMTTYPE=image/png:https://www.fitfrog.ca/wp-content/uploads/2022/09/Library-Walks-general-Promo.png
END:VEVENT
END:VCALENDAR