BEGIN:VCALENDAR
VERSION:2.0
PRODID:-//Fit Frog Adventures - ECPv6.15.20//NONSGML v1.0//EN
CALSCALE:GREGORIAN
METHOD:PUBLISH
X-ORIGINAL-URL:https://www.fitfrog.ca
X-WR-CALDESC:Events for Fit Frog Adventures
REFRESH-INTERVAL;VALUE=DURATION:PT1H
X-Robots-Tag:noindex
X-PUBLISHED-TTL:PT1H
BEGIN:VTIMEZONE
TZID:America/Edmonton
BEGIN:DAYLIGHT
TZOFFSETFROM:-0700
TZOFFSETTO:-0600
TZNAME:MDT
DTSTART:20220313T090000
END:DAYLIGHT
BEGIN:STANDARD
TZOFFSETFROM:-0600
TZOFFSETTO:-0700
TZNAME:MST
DTSTART:20221106T080000
END:STANDARD
BEGIN:DAYLIGHT
TZOFFSETFROM:-0700
TZOFFSETTO:-0600
TZNAME:MDT
DTSTART:20230312T090000
END:DAYLIGHT
BEGIN:STANDARD
TZOFFSETFROM:-0600
TZOFFSETTO:-0700
TZNAME:MST
DTSTART:20231105T080000
END:STANDARD
BEGIN:DAYLIGHT
TZOFFSETFROM:-0700
TZOFFSETTO:-0600
TZNAME:MDT
DTSTART:20240310T090000
END:DAYLIGHT
BEGIN:STANDARD
TZOFFSETFROM:-0600
TZOFFSETTO:-0700
TZNAME:MST
DTSTART:20241103T080000
END:STANDARD
END:VTIMEZONE
BEGIN:VEVENT
DTSTART;TZID=America/Edmonton:20231211T180000
DTEND;TZID=America/Edmonton:20231211T200000
DTSTAMP:20260419T061304
CREATED:20230927T210411Z
LAST-MODIFIED:20231209T145957Z
UID:6871-1702317600-1702324800@www.fitfrog.ca
SUMMARY:Free LIBRARY CHRISTMAS LIGHTS WALK from the Giuffre Library
DESCRIPTION:Walk with Lori!\nJoin Lori Beattie\, best-selling author of Calgary’s Best Walks and guide at Fit Frog Adventures\, for a festive 5-6 km Christmas Lights Walk. Connect the neighbourhods of Mount Royal and Elbow Park on foot while chatting with interesting people from around the city and the world. \nCalgary’s Best Walks and Calgary’s Best Bike Rides will be for sale at the event. They are great gifts! \nPlease register with the library or just show up! Registration will open on the library site about 30-45 days in advance. \nLocation:\nGiuffre Library\, register here: Calgary Library Programs  \nDistance and Difficulty:\n5-6 km with hills following sidewalks that could be snowy or icy. \nCost:\nFREE! \n 
URL:https://www.fitfrog.ca/event/library-christmas-lights-walk-from-the-giuffre-library/
LOCATION:Giuffre Library\, 3223 14 St SW\, Calgary\, AB T2T 3V8
CATEGORIES:Book event
ATTACH;FMTTYPE=image/png:https://www.fitfrog.ca/wp-content/uploads/2023/09/Christmas-Lights-Walk-1.png
END:VEVENT
END:VCALENDAR