BEGIN:VCALENDAR
VERSION:2.0
PRODID:-//Fit Frog Adventures - ECPv6.15.20//NONSGML v1.0//EN
CALSCALE:GREGORIAN
METHOD:PUBLISH
X-WR-CALNAME:Fit Frog Adventures
X-ORIGINAL-URL:https://www.fitfrog.ca
X-WR-CALDESC:Events for Fit Frog Adventures
REFRESH-INTERVAL;VALUE=DURATION:PT1H
X-Robots-Tag:noindex
X-PUBLISHED-TTL:PT1H
BEGIN:VTIMEZONE
TZID:America/Edmonton
BEGIN:DAYLIGHT
TZOFFSETFROM:-0700
TZOFFSETTO:-0600
TZNAME:MDT
DTSTART:20240310T090000
END:DAYLIGHT
BEGIN:STANDARD
TZOFFSETFROM:-0600
TZOFFSETTO:-0700
TZNAME:MST
DTSTART:20241103T080000
END:STANDARD
BEGIN:DAYLIGHT
TZOFFSETFROM:-0700
TZOFFSETTO:-0600
TZNAME:MDT
DTSTART:20250309T090000
END:DAYLIGHT
BEGIN:STANDARD
TZOFFSETFROM:-0600
TZOFFSETTO:-0700
TZNAME:MST
DTSTART:20251102T080000
END:STANDARD
BEGIN:DAYLIGHT
TZOFFSETFROM:-0700
TZOFFSETTO:-0600
TZNAME:MDT
DTSTART:20260308T090000
END:DAYLIGHT
BEGIN:STANDARD
TZOFFSETFROM:-0600
TZOFFSETTO:-0700
TZNAME:MST
DTSTART:20261101T080000
END:STANDARD
END:VTIMEZONE
BEGIN:VEVENT
DTSTART;TZID=America/Edmonton:20250502T130000
DTEND;TZID=America/Edmonton:20250502T143000
DTSTAMP:20260423T024115
CREATED:20250323T175218Z
LAST-MODIFIED:20250416T031853Z
UID:8322-1746190800-1746196200@www.fitfrog.ca
SUMMARY:FREE JANES WALK! Connecting Elbow River communities on foot with Calgary's Best Walks author\, Lori Beattie
DESCRIPTION:Meet Lori!\nLori has a BRAND NEW guidebook with 95 Walks in Calgary\, Cochrane and beyond! Join her for a free Janes Walk through her favourite neighbourhoods and check out her NEW BOOK\, Calgary’s Best Walks 3rd edition\, with 95 walks including 50 NEW WALKS. \nWhen and where:\nFriday\, May 2 at 1- 2:30 pm – meet on Britannia Drive at 49 Ave SW. All Janes Walks are FREE! REGISTER HERE \nWhat is a “Janes Walk”?\nJane’s Walk is an annual festival of free\, community-led walking conversations inspired by urbanist and writer Jane Jacobs. On the first weekend of May every year\, Jane’s Walk festivals take place in hundreds of cities around the world. This event encourages people to share stories about their neighbourhoods\, discover unseen aspects of their communities\, and use walking as a way to connect with their neighbours. \nThe Walk: \n\n\nJoin Lori Beattie\, intrepid urban explorer and author of the just released 3rd edition of Calgary’s Best Walks\, and discover how she moves through the city\, connecting communities on foot and searching out the secret paths and hidden stairway connectors whenever she can. From Sandy Beach Park we’ll travel along the Elbow River Pathway\, up the saskatoon slopes to stunning views of the river valley. We’ll navigate Britannia to connector paths that lead to blossoming gardens before we cross the river and find the hidden stairway into into the urban wilds\, followed by stunning downtown views. We’ll walk through Elbow Park to Marda Loop\, past the new shops of 34th Avenue and into Altadore\, where a fairy garden makes you smile\, little libraries beckon\, and a secret path leads to a garden that you’ll want to revisit throughout the summer! This walk is about 6-7 km with hills and a mix of paved path\, sidewalk\, stairs and dirt paths.\n\n\n\n\n\nMore about the book: \nBestselling Alberta author Lori Beattie is back with much expanded 3rd edition of her hugely successful compendium of Calgary’s Best Walks. Taking walkers beyond Calgary\, this edition has 95 walks and tasty pit stops including 50 NEW WALKS that lead walkers throughout Calgary’s parks and neighbourhoods\, west to Cochrane\, and south to Leighton Art Centre and Brown Lowery Provincial Park\, with a section on the Kananaskis and Canmore. \nBring your kids\, your dog and your sense of adventure. Detailed maps lead you through neighbourhoods and pocket parks\, through off leash areas to hidden staircases\, along paved river pathways and onto people-populated walking streets. Navigate side streets\, enjoying homes\, gardens and new perspectives. Make friends with the chickadees on birding strolls throughout the city. Embark on a mural treasure hunt in Sunnyside or the Beltline. Calgary’s Best Walks has something for everyone\, including Lori’s favourite coffee shop suggestions for a postwalk treat. Explore Calgary and beyond on these 95 walks\, hikes and strolls. \nWhat’s New in the 3rd Edition? \n-50+ new walk routes with full-colour maps \n-50+ Tasty Pit Stops for that pre or post walk stop \n-Beyond Calgary walks in Cochrane\, the Leighton Art Centre\, Brown Lowery Park\, Kananaskis and Canmore along with tasty pit stop suggestions \n-110 km Tour de Calgary walk broken into bite size segments \n-Birding walks through wetlands \n-More urban wilds treks through ravines and environmental reserves \n-More off-leash areas featured for pups and their people \n-Even more tasty pit stop suggestions – cafés\, picnic supply shops\, ice cream and craft beer \n-New photos and artwork throughout \n-New content on topics ranging from Indigenous history\, geology\, archaeology\, botanical gardens\, wetlands\, and why walking makes us happy!
URL:https://www.fitfrog.ca/event/janes-walk-connecting-elbow-river-communities-on-foot-with-calgarys-best-walks-author-lori-beattie-friday/
LOCATION:Britannia Dr at 49 Ave SW\, 919 49 Ave SW\, Calgary\, AB T2S 1H1
CATEGORIES:Book event
ATTACH;FMTTYPE=image/png:https://www.fitfrog.ca/wp-content/uploads/2025/03/Join-me-on-May-4th-1.png
END:VEVENT
BEGIN:VEVENT
DTSTART;TZID=America/Edmonton:20250503T130000
DTEND;TZID=America/Edmonton:20250503T150000
DTSTAMP:20260423T024115
CREATED:20250123T155857Z
LAST-MODIFIED:20250409T230256Z
UID:8055-1746277200-1746284400@www.fitfrog.ca
SUMMARY:BOOK LAUNCH & ART OPENING at Gibson Fine Art- Calgary's Best Walks 3rd edition & Jill Thomson artwork
DESCRIPTION:Meet author Lori Beattie and cover artist Jill Thomson\nJoin us at Gibson Art Gallery for an art opening and book launch party! This event will celebrate the colour\, energy and happiness of walking and biking in Calgary. Artist Jill Thomson is featured on the cover of Calgary’s Best Walks and throughout Lori’s book.  Jill will exhibit her new works and Lori will launch her NEW BOOK\, Calgary’s Best Walks 3rd edition\, with 95 walks including 50 NEW WALKS. \nLearn more about Jill Thomson here on her website: www.jillthomson.ca \nWhen and where:\nMay 3 at 1- 3pm at Gibson Art Gallery: Read more: https://gibsonfineart.ca/ and REGISTER ON EVENTBRITE HERE \nMore about the book:\nBestselling Alberta author Lori Beattie is back with much expanded 3rd edition of her hugely successful compendium of Calgary’s Best Walks. Taking walkers beyond Calgary\, this edition has 95 walks and tasty pit stops including 50 NEW WALKS that lead walkers throughout Calgary’s parks and neighbourhoods\, west to Cochrane\, and south to Leighton Art Centre and Brown Lowery Provincial Park\, with a section on the Kananaskis and Canmore. \nBring your kids\, your dog and your sense of adventure. Detailed maps lead you through neighbourhoods and pocket parks\, through off leash areas to hidden staircases\, along paved river pathways and onto people-populated walking streets. Navigate side streets\, enjoying homes\, gardens and new perspectives. Make friends with the chickadees on birding strolls throughout the city. Embark on a mural treasure hunt in Sunnyside or the Beltline. Calgary’s Best Walks has something for everyone\, including Lori’s favourite coffee shop suggestions for a postwalk treat. Explore Calgary and beyond on these 95 walks\, hikes and strolls. \nWhat’s New in the 3rd Edition? \n-50+ new walk routes with full-colour maps \n-50+ Tasty Pit Stops for that pre or post walk stop \n-Beyond Calgary walks in Cochrane\, the Leighton Art Centre\, Brown Lowery Park\, Kananaskis and Canmore along with tasty pit stop suggestions \n-110 km Tour de Calgary walk broken into bite size segments \n-Birding walks through wetlands \n-More urban wilds treks through ravines and environmental reserves \n-More off-leash areas featured for pups and their people \n-Even more tasty pit stop suggestions – cafés\, picnic supply shops\, ice cream and craft beer \n-New photos and artwork throughout \n-New content on topics ranging from Indigenous history\, geology\, archaeology\, botanical gardens\, wetlands\, and why walking makes us happy!
URL:https://www.fitfrog.ca/event/book-launch-art-opening-at-gibson-fine-art-calgarys-best-walks-3rd-edition-jill-thomson-artwork/
LOCATION:Gibson Art Gallery\, 523 Cleveland Crescent SE\, Calgary\, AB T2G 4R8
CATEGORIES:Book event
ATTACH;FMTTYPE=image/png:https://www.fitfrog.ca/wp-content/uploads/2025/01/Art-opening-Gibson-May-3.png
END:VEVENT
BEGIN:VEVENT
DTSTART;TZID=America/Edmonton:20250504T100000
DTEND;TZID=America/Edmonton:20250504T113000
DTSTAMP:20260423T024115
CREATED:20250209T170944Z
LAST-MODIFIED:20250416T031946Z
UID:8133-1746352800-1746358200@www.fitfrog.ca
SUMMARY:FREE JANES WALK! Connecting Elbow River communities on foot with Calgary's Best Walks author\, Lori Beattie
DESCRIPTION:Meet Lori!\nLori has a BRAND NEW guidebook with 95 Walks in Calgary\, Cochrane and beyond! Join her for a free Janes Walk through her favourite neighbourhoods and check out her NEW BOOK\, Calgary’s Best Walks 3rd edition\, with 95 walks including 50 NEW WALKS. \nWhen and where:\nSunday\, May 4 at 10 -11:30 am pm. Meet on Britannia Drive at 49 Ave SW. All Janes Walks are FREE! REGISTER HERE: https://www.eventbrite.com/o/janes-walk-calgary-98198594881  \nWhat is a “Janes Walk”?\nJane’s Walk is an annual festival of free\, community-led walking conversations inspired by urbanist and writer Jane Jacobs. On the first weekend of May every year\, Jane’s Walk festivals take place in hundreds of cities around the world. This event encourages people to share stories about their neighbourhoods\, discover unseen aspects of their communities\, and use walking as a way to connect with their neighbours. \nThe Walk: \n\n\nJoin Lori Beattie\, intrepid urban explorer and author of the just released 3rd edition of Calgary’s Best Walks\, and discover how she moves through the city\, connecting communities on foot and searching out the secret paths and hidden stairway connectors whenever she can. From Sandy Beach Park we’ll travel along the Elbow River Pathway\, up the saskatoon slopes to stunning views of the river valley. We’ll navigate Britannia to connector paths that lead to blossoming gardens before we cross the river and find the hidden stairway into into the urban wilds\, followed by stunning downtown views. We’ll walk through Elbow Park to Marda Loop\, past the new shops of 34th Avenue and into Altadore\, where a fairy garden makes you smile\, little libraries beckon\, and a secret path leads to a garden that you’ll want to revisit throughout the summer! This walk is about 6-7 km with hills and a mix of paved path\, sidewalk\, stairs and dirt paths.\n\n\n\n\n\nMore about the book: \nBestselling Alberta author Lori Beattie is back with much expanded 3rd edition of her hugely successful compendium of Calgary’s Best Walks. Taking walkers beyond Calgary\, this edition has 95 walks and tasty pit stops including 50 NEW WALKS that lead walkers throughout Calgary’s parks and neighbourhoods\, west to Cochrane\, and south to Leighton Art Centre and Brown Lowery Provincial Park\, with a section on the Kananaskis and Canmore. \nBring your kids\, your dog and your sense of adventure. Detailed maps lead you through neighbourhoods and pocket parks\, through off leash areas to hidden staircases\, along paved river pathways and onto people-populated walking streets. Navigate side streets\, enjoying homes\, gardens and new perspectives. Make friends with the chickadees on birding strolls throughout the city. Embark on a mural treasure hunt in Sunnyside or the Beltline. Calgary’s Best Walks has something for everyone\, including Lori’s favourite coffee shop suggestions for a postwalk treat. Explore Calgary and beyond on these 95 walks\, hikes and strolls. \nWhat’s New in the 3rd Edition? \n-50+ new walk routes with full-colour maps \n-50+ Tasty Pit Stops for that pre or post walk stop \n-Beyond Calgary walks in Cochrane\, the Leighton Art Centre\, Brown Lowery Park\, Kananaskis and Canmore along with tasty pit stop suggestions \n-110 km Tour de Calgary walk broken into bite size segments \n-Birding walks through wetlands \n-More urban wilds treks through ravines and environmental reserves \n-More off-leash areas featured for pups and their people \n-Even more tasty pit stop suggestions – cafés\, picnic supply shops\, ice cream and craft beer \n-New photos and artwork throughout \n-New content on topics ranging from Indigenous history\, geology\, archaeology\, botanical gardens\, wetlands\, and why walking makes us happy!
URL:https://www.fitfrog.ca/event/janes-walk-connecting-elbow-river-communities-on-foot-with-calgarys-best-walks-author-lori-beattie/
LOCATION:Britannia Dr at 49 Ave SW\, 919 49 Ave SW\, Calgary\, AB T2S 1H1
CATEGORIES:Book event
ATTACH;FMTTYPE=image/png:https://www.fitfrog.ca/wp-content/uploads/2025/02/Join-me-on-May-4th.png
END:VEVENT
BEGIN:VEVENT
DTSTART;TZID=America/Edmonton:20250514T181500
DTEND;TZID=America/Edmonton:20250514T200000
DTSTAMP:20260423T024115
CREATED:20250328T151627Z
LAST-MODIFIED:20250415T200114Z
UID:8329-1747246500-1747252800@www.fitfrog.ca
SUMMARY:Walk with Lori and AWA: Bioliphic beauty along the Elbow River\, connecting communites and the urban wilds with Calgary's Best Walks author\, Lori Beattie
DESCRIPTION:Join Lori & Alberta Wilderness Association for a wild walk!\nLori has a BRAND NEW guidebook with 95 Walks in Calgary\, Cochrane and beyond! Join her for a guided walk from the book and check out her NEW BOOK\, Calgary’s Best Walks 3rd edition\, with 95 walks including 50 NEW WALKS. \nWhen and where:\nWednesday\, May 14  at 6:15 pm- 8 pm. Meet in Britannia\, on Britannia Dr. at 49 Ave.\, SW. Register HERE: https://albertawilderness.ca/product/elbow-river-connecting-communities/ \nDistance and terrain\nAbout 7 km\, 1.5-2 hours*. \n* NOTE: a mix of paved and dirt paths\, stairs and hills and steady walking for the entire walk. \n\nThe Walk: \n\n\nMeet Lori Beattie\, owner of Fit Frog Adventures and author of the just released 3rd edition of Calgary’s Best Walks with 95 Walks in Calgary\, Cochrane and beyond! Join her for a guided walk that connects through parks and the urban wilds along the Elbow River. From river valley to ridge top\, we’ll take stairs and paths through Saskatoon slopes of Britannia\, to stunning views where the Bald Eagles often soar\, past homes to more connector paths where the Great Horned Owl has been known to perch on the bare branches of the poplars. Past Stanley Park through slope side wilds to Parkhill where a side street walk leads to more stairs and a climb into Erlton Natural Park and single track trails through wolf willow before breaking out to spectacular views of downtown and trees in full leaf the make up the bioliphic community of Roxboro below. We’ll return through Roxboro\, past the stunning garden in Rideau and continue along the river pathway.\n\nCheck out Lori’s NEW BOOK\, Calgary’s Best Walks 3rd edition\, with 95 walks including 50 NEW WALKS.\n\n\n\n\n\nMore about the book: \nBestselling Alberta author Lori Beattie is back with much expanded 3rd edition of her hugely successful compendium of Calgary’s Best Walks. Taking walkers beyond Calgary\, this edition has 95 walks and tasty pit stops including 50 NEW WALKS that lead walkers throughout Calgary’s parks and neighbourhoods\, west to Cochrane\, and south to Leighton Art Centre and Brown Lowery Provincial Park\, with a section on the Kananaskis and Canmore. \nBring your kids\, your dog and your sense of adventure. Detailed maps lead you through neighbourhoods and pocket parks\, through off leash areas to hidden staircases\, along paved river pathways and onto people-populated walking streets. Navigate side streets\, enjoying homes\, gardens and new perspectives. Make friends with the chickadees on birding strolls throughout the city. Embark on a mural treasure hunt in Sunnyside or the Beltline. Calgary’s Best Walks has something for everyone\, including Lori’s favourite coffee shop suggestions for a postwalk treat. Explore Calgary and beyond on these 95 walks\, hikes and strolls. \nWhat’s New in the 3rd Edition? \n-50+ new walk routes with full-colour maps \n-50+ Tasty Pit Stops for that pre or post walk stop \n-Beyond Calgary walks in Cochrane\, the Leighton Art Centre\, Brown Lowery Park\, Kananaskis and Canmore along with tasty pit stop suggestions \n-110 km Tour de Calgary walk broken into bite size segments \n-Birding walks through wetlands \n-More urban wilds treks through ravines and environmental reserves \n-More off-leash areas featured for pups and their people \n-Even more tasty pit stop suggestions – cafés\, picnic supply shops\, ice cream and craft beer \n-New photos and artwork throughout \n-New content on topics ranging from Indigenous history\, geology\, archaeology\, botanical gardens\, wetlands\, and why walking makes us happy!
URL:https://www.fitfrog.ca/event/walk-with-lori-and-awa-bioliphic-beauty-along-the-elbow-river-connecting-communites-and-the-urban-wilds-with-calgarys-best-walks-author-lori-beattie/
LOCATION:Britannia Dr at 49 Ave SW\, 919 49 Ave SW\, Calgary\, AB T2S 1H1
CATEGORIES:Book event
ATTACH;FMTTYPE=image/png:https://www.fitfrog.ca/wp-content/uploads/2025/03/AWA-walk-May-14-2025-e1746019466414.png
END:VEVENT
BEGIN:VEVENT
DTSTART;TZID=America/Edmonton:20250524T120000
DTEND;TZID=America/Edmonton:20250524T150000
DTSTAMP:20260423T024115
CREATED:20250421T193146Z
LAST-MODIFIED:20250421T193506Z
UID:8465-1748088000-1748098800@www.fitfrog.ca
SUMMARY:BOOK SIGNING at MEC
DESCRIPTION:Meet Calgary author Lori Beattie\nJoin us at MEC on 10 Avenue SW in downtown Calgary for a book signing. Get your copy of Lori’s new book Calgary’s Best Walks 3rd edition\, with 95 walks including 50 NEW WALKS and Calgary’s Best Bike Rides so you can enjoy self-propelled local adventures all summer long. \nWhen and where:\nSat.\, May 24 at 12-2 or 3 pm \nMore about Lori’s NEW book:\nCalgary’s Best Walks \nBestselling Alberta author Lori Beattie is back with much expanded 3rd edition of her hugely successful compendium of Calgary’s Best Walks. Taking walkers beyond Calgary\, this edition has 95 walks and tasty pit stops including 50 NEW WALKS that lead walkers throughout Calgary’s parks and neighbourhoods\, west to Cochrane\, and south to Leighton Art Centre and Brown Lowery Provincial Park\, with a section on the Kananaskis and Canmore. \nLori’s book celebrates self-propelled exploring in all its glory. Step out on the walks to connect to neighbours and the city\, to discover big nature\, views and wildflife; to go for coffee with friends or grab a bite and a beer; to see new neighbourhoods\, public art\, little libraries\, shops and to feel a part of this place. Walk to start noticing the details\, to dishabituate\, and shake up your routine and to see the behind the scenes Calgary that eludes us when driving on Glenmore\, Deerfoot and Crowchild. Slow the pace and soak up the diversity and beauty in Calgary. Become a tourist in your own city- let’s walk! \nWhat’s New in the 3rd Edition? \n-50+ new walk routes with full-colour maps \n-50+ Tasty Pit Stops for that pre or post walk stop \n-Beyond Calgary walks in Cochrane\, the Leighton Art Centre\, Brown Lowery Park\, Kananaskis and Canmore along with tasty pit stop suggestions \n-110 km Tour de Calgary walk broken into bite size segments \n-Birding walks through wetlands \n-More urban wilds treks through ravines and environmental reserves \n-More off-leash areas featured for pups and their people \n-Even more tasty pit stop suggestions – cafés\, picnic supply shops\, ice cream and craft beer \n-New photos and artwork throughout \n-New content on topics ranging from Indigenous history\, geology\, archaeology\, botanical gardens\, wetlands\, and why walking makes us happy!
URL:https://www.fitfrog.ca/event/book-signing-at-mec-may/
LOCATION:MEC CALGARY\, 830 10 Ave SW\, Calgary\, AB T2R 0A9
CATEGORIES:Book event
ATTACH;FMTTYPE=image/png:https://www.fitfrog.ca/wp-content/uploads/2024/12/Calgarys-Best-Bike-and-Walk-2025-guidebook-covers-.png
END:VEVENT
BEGIN:VEVENT
DTSTART;TZID=America/Edmonton:20250531T140000
DTEND;TZID=America/Edmonton:20250531T153000
DTSTAMP:20260423T024115
CREATED:20250314T200611Z
LAST-MODIFIED:20250502T031110Z
UID:8262-1748700000-1748705400@www.fitfrog.ca
SUMMARY:SKILL BUILDERS: CALGARY’S BEST WALKS WITH LORI BEATTIE & CBC
DESCRIPTION:Meet Lori!\nBring your walking buddy and join us with local author and walking expert Lori Beattie\, in conversation with CBC’s Loren McGinnis. Learn about Calgary’s best walking paths and trails\, as well as the social and physical benefits of walking. Meet other enthusiasts\, enjoy refreshments and live music\, and make walking a regular part of your routine. Register for this event here! \nWhen and where:\nMay 31 at 2-3:30 pm at the Calgary Central Library\, Patricia Wheelan Performance Hall. REGISTER ON EVENTBRITE HERE \nMore about the book:\nBestselling Alberta author Lori Beattie is back with much expanded 3rd edition of her hugely successful compendium of Calgary’s Best Walks. Taking walkers beyond Calgary\, this edition has 95 walks and tasty pit stops including 50 NEW WALKS that lead walkers throughout Calgary’s parks and neighbourhoods\, west to Cochrane\, and south to Leighton Art Centre and Brown Lowery Provincial Park\, with a section on the Kananaskis and Canmore. \nBring your kids\, your dog and your sense of adventure. Detailed maps lead you through neighbourhoods and pocket parks\, through off leash areas to hidden staircases\, along paved river pathways and onto people-populated walking streets. Navigate side streets\, enjoying homes\, gardens and new perspectives. Make friends with the chickadees on birding strolls throughout the city. Embark on a mural treasure hunt in Sunnyside or the Beltline. Calgary’s Best Walks has something for everyone\, including Lori’s favourite coffee shop suggestions for a postwalk treat. Explore Calgary and beyond on these 95 walks\, hikes and strolls. \nWhat’s New in the 3rd Edition? \n-50+ new walk routes with full-colour maps \n-50+ Tasty Pit Stops for that pre or post walk stop \n-Beyond Calgary walks in Cochrane\, the Leighton Art Centre\, Brown Lowery Park\, Kananaskis and Canmore along with tasty pit stop suggestions \n-110 km Tour de Calgary walk broken into bite size segments \n-Birding walks through wetlands \n-More urban wilds treks through ravines and environmental reserves \n-More off-leash areas featured for pups and their people \n-Even more tasty pit stop suggestions – cafés\, picnic supply shops\, ice cream and craft beer \n-New photos and artwork throughout \n-New content on topics ranging from Indigenous history\, geology\, archaeology\, botanical gardens\, wetlands\, and why walking makes us happy!
URL:https://www.fitfrog.ca/event/skill-builders-calgarys-best-walks-with-lori-beattie-cbc/
LOCATION:Calgary Central Library\, 800 3 St SE\, Calgary\, AB T2G 2E7
CATEGORIES:Book event
ATTACH;FMTTYPE=image/png:https://www.fitfrog.ca/wp-content/uploads/2025/03/Library-Skillbuilders-poster-May-31-2025.png
END:VEVENT
END:VCALENDAR