BEGIN:VCALENDAR
VERSION:2.0
PRODID:-//Fit Frog Adventures - ECPv6.15.20//NONSGML v1.0//EN
CALSCALE:GREGORIAN
METHOD:PUBLISH
X-WR-CALNAME:Fit Frog Adventures
X-ORIGINAL-URL:https://www.fitfrog.ca
X-WR-CALDESC:Events for Fit Frog Adventures
REFRESH-INTERVAL;VALUE=DURATION:PT1H
X-Robots-Tag:noindex
X-PUBLISHED-TTL:PT1H
BEGIN:VTIMEZONE
TZID:America/Edmonton
BEGIN:DAYLIGHT
TZOFFSETFROM:-0700
TZOFFSETTO:-0600
TZNAME:MDT
DTSTART:20210314T090000
END:DAYLIGHT
BEGIN:STANDARD
TZOFFSETFROM:-0600
TZOFFSETTO:-0700
TZNAME:MST
DTSTART:20211107T080000
END:STANDARD
BEGIN:DAYLIGHT
TZOFFSETFROM:-0700
TZOFFSETTO:-0600
TZNAME:MDT
DTSTART:20220313T090000
END:DAYLIGHT
BEGIN:STANDARD
TZOFFSETFROM:-0600
TZOFFSETTO:-0700
TZNAME:MST
DTSTART:20221106T080000
END:STANDARD
BEGIN:DAYLIGHT
TZOFFSETFROM:-0700
TZOFFSETTO:-0600
TZNAME:MDT
DTSTART:20230312T090000
END:DAYLIGHT
BEGIN:STANDARD
TZOFFSETFROM:-0600
TZOFFSETTO:-0700
TZNAME:MST
DTSTART:20231105T080000
END:STANDARD
END:VTIMEZONE
BEGIN:VEVENT
DTSTART;TZID=America/Edmonton:20221115T190000
DTEND;TZID=America/Edmonton:20221115T210000
DTSTAMP:20260419T133204
CREATED:20220519T172952Z
LAST-MODIFIED:20221003T135722Z
UID:4030-1668538800-1668546000@www.fitfrog.ca
SUMMARY:Fireside chat in Marda Loop: Explore Calgary on foot and by bike!
DESCRIPTION:Fireside Chat: Calgary’s Best Walks and Bike Rides!\nJoin Lori for this slide-show presentation that leads you throughout Calgary on foot and by bike and features rides and walks from Lori’s books! Lori Beattie the author of the best-selling books\, Calgary’s Best Walks and Calgary’s Best Bike Rides\, is a segment host on CTV Morning Live and she writes about walking\, biking\, hiking\, and connecting cities on foot and by bike in various publications. Lori is also the owner and guide at Fit Frog Adventures. She has been organizing and leading year-round Calgary walks\, mountain hikes\, and snowshoe days since 1997.  She presents to groups on the pleasure of self-propelled urban exploration\, being a tourist in your own city\, building communities through walking\, and making Calgary feel like home\, one step\, or pedal\, at a time. \n\nBooks will be for sale at the event.\n\n\n\n  \n\nTickets will be available in October from the Marda Loop Community Association (MLCA). Space is limited\, so please get your tickets in advance.\n\n\n\n\n\n\n  \nLocation:\nMarda Loop Community Association\, 3130\, 16 Street\, SW\, Calgary \n  \nMore about Lori’s NEW book released in May 2022:\nBest-selling author Lori Beattie is back and this time she is connecting the city by bike. Pedal along the Bow River Pathway past the Peace Bridge before connecting to the East Village RiverWalk and St. Patrick’s Island. Disconnect and recharge on a ride around the Glenmore Reservoir. Enjoy big sky views from Royal Oak\, Panorama Hills\, Glenbow Ranch Provincial Park\, the Dover escarpment\, Scotsman’s Hill\, and Fish Creek Provincial Park. Detailed maps lead you from river pathways into neighbourhoods\, through parks\, and past Farmer’s Markets and local shops where you can fill your pannier with fresh produce\, spices\, and ingredients from around the globe. Calgary’s Best Bike Rides has something for everyone\, including Lori’s suggestions on where to find the best locally made ice cream\, craft beer\, and bagels. Connect\, discover and explore Calgary by bike on these 50 curated cycle tours and pathway pedals. \n● Detailed full colour maps for every ride\n● Fantastic photos featuring Calgary’s iconic\, quirky and awe-inspiring sights\n● Detours\, destinations and suggested pit stops featured for every ride\n● Afternoon ice cream pedals to full day tour de Calgary rides\n● LRT start options so you can leave your car at home\n● Sidebars featuring tasty pit stops\, mountain biking in Calgary\, geology\, First Nations history\, botanical gardens\, winter biking\, wetlands\, and why biking makes us happy
URL:https://www.fitfrog.ca/event/fireside-chat-in-marda-loop-explore-calgary-on-foot-and-by-bike/
LOCATION:Marda Loop Community Association\, 3130 16 St SW\, Calgary\, AB T2T 4G7
CATEGORIES:Book event
ATTACH;FMTTYPE=image/png:https://www.fitfrog.ca/wp-content/uploads/2022/05/Tues-November-15-1.png
END:VEVENT
BEGIN:VEVENT
DTSTART;TZID=America/Edmonton:20221105T100000
DTEND;TZID=America/Edmonton:20221105T120000
DTSTAMP:20260419T133204
CREATED:20220831T102337Z
LAST-MODIFIED:20220915T220837Z
UID:5024-1667642400-1667649600@www.fitfrog.ca
SUMMARY:LIBRARY WALK from Louise Riley Library
DESCRIPTION:Walk with Lori!\nJoin author Lori Beattie for a guided walk from her book\, Calgary’s Best Walks! Calgary’s Best-selling author is back\, and this time she is taking it on the road. Come talk to Lori Beattie about her book Calgary’s Best Walks and then join her on a walkabout from the library. Bring your walking shoes and come explore the beauty of Calgary by foot. \nCalgary’s Best Walks and Calgary’s Best Bike Rides will be for sale at the event. \nPlease register with the library or just show up! (Should be online to register in September) \nLocation:\nLouise Riley Library\, register here: Calgary Library Programs  \nDistance and Difficulty:\n6-7 km with hills following sidewalks\, pathways and dirt paths \nCost:\nFREE!
URL:https://www.fitfrog.ca/event/book-walk-from-louise-riley-library/
LOCATION:Louise Riley Library\, 1904 14 Ave NW\, Calgary\, AB T2N 1M5
CATEGORIES:Book event
ATTACH;FMTTYPE=image/png:https://www.fitfrog.ca/wp-content/uploads/2022/09/Library-Walks-general-Promo.png
END:VEVENT
BEGIN:VEVENT
DTSTART;TZID=America/Edmonton:20221001T120000
DTEND;TZID=America/Edmonton:20221001T140000
DTSTAMP:20260419T133204
CREATED:20220823T111738Z
LAST-MODIFIED:20220920T195918Z
UID:4994-1664625600-1664632800@www.fitfrog.ca
SUMMARY:LIBRARY WALK from Giuffre Library
DESCRIPTION:Walk with Lori!\nJoin author Lori Beattie for a FREE guided walk from her book\, Calgary’s Best Walks! Calgary’s Best-selling author is back\, and this time she is taking it on the road. Come talk to Lori Beattie about her book Calgary’s Best Walks and then join her on a walkabout from the library. Bring your walking shoes and come explore the beauty of Calgary by foot. \nCalgary’s Best Walks and Calgary’s Best Bike Rides will be for sale at the event. \nPlease register with the library or just show up!  \nLocation:\nGiuffre Library\, register here: Calgary Library Programs  \nDistance and Difficulty:\n6-7 km with hills following sidewalks\, pathways and dirt paths \nCost:\nFREE!
URL:https://www.fitfrog.ca/event/book-walk-from-giuffre-library/
LOCATION:Giuffre Library\, 3223 14 St SW\, Calgary\, AB T2T 3V8
CATEGORIES:Book event
ATTACH;FMTTYPE=image/png:https://www.fitfrog.ca/wp-content/uploads/2022/09/Library-Walks-general-Promo.png
END:VEVENT
BEGIN:VEVENT
DTSTART;TZID=America/Edmonton:20220803T180000
DTEND;TZID=America/Edmonton:20220803T190000
DTSTAMP:20260419T133204
CREATED:20220527T212121Z
LAST-MODIFIED:20220527T212312Z
UID:4129-1659549600-1659553200@www.fitfrog.ca
SUMMARY:Book Presentation at Memorial Park Library
DESCRIPTION:Meet Lori!\nJoin author Lori Beattie for a visual presentation featuring her NEW book\, Calgary’s Best Bike Rides! Books will be for sale at the event. \nSpace is limited\, please register here with the library. \nLocation:\nMemorial Park Library\, Calgary\, register here: Calgary Library Programs \nMore about the book:\nBest-selling author Lori Beattie is back and this time she is connecting the city by bike. Pedal along the Bow River Pathway past the Peace Bridge before connecting to the East Village RiverWalk and St. Patrick’s Island. Disconnect and recharge on a ride around the Glenmore Reservoir. Enjoy big sky views from Royal Oak\, Panorama Hills\, Glenbow Ranch Provincial Park\, the Dover escarpment\, Scotsman’s Hill\, and Fish Creek Provincial Park. Detailed maps lead you from river pathways into neighbourhoods\, through parks\, and past Farmers Markets and local shops where you can fill your pannier with fresh produce\, spices and ingredients from around the globe. Calgary’s Best Bike Rides has something for everyone\, including Lori’s suggestions on where to find the best locally made ice cream\, craft beer and bagels. Connect\, discover and explore Calgary by bike on these 50 curated cycle tours and pathway pedals. \n● Detailed full colour maps for every ride\n● Fantastic photos featuring Calgary’s iconic\, quirky and awe-inspiring sights\n● Detours\, destinations and suggested pit stops featured for every ride\n● Afternoon ice cream pedals to full day tour de Calgary rides\n● LRT start options so you can leave your car at home\n● Sidebars featuring tasty pit stops\, mountain biking in Calgary\, geology\, First Nations history\, botanical gardens\, winter biking\, wetlands\, and why biking makes us happy
URL:https://www.fitfrog.ca/event/book-presentation-at-memorial-park-library/
LOCATION:Memorial Park Library\, 1221 2 St SW\, Calgary\, AB T2R 1N8
CATEGORIES:Book event
ATTACH;FMTTYPE=image/jpeg:https://www.fitfrog.ca/wp-content/uploads/2022/04/Library-Poster-all-bike-book-events.jpg
END:VEVENT
BEGIN:VEVENT
DTSTART;TZID=America/Edmonton:20220702T100000
DTEND;TZID=America/Edmonton:20220702T140000
DTSTAMP:20260419T133204
CREATED:20220522T211116Z
LAST-MODIFIED:20220523T222804Z
UID:4086-1656756000-1656770400@www.fitfrog.ca
SUMMARY:Farmers & Makers Market at CSpace: book signing and meet Lori!
DESCRIPTION:Meet Lori!\nSwing by the Farmers & Makers Market at CSpace in Marda Loop to meet Lori and get your signed copy* of both of her books\, Calgary’s Best Walks and her brand new book\, Calgary’s Best Bike Rides! Buy a set of Lori’s books and save 10%!  \nCalgary’s Best Walks guidebook: 45 urban jaunts and nature strolls \nCalgary’s Best Bike Rides Guidebook: 50 urban cycle tours and pathway pedals \nSO many fantastic vendors at the market that you’ll want to plan the time to check it all out! \n*Cash\, debit\, and credit accepted! \nLocation:\nThe market is located at cSPACE King Edward arts & creative hub (1721 29 Avenue SW)\, at the convergence of 5 inner-city Calgary communities: South Calgary/Marda Loop\, Bankview\, Altadore\, Richmond\, and Upper Mount Royal\, just a 3-minute walk from major bus routes that connect city-wide. \nMore about Lori’s NEW bike book:\nBest-selling author Lori Beattie is back and this time she is connecting the city by bike. Pedal along the Bow River Pathway past the Peace Bridge before connecting to the East Village RiverWalk and St. Patrick’s Island. Disconnect and recharge on a ride around the Glenmore Reservoir. Enjoy big sky views from Royal Oak\, Panorama Hills\, Glenbow Ranch Provincial Park\, the Dover escarpment\, Scotsman’s Hill\, and Fish Creek Provincial Park. Detailed maps lead you from river pathways into neighbourhoods\, through parks\, and past Farmers’ Markets and local shops where you can fill your pannier with fresh produce\, spices and ingredients from around the globe. Calgary’s Best Bike Rides has something for everyone\, including Lori’s suggestions on where to find the best locally made ice cream\, craft beer and bagels. Connect\, discover and explore Calgary by bike on these 50 curated cycle tours and pathway pedals. \n● Detailed full colour maps for every ride\n● Fantastic photos featuring Calgary’s iconic\, quirky and awe-inspiring sights\n● Detours\, destinations and suggested pit stops featured for every ride\n● Afternoon ice cream pedals to full day tour de Calgary rides\n● LRT start options so you can leave your car at home\n● Sidebars featuring tasty pit stops\, mountain biking in Calgary\, geology\, First Nations history\, botanical gardens\, winter biking\, wetlands\, and why biking makes us happy \nRead more about Lori’s book Calgary’s Best Walks here!
URL:https://www.fitfrog.ca/event/cspace-farmers-makers-market-book-signing-and-meet-lori/
LOCATION:CSpace\, 1721 29 Ave SW\, Calgary\, AB T2T 6T7
CATEGORIES:Book event
ATTACH;FMTTYPE=image/png:https://www.fitfrog.ca/wp-content/uploads/2022/05/Book-signing.png
END:VEVENT
BEGIN:VEVENT
DTSTART;TZID=America/Edmonton:20220628T180000
DTEND;TZID=America/Edmonton:20220628T190000
DTSTAMP:20260419T133204
CREATED:20220424T125115Z
LAST-MODIFIED:20220527T210805Z
UID:3779-1656439200-1656442800@www.fitfrog.ca
SUMMARY:Book Presentation at Nose Hill Library
DESCRIPTION:Meet Lori!\nJoin author Lori Beattie for a visual presentation featuring her NEW book\, Calgary’s Best Bike Rides! Books will be for sale at the event. \nSpace is limited\, please register here with the library. \nLocation:\nNose Hill Library\, Calgary\, register here: Calgary Library Programs \nMore about the book:\nBest-selling author Lori Beattie is back and this time she is connecting the city by bike. Pedal along the Bow River Pathway past the Peace Bridge before connecting to the East Village RiverWalk and St. Patrick’s Island. Disconnect and recharge on a ride around the Glenmore Reservoir. Enjoy big sky views from Royal Oak\, Panorama Hills\, Glenbow Ranch Provincial Park\, the Dover escarpment\, Scotsman’s Hill\, and Fish Creek Provincial Park. Detailed maps lead you from river pathways into neighbourhoods\, through parks\, and past Farmers Markets and local shops where you can fill your pannier with fresh produce\, spices and ingredients from around the globe. Calgary’s Best Bike Rides has something for everyone\, including Lori’s suggestions on where to find the best locally made ice cream\, craft beer and bagels. Connect\, discover and explore Calgary by bike on these 50 curated cycle tours and pathway pedals. \n● Detailed full colour maps for every ride\n● Fantastic photos featuring Calgary’s iconic\, quirky and awe-inspiring sights\n● Detours\, destinations and suggested pit stops featured for every ride\n● Afternoon ice cream pedals to full day tour de Calgary rides\n● LRT start options so you can leave your car at home\n● Sidebars featuring tasty pit stops\, mountain biking in Calgary\, geology\, First Nations history\, botanical gardens\, winter biking\, wetlands\, and why biking makes us happy
URL:https://www.fitfrog.ca/event/book-presentation-at-nose-hill-library/
LOCATION:Nose Hill Library\, 1530 Northmount Dr NW\, Calgary\, AB T2L 0G6
CATEGORIES:Book event
ATTACH;FMTTYPE=image/jpeg:https://www.fitfrog.ca/wp-content/uploads/2022/04/Library-Poster-all-bike-book-events.jpg
END:VEVENT
BEGIN:VEVENT
DTSTART;TZID=America/Edmonton:20220614T190000
DTEND;TZID=America/Edmonton:20220614T203000
DTSTAMP:20260419T133204
CREATED:20220420T135446Z
LAST-MODIFIED:20220420T140647Z
UID:3750-1655233200-1655238600@www.fitfrog.ca
SUMMARY:Book Presentation at Shelf Life Books
DESCRIPTION:Meet Lori!\nJoin Lori at Shelf Life Books where she will give a visual presentation featuring her NEW book\, Calgary’s Best Bike Rides!  \nSpace is limited and registration is required at www.shelflifebooks.ca or go to the Shelf Life Books Eventbrite page. \nLocation:\nShelf Life Books\, 1302\, 4 Street\, SW\, Calgary \nMore about the book:\nBest-selling author Lori Beattie is back and this time she is connecting the city by bike. Pedal along the Bow River Pathway past the Peace Bridge before connecting to the East Village RiverWalk and St. Patrick’s Island. Disconnect and recharge on a ride around the Glenmore Reservoir. Enjoy big sky views from Royal Oak\, Panorama Hills\, Glenbow Ranch Provincial Park\, the Dover escarpment\, Scotsman’s Hill\, and Fish Creek Provincial Park. Detailed maps lead you from river pathways into neighbourhoods\, through parks\, and past Farmers Markets and local shops where you can fill your pannier with fresh produce\, spices and ingredients from around the globe. Calgary’s Best Bike Rides has something for everyone\, including Lori’s suggestions on where to find the best locally made ice cream\, craft beer and bagels. Connect\, discover and explore Calgary by bike on these 50 curated cycle tours and pathway pedals. \n● Detailed full colour maps for every ride\n● Fantastic photos featuring Calgary’s iconic\, quirky and awe-inspiring sights\n● Detours\, destinations and suggested pit stops featured for every ride\n● Afternoon ice cream pedals to full day tour de Calgary rides\n● LRT start options so you can leave your car at home\n● Sidebars featuring tasty pit stops\, mountain biking in Calgary\, geology\, First Nations history\, botanical gardens\, winter biking\, wetlands\, and why biking makes us happy
URL:https://www.fitfrog.ca/event/book-presentation-at-shelf-life-books/
LOCATION:Shelf Life Books\, 1302 4 St SW\, Calgary\, AB T2R 0X8
CATEGORIES:Book event
ATTACH;FMTTYPE=image/png:https://www.fitfrog.ca/wp-content/uploads/2022/03/Calgarys-Best-Bike-Rides-guidebook.png
END:VEVENT
BEGIN:VEVENT
DTSTART;TZID=America/Edmonton:20220611T130000
DTEND;TZID=America/Edmonton:20220611T150000
DTSTAMP:20260419T133204
CREATED:20220216T211441Z
LAST-MODIFIED:20220326T153735Z
UID:3150-1654952400-1654959600@www.fitfrog.ca
SUMMARY:Book Signing at Owl's Nest Books
DESCRIPTION:Meet Lori!\nSwing by Owl’s Nest Books to meet Lori and pick up a copy of her brand new book\, Calgary’s Best Bike Rides! \nLocation:\nOwl’s Nest Books\, Britannia Plaza\, SW \nMore about the book:\nBest-selling author Lori Beattie is back and this time she is connecting the city by bike. Pedal along the Bow River Pathway past the Peace Bridge before connecting to the East Village RiverWalk and St. Patrick’s Island. Disconnect and recharge on a ride around the Glenmore Reservoir. Enjoy big sky views from Royal Oak\, Panorama Hills\, Glenbow Ranch Provincial Park\, the Dover escarpment\, Scotsman’s Hill\, and Fish Creek Provincial Park. Detailed maps lead you from river pathways into neighbourhoods\, through parks\, and past Farmers Markets and local shops where you can fill your pannier with fresh produce\, spices\, and ingredients from around the globe. Calgary’s Best Bike Rides has something for everyone\, including Lori’s suggestions on where to find the best locally made ice cream\, craft beer\, and bagels. Connect\, discover and explore Calgary by bike on these 50 curated cycle tours and pathway pedals. \n● Detailed full colour maps for every ride\n● Fantastic photos featuring Calgary’s iconic\, quirky and awe-inspiring sights\n● Detours\, destinations and suggested pit stops featured for every ride\n● Afternoon ice cream pedals to full day tour de Calgary rides\n● LRT start options so you can leave your car at home\n● Sidebars featuring tasty pit stops\, mountain biking in Calgary\, geology\, First Nations history\, botanical gardens\, winter biking\, wetlands\, and why biking makes us happy
URL:https://www.fitfrog.ca/event/book-signing-at-owls-nest-books/
LOCATION:Owl’s Nest Books\, 815a 49 Ave SW\, Calgary\, AB T2S 1G8
CATEGORIES:Book event
ATTACH;FMTTYPE=image/png:https://www.fitfrog.ca/wp-content/uploads/2022/03/Calgarys-Best-Bike-Rides-guidebook.png
END:VEVENT
BEGIN:VEVENT
DTSTART;TZID=America/Edmonton:20220605T133000
DTEND;TZID=America/Edmonton:20220605T153000
DTSTAMP:20260419T133204
CREATED:20220307T234835Z
LAST-MODIFIED:20220601T193922Z
UID:3374-1654435800-1654443000@www.fitfrog.ca
SUMMARY:Book Launch Party and Bike Expo
DESCRIPTION:It’s a bike party!\nMeet author Lori Beattie and get a signed copy of her new book\, Calgary’s Best Bike Rides at this celebration of biking in Calgary! \nRegister directly with the Calgary Central Library here*!  \n*If you are not from Calgary and therefore cannot register since you do not have a library card\, just show up\, everyone is welcome! \nLori will lead you on a visual tour of Calgary’s Best Bike Rides in her book launch presentation that kick starts her Calgary’s Best Bike Rides series that runs all summer in partnership with the Calgary Public Library. Come on down to the library and chat with bike experts from bike shops and bike organizations and stick around for the bike panel discussion on a range of topics from Ebikes to bike packing. From avid cyclists to newcomers\, everyone is welcome to join our celebration of biking in Calgary. And there will be fantastic bike-themed door prizes given out throughout the event! \nLocation:\nCalgary Central Library\, Level 1 in the Patricia A. Whelan Performance Hall (near the entrance). \nMore details and who will be there:\nPlease mark Sunday\, June 5 at 1:30-3:30 pm in your calendar and plan to join Lori and many other bike organizations at the bike expo. \n1:30-1:40: Door prize tickets are given out as you arrive. There will be many prizes given out throughout the event. \n1:40 pm: Murray Lee introduces Lori and she presents Calgary’s Best Bike Rides. \n2:20 pm: Bike experts from the resources fair join the stage to talk about all things biking. Muray Lee leads the discussion and audience members can also ask questions. \n2:50 pm: Explore the resources fair as the formal part of the event ends. \nHere are a few of the organizations that will be in attendance: \n\nBow Cycle \nMJM EBikes\nTwo Wheel View\nYouth En Route\nCalgary Mountain Bike Alliance\nBike Calgary\nRoam Cycle\n\nMore about the book:\nBest-selling author of Calgary’s Best Walks\, Lori Beattie is back and this time she is connecting the city by bike. Pedal along the Bow River Pathway past the Peace Bridge before connecting to the East Village RiverWalk and St. Patrick’s Island. Disconnect and recharge on a ride around the Glenmore Reservoir. Enjoy big sky views from Royal Oak\, Panorama Hills\, Glenbow Ranch Provincial Park\, the Dover escarpment\, Scotsman’s Hill\, and Fish Creek Provincial Park. Detailed maps lead you from river pathways into neighbourhoods\, through parks\, and past Farmers Markets and local shops where you can fill your pannier with fresh produce\, spices\, and ingredients from around the globe. Calgary’s Best Bike Rides has something for everyone\, including Lori’s suggestions on where to find the best locally made ice cream\, craft beer\, and bagels. Connect\, discover and explore Calgary by bike on these 50 curated cycle tours and pathway pedals. \n● Detailed full colour maps for every ride\n● Fantastic photos featuring Calgary’s iconic\, quirky and awe-inspiring sights\n● Detours\, destinations\, and suggested pit stops are featured for every ride\n● Afternoon ice cream pedals to full-day tour de Calgary rides\n● LRT start options so you can leave your car at home\n● Sidebars featuring tasty pit stops\, mountain biking in Calgary\, geology\, First Nations history\, botanical gardens\, winter biking\, wetlands\, and why biking makes us happy!
URL:https://www.fitfrog.ca/event/book-launch-party-and-bike-expo/
LOCATION:Calgary Central Library\, 800 3 St SE\, Calgary\, AB T2G 2E7
CATEGORIES:Book event
ATTACH;FMTTYPE=image/png:https://www.fitfrog.ca/wp-content/uploads/2022/03/Screen-Shot-2022-05-24-at-9.09.11-PM.png
END:VEVENT
BEGIN:VEVENT
DTSTART;TZID=America/Edmonton:20220528T130000
DTEND;TZID=America/Edmonton:20220528T150000
DTSTAMP:20260419T133204
CREATED:20220216T161157Z
LAST-MODIFIED:20220420T135408Z
UID:3144-1653742800-1653750000@www.fitfrog.ca
SUMMARY:Book Signing at Shelf Life Books
DESCRIPTION:Meet Lori!\nSwing by Shelf Life Books to meet Lori and pick up a copy of her brand new book\, Calgary’s Best Bike Rides! \nLocation:\nShelf Life Books\, 1302\, 4 Street\, SW\, Calgary \nMore about the book:\nBest-selling author Lori Beattie is back and this time she is connecting the city by bike. Pedal along the Bow River Pathway past the Peace Bridge before connecting to the East Village RiverWalk and St. Patrick’s Island. Disconnect and recharge on a ride around the Glenmore Reservoir. Enjoy big sky views from Royal Oak\, Panorama Hills\, Glenbow Ranch Provincial Park\, the Dover escarpment\, Scotsman’s Hill\, and Fish Creek Provincial Park. Detailed maps lead you from river pathways into neighbourhoods\, through parks\, and past Farmers Markets and local shops where you can fill your pannier with fresh produce\, spices and ingredients from around the globe. Calgary’s Best Bike Rides has something for everyone\, including Lori’s suggestions on where to find the best locally made ice cream\, craft beer and bagels. Connect\, discover and explore Calgary by bike on these 50 curated cycle tours and pathway pedals. \n● Detailed full colour maps for every ride\n● Fantastic photos featuring Calgary’s iconic\, quirky and awe-inspiring sights\n● Detours\, destinations and suggested pit stops featured for every ride\n● Afternoon ice cream pedals to full day tour de Calgary rides\n● LRT start options so you can leave your car at home\n● Sidebars featuring tasty pit stops\, mountain biking in Calgary\, geology\, First Nations history\, botanical gardens\, winter biking\, wetlands\, and why biking makes us happy
URL:https://www.fitfrog.ca/event/book-signing-at-shelf-life-books/
LOCATION:Shelf Life Books\, 1302 4 St SW\, Calgary\, AB T2R 0X8
CATEGORIES:Book event
ATTACH;FMTTYPE=image/png:https://www.fitfrog.ca/wp-content/uploads/2022/03/Calgarys-Best-Bike-Rides-guidebook.png
END:VEVENT
BEGIN:VEVENT
DTSTART;TZID=America/Edmonton:20220514T140000
DTEND;TZID=America/Edmonton:20220514T180000
DTSTAMP:20260419T133204
CREATED:20220513T154210Z
LAST-MODIFIED:20220513T154735Z
UID:3985-1652536800-1652551200@www.fitfrog.ca
SUMMARY:Bike Fest at Capital Hill: Books for sale!
DESCRIPTION:Meet Lori!\nSwing by BIKE FEST at the Capital Hill Community Association at 2-6 pm to meet Lori and pick up a copy of her brand new book\, Calgary’s Best Bike Rides! \nLocation:\nCapital Hill Community Association (More info here ) \nMore about the book:\nBest-selling author Lori Beattie is back and this time she is connecting the city by bike. Pedal along the Bow River Pathway past the Peace Bridge before connecting to the East Village RiverWalk and St. Patrick’s Island. Disconnect and recharge on a ride around the Glenmore Reservoir. Enjoy big sky views from Royal Oak\, Panorama Hills\, Glenbow Ranch Provincial Park\, the Dover escarpment\, Scotsman’s Hill\, and Fish Creek Provincial Park. Detailed maps lead you from river pathways into  https://www.capitolhillcommunity.ca/#/events/\, through parks\, and past Farmers Markets and local shops where you can fill your pannier with fresh produce\, spices\, and ingredients from around the globe. Calgary’s Best Bike Rides has something for everyone\, including Lori’s suggestions on where to find the best locally made ice cream\, craft beer\, and bagels. Connect\, discover and explore Calgary by bike on these 50 curated cycle tours and pathway pedals. \n● Detailed full colour maps for every ride\n● Fantastic photos featuring Calgary’s iconic\, quirky and awe-inspiring sights\n● Detours\, destinations and suggested pit stops featured for every ride\n● Afternoon ice cream pedals to full day tour de Calgary rides\n● LRT start options so you can leave your car at home\n● Sidebars featuring tasty pit stops\, mountain biking in Calgary\, geology\, First Nations history\, botanical gardens\, winter biking\, wetlands\, and why biking makes us happy
URL:https://www.fitfrog.ca/event/bike-fest-at-capital-hill-books-for-sale/
LOCATION:Capital Hill Community Association\, 1531 21 Ave NW\, Calgary\, AB T2M 1L9
CATEGORIES:Book event
ATTACH;FMTTYPE=image/png:https://www.fitfrog.ca/wp-content/uploads/2022/05/Screen-Shot-2022-05-13-at-9.19.08-AM.png
END:VEVENT
END:VCALENDAR