BEGIN:VCALENDAR
VERSION:2.0
PRODID:-//Fit Frog Adventures - ECPv6.15.20//NONSGML v1.0//EN
CALSCALE:GREGORIAN
METHOD:PUBLISH
X-ORIGINAL-URL:https://www.fitfrog.ca
X-WR-CALDESC:Events for Fit Frog Adventures
REFRESH-INTERVAL;VALUE=DURATION:PT1H
X-Robots-Tag:noindex
X-PUBLISHED-TTL:PT1H
BEGIN:VTIMEZONE
TZID:America/Edmonton
BEGIN:DAYLIGHT
TZOFFSETFROM:-0700
TZOFFSETTO:-0600
TZNAME:MDT
DTSTART:20200308T090000
END:DAYLIGHT
BEGIN:STANDARD
TZOFFSETFROM:-0600
TZOFFSETTO:-0700
TZNAME:MST
DTSTART:20201101T080000
END:STANDARD
BEGIN:DAYLIGHT
TZOFFSETFROM:-0700
TZOFFSETTO:-0600
TZNAME:MDT
DTSTART:20210314T090000
END:DAYLIGHT
BEGIN:STANDARD
TZOFFSETFROM:-0600
TZOFFSETTO:-0700
TZNAME:MST
DTSTART:20211107T080000
END:STANDARD
BEGIN:DAYLIGHT
TZOFFSETFROM:-0700
TZOFFSETTO:-0600
TZNAME:MDT
DTSTART:20220313T090000
END:DAYLIGHT
BEGIN:STANDARD
TZOFFSETFROM:-0600
TZOFFSETTO:-0700
TZNAME:MST
DTSTART:20221106T080000
END:STANDARD
END:VTIMEZONE
BEGIN:VEVENT
DTSTART;TZID=America/Edmonton:20210420T090000
DTEND;TZID=America/Edmonton:20210420T103000
DTSTAMP:20260425T141059
CREATED:20210321T135643Z
LAST-MODIFIED:20210403T202347Z
UID:571-1618909200-1618914600@www.fitfrog.ca
SUMMARY:Bowmont Park EAST End\, NW
DESCRIPTION:Description:\nA flat start on paved paths follows the Bow River. The wildflower-covered terrain becomes earthy and hilly as you climb to fantastic views of the Rockies and river valley. This hike is part of the Spring session of hikes with Club Fit Frog. \nMeet Place:\nWe meet at the official parking lot for Bowmont Natural Environment Park\, NW Calgary. The east end parking lot is on 52 St.\, NW\, just off Home Road\, NW. Turn south onto 52 St.\, (one-way down-hill) and the first left is the Bowmont parking area. \nPost-Walk Coffee Stop (Optional):\nLazy Loaf and Kettle or Cadence Coffee
URL:https://www.fitfrog.ca/event/bowmont-park-east-end-nw/
LOCATION:Bowmont EAST End\, NW\, 3RJM+5P Calgary\, Alberta
CATEGORIES:Calgary City Walk & Cafe
ATTACH;FMTTYPE=image/jpeg:https://www.fitfrog.ca/wp-content/uploads/2021/03/Bowmont-Park-east-image-1.jpg
END:VEVENT
BEGIN:VEVENT
DTSTART;TZID=America/Edmonton:20210427T090000
DTEND;TZID=America/Edmonton:20210427T103000
DTSTAMP:20260425T141059
CREATED:20210321T140541Z
LAST-MODIFIED:20210321T140926Z
UID:580-1619514000-1619519400@www.fitfrog.ca
SUMMARY:Riley Park & Sunnyside\, NW
DESCRIPTION:Description:\nWe’ll zigzag our way from parkland to ridge-top\, past the stunning abodes of Crescent Heights\, and overlooking the cozy community of Sunnyside. Views of the Rockies\, Calgary’s downtown core\, and the Bow River are the treats on this outing. This walk is part of the Club Fit Frog Spring session. \nMeet Place:\nMeet at the official parking lot for Riley Park on 8 Avenue\, just east of 12 Street\, NW. It is at the end of 8 Ave and has free 3-hour parking. \nPost-Walk Coffee Stop (Optional):\nVendome Café
URL:https://www.fitfrog.ca/event/riley-park-sunnyside-nw/
LOCATION:Riley Park official parking lot\, NW\, 30 8 Ave NW\, Calgary\, AB T2N
CATEGORIES:Calgary City Walk & Cafe
ATTACH;FMTTYPE=image/jpeg:https://www.fitfrog.ca/wp-content/uploads/2021/03/Sunnyside-dog-chalkboard-mural-1.jpg
END:VEVENT
END:VCALENDAR