BEGIN:VCALENDAR
VERSION:2.0
PRODID:-//Fit Frog Adventures - ECPv6.15.20//NONSGML v1.0//EN
CALSCALE:GREGORIAN
METHOD:PUBLISH
X-ORIGINAL-URL:https://www.fitfrog.ca
X-WR-CALDESC:Events for Fit Frog Adventures
REFRESH-INTERVAL;VALUE=DURATION:PT1H
X-Robots-Tag:noindex
X-PUBLISHED-TTL:PT1H
BEGIN:VTIMEZONE
TZID:America/Edmonton
BEGIN:DAYLIGHT
TZOFFSETFROM:-0700
TZOFFSETTO:-0600
TZNAME:MDT
DTSTART:20200308T090000
END:DAYLIGHT
BEGIN:STANDARD
TZOFFSETFROM:-0600
TZOFFSETTO:-0700
TZNAME:MST
DTSTART:20201101T080000
END:STANDARD
BEGIN:DAYLIGHT
TZOFFSETFROM:-0700
TZOFFSETTO:-0600
TZNAME:MDT
DTSTART:20210314T090000
END:DAYLIGHT
BEGIN:STANDARD
TZOFFSETFROM:-0600
TZOFFSETTO:-0700
TZNAME:MST
DTSTART:20211107T080000
END:STANDARD
BEGIN:DAYLIGHT
TZOFFSETFROM:-0700
TZOFFSETTO:-0600
TZNAME:MDT
DTSTART:20220313T090000
END:DAYLIGHT
BEGIN:STANDARD
TZOFFSETFROM:-0600
TZOFFSETTO:-0700
TZNAME:MST
DTSTART:20221106T080000
END:STANDARD
END:VTIMEZONE
BEGIN:VEVENT
DTSTART;TZID=America/Edmonton:20210703T090000
DTEND;TZID=America/Edmonton:20210703T103000
DTSTAMP:20260425T085831
CREATED:20210321T133215Z
LAST-MODIFIED:20210510T135035Z
UID:555-1625302800-1625308200@www.fitfrog.ca
SUMMARY:Inglewood & East Village River Walk\, SE
DESCRIPTION:Description:\nExplore Calgary’s eclectic neighbourhood! This relatively flat hike starts with a climb to a spectacular view of the Saddledome and the downtown core. Historic neighbourhoods\, the Bow River\, and some funky window shopping are all part of this walk.\nThis hike is part of the Spring session of hikes with Club Fit Frog. \nMeet Place:\nMeet at the intersection of 8 St and 8 Ave\, SE (Lots of free street parking in this area). Note that the map shows the Deane House as the location. Park anywhere near there and we’ll meet at 8th and 8th.\, SE. \nPost-Walk Coffee Stop (Optional):\nGravity Cafe or Sidewalk Citizen at Simmons
URL:https://www.fitfrog.ca/event/inglewood-east-village-river-walk-se/
LOCATION:Inglewood\, SE\, 800 8 St SE\, Calgary\, Canada
CATEGORIES:Calgary City Walk & Cafe
ATTACH;FMTTYPE=image/jpeg:https://www.fitfrog.ca/wp-content/uploads/2021/03/Little-Free-library-Ramsay-1.jpg
END:VEVENT
BEGIN:VEVENT
DTSTART;TZID=America/Edmonton:20210720T090000
DTEND;TZID=America/Edmonton:20210720T103000
DTSTAMP:20260425T085831
CREATED:20210323T012036Z
LAST-MODIFIED:20210402T133330Z
UID:668-1626771600-1626777000@www.fitfrog.ca
SUMMARY:Altadore\, Glenmore Dam & Elbow River
DESCRIPTION:Description:\nWe’ll walk neighbourhood side streets\, past hidden ally gardens\, to nature trails along the Elbow River below the Glenmore Dam. \nMeet Place:\nMeet at Neighbour Coffee Shop\, 4038 16 St SW. Free parking on many of the streets in the area. \nPost-Walk Coffee Stop (Optional):\nNeighbour Coffee
URL:https://www.fitfrog.ca/event/altadore-glenmore-dam-elbow-river/
LOCATION:Neighbour Coffee\, Altadore\, 2V9X+8V Calgary\, Alberta
CATEGORIES:Calgary City Walk & Cafe
ATTACH;FMTTYPE=image/jpeg:https://www.fitfrog.ca/wp-content/uploads/2021/03/Faerie-garden-Altadore.jpg
END:VEVENT
END:VCALENDAR