BEGIN:VCALENDAR
VERSION:2.0
PRODID:-//Fit Frog Adventures - ECPv6.15.20//NONSGML v1.0//EN
CALSCALE:GREGORIAN
METHOD:PUBLISH
X-ORIGINAL-URL:https://www.fitfrog.ca
X-WR-CALDESC:Events for Fit Frog Adventures
REFRESH-INTERVAL;VALUE=DURATION:PT1H
X-Robots-Tag:noindex
X-PUBLISHED-TTL:PT1H
BEGIN:VTIMEZONE
TZID:America/Edmonton
BEGIN:DAYLIGHT
TZOFFSETFROM:-0700
TZOFFSETTO:-0600
TZNAME:MDT
DTSTART:20200308T090000
END:DAYLIGHT
BEGIN:STANDARD
TZOFFSETFROM:-0600
TZOFFSETTO:-0700
TZNAME:MST
DTSTART:20201101T080000
END:STANDARD
BEGIN:DAYLIGHT
TZOFFSETFROM:-0700
TZOFFSETTO:-0600
TZNAME:MDT
DTSTART:20210314T090000
END:DAYLIGHT
BEGIN:STANDARD
TZOFFSETFROM:-0600
TZOFFSETTO:-0700
TZNAME:MST
DTSTART:20211107T080000
END:STANDARD
BEGIN:DAYLIGHT
TZOFFSETFROM:-0700
TZOFFSETTO:-0600
TZNAME:MDT
DTSTART:20220313T090000
END:DAYLIGHT
BEGIN:STANDARD
TZOFFSETFROM:-0600
TZOFFSETTO:-0700
TZNAME:MST
DTSTART:20221106T080000
END:STANDARD
END:VTIMEZONE
BEGIN:VEVENT
DTSTART;TZID=America/Edmonton:20210829T090000
DTEND;TZID=America/Edmonton:20210829T103000
DTSTAMP:20260425T060314
CREATED:20211017T185914Z
LAST-MODIFIED:20211027T020858Z
UID:2471-1630227600-1630233000@www.fitfrog.ca
SUMMARY:Pearce Estate Park & Inglewood\, SE
DESCRIPTION:Description:\nExplore Calgary’s eclectic neighbourhood! This relatively flat hike starts along the Bow River Pathway and the Harvie passage watercourse. We’ll continue to the Inglewood Bird Sanctuary before looping back through neighbhourhood side-streets and a stop at Good News Café for those who have time for a post-walk coffee! This hike is part of the Fall session of hikes with Club Fit Frog. \nMeet Place:\nMeet  the official parking lot for Pearce Estate Park\, 1440- 17 A St SE \nPost-Walk Coffee Stop (Optional):\nGood News Café
URL:https://www.fitfrog.ca/event/inglewood-east-village-river-walk-se-fall-2/
LOCATION:Pearce Estate Park\, 1440 17a St SE\, Calgary\, AB T2G 4T9
CATEGORIES:Calgary City Walk & Cafe
ATTACH;FMTTYPE=image/jpeg:https://www.fitfrog.ca/wp-content/uploads/2021/05/Little-Free-library-Ramsay-copy.jpg
END:VEVENT
END:VCALENDAR