BEGIN:VCALENDAR
VERSION:2.0
PRODID:-//Fit Frog Adventures - ECPv6.15.20//NONSGML v1.0//EN
CALSCALE:GREGORIAN
METHOD:PUBLISH
X-WR-CALNAME:Fit Frog Adventures
X-ORIGINAL-URL:https://www.fitfrog.ca
X-WR-CALDESC:Events for Fit Frog Adventures
REFRESH-INTERVAL;VALUE=DURATION:PT1H
X-Robots-Tag:noindex
X-PUBLISHED-TTL:PT1H
BEGIN:VTIMEZONE
TZID:America/Edmonton
BEGIN:DAYLIGHT
TZOFFSETFROM:-0700
TZOFFSETTO:-0600
TZNAME:MDT
DTSTART:20200308T090000
END:DAYLIGHT
BEGIN:STANDARD
TZOFFSETFROM:-0600
TZOFFSETTO:-0700
TZNAME:MST
DTSTART:20201101T080000
END:STANDARD
BEGIN:DAYLIGHT
TZOFFSETFROM:-0700
TZOFFSETTO:-0600
TZNAME:MDT
DTSTART:20210314T090000
END:DAYLIGHT
BEGIN:STANDARD
TZOFFSETFROM:-0600
TZOFFSETTO:-0700
TZNAME:MST
DTSTART:20211107T080000
END:STANDARD
BEGIN:DAYLIGHT
TZOFFSETFROM:-0700
TZOFFSETTO:-0600
TZNAME:MDT
DTSTART:20220313T090000
END:DAYLIGHT
BEGIN:STANDARD
TZOFFSETFROM:-0600
TZOFFSETTO:-0700
TZNAME:MST
DTSTART:20221106T080000
END:STANDARD
END:VTIMEZONE
BEGIN:VEVENT
DTSTART;TZID=America/Edmonton:20210907T090000
DTEND;TZID=America/Edmonton:20210907T103000
DTSTAMP:20260425T060146
CREATED:20210720T131824Z
LAST-MODIFIED:20210720T133049Z
UID:1950-1631005200-1631010600@www.fitfrog.ca
SUMMARY:Pearce Estate Park & Inglewood\, SE
DESCRIPTION:Description:\nExplore Calgary’s eclectic neighbourhood! This relatively flat hike starts along the Bow River Pathway and the Harvie passage watercourse. We’ll continue to the Inglewood Bird Sanctuary before looping back through neighbhourhood side-streets and a stop at Good News Café for those who have time for a post-walk coffee! This hike is part of the Fall session of hikes with Club Fit Frog. \nMeet Place:\nMeet  the official parking lot for Pearce Estate Park\, 1440- 17 A St SE \nPost-Walk Coffee Stop (Optional):\nGood News Café
URL:https://www.fitfrog.ca/event/inglewood-east-village-river-walk-se-fall-winter-copy/
LOCATION:Pearce Estate Park\, 1440 17a St SE\, Calgary\, AB T2G 4T9
CATEGORIES:Calgary City Walk & Cafe
ATTACH;FMTTYPE=image/jpeg:https://www.fitfrog.ca/wp-content/uploads/2021/07/Ramsay-garden.jpg
END:VEVENT
BEGIN:VEVENT
DTSTART;TZID=America/Edmonton:20210911T090000
DTEND;TZID=America/Edmonton:20210911T103000
DTSTAMP:20260425T060146
CREATED:20210531T234756Z
LAST-MODIFIED:20210815T194247Z
UID:1622-1631350800-1631356200@www.fitfrog.ca
SUMMARY:Edworthy Park & Douglas Fir Trail\, SW
DESCRIPTION:Description:\nWe’ll climb and descend a mix of stairs and single-track trails through a Douglas Fir Forest to views of the Bow River. \nMeet Place:\nMeet at the official parking for Edworthy Park\, at the intersection of Shaganappi Trail and Memorial Drive. We meet by the bathrooms. Or you can park on the south side of Edworthy and walk across to meet us (or let me know that you are on that side and we will walk over to meet you) \nBathroom:\nBathroom at the trailhead (year-round heated on north side\, port-a-potty on south side) \nPost-Walk Coffee Stop (Optional):\nAngel’s or Lazy Loaf and Kettle Café
URL:https://www.fitfrog.ca/event/edworthy-park-douglas-fir-trail-sw-fall/
LOCATION:Edworthy Park north side\, 4105 Montgomery View NW\, Calgary\, AB T3B 3E8
CATEGORIES:Calgary City Walk & Cafe
ATTACH;FMTTYPE=image/jpeg:https://www.fitfrog.ca/wp-content/uploads/2021/04/Douglas-Fir-Trail.jpg
END:VEVENT
BEGIN:VEVENT
DTSTART;TZID=America/Edmonton:20210919T090000
DTEND;TZID=America/Edmonton:20210919T103000
DTSTAMP:20260425T060146
CREATED:20210611T145129Z
LAST-MODIFIED:20210726T130447Z
UID:1708-1632042000-1632047400@www.fitfrog.ca
SUMMARY:Roxboro\, SW & Ramsay\, SE
DESCRIPTION:Description:\nHidden pathways\, stairs and hills\, river trails\, interesting architecture\, and some tasty post-hike treats to warm us up! \nMeet Place:\nMeet at the corner of Roxboro Rd. and Roxboro Glen Rd. Access Roxboro Rd. off 4th St just south of 26 Ave. over the Mission Bridge. \nBathroom:\nNone at the walk start. \nPost-Walk Coffee Stop (Optional):\nPhil & Sebastian on 4th Street\, pastries at Yann’s Haute Patisserie or a café en route
URL:https://www.fitfrog.ca/event/roxboro-sw-ramsay-se-fall/
LOCATION:Roxboro Park\, 3041 Roxboro Glen Rd SW\, Calgary\, AB T2S 1T9\, Canada
CATEGORIES:Calgary City Walk & Cafe
ATTACH;FMTTYPE=image/jpeg:https://www.fitfrog.ca/wp-content/uploads/2021/06/Ramsay-Scotsmans-Hill-view-fall.jpg
END:VEVENT
END:VCALENDAR