BEGIN:VCALENDAR
VERSION:2.0
PRODID:-//Fit Frog Adventures - ECPv6.15.20//NONSGML v1.0//EN
CALSCALE:GREGORIAN
METHOD:PUBLISH
X-WR-CALNAME:Fit Frog Adventures
X-ORIGINAL-URL:https://www.fitfrog.ca
X-WR-CALDESC:Events for Fit Frog Adventures
REFRESH-INTERVAL;VALUE=DURATION:PT1H
X-Robots-Tag:noindex
X-PUBLISHED-TTL:PT1H
BEGIN:VTIMEZONE
TZID:America/Edmonton
BEGIN:DAYLIGHT
TZOFFSETFROM:-0700
TZOFFSETTO:-0600
TZNAME:MDT
DTSTART:20210314T090000
END:DAYLIGHT
BEGIN:STANDARD
TZOFFSETFROM:-0600
TZOFFSETTO:-0700
TZNAME:MST
DTSTART:20211107T080000
END:STANDARD
BEGIN:DAYLIGHT
TZOFFSETFROM:-0700
TZOFFSETTO:-0600
TZNAME:MDT
DTSTART:20220313T090000
END:DAYLIGHT
BEGIN:STANDARD
TZOFFSETFROM:-0600
TZOFFSETTO:-0700
TZNAME:MST
DTSTART:20221106T080000
END:STANDARD
BEGIN:DAYLIGHT
TZOFFSETFROM:-0700
TZOFFSETTO:-0600
TZNAME:MDT
DTSTART:20230312T090000
END:DAYLIGHT
BEGIN:STANDARD
TZOFFSETFROM:-0600
TZOFFSETTO:-0700
TZNAME:MST
DTSTART:20231105T080000
END:STANDARD
END:VTIMEZONE
BEGIN:VEVENT
DTSTART;TZID=America/Edmonton:20220118T090000
DTEND;TZID=America/Edmonton:20220118T103000
DTSTAMP:20260424T195448
CREATED:20211013T203441Z
LAST-MODIFIED:20211013T203527Z
UID:2404-1642496400-1642501800@www.fitfrog.ca
SUMMARY:Jackrabbit Trail\, SW
DESCRIPTION:Description:\nWe’ll follow the Jackrabbit Trail as it skirts the Glenmore reservoir along a hidden wooded pathway with rolling hills. \nMeet Place:\nPark in the large official parking lot for South Glenmore Park at the intersection of 90th Avenue and 24th Street\, SW. Leave 90 Avenue and turn left to get to the public parking area. We’ll meet near the large playground and splash park. \nBathroom:\nBathroom at trailhead \nPost-Walk Coffee Stop (Optional):\nGood Earth Café \nCovid vaccination mandatory:\nVaccination is mandatory to walk/hike/snowshoe with Fit Frog. Please confirm that you are fully vaccinated for Covid 19. You can do this by emailing Lori at lorib@fitfrog.ca proof of vaccination.
URL:https://www.fitfrog.ca/event/jackrabbit-trail-sw-winter/
LOCATION:South Glenmore Park\, Jackrabbit Trail\, XVFH+MF Calgary\, Alberta
CATEGORIES:Calgary City Walk & Cafe
ATTACH;FMTTYPE=image/jpeg:https://www.fitfrog.ca/wp-content/uploads/2021/05/Jackrabbit-Trail-winter-copy.jpg
END:VEVENT
BEGIN:VEVENT
DTSTART;TZID=America/Edmonton:20220125T090000
DTEND;TZID=America/Edmonton:20220125T103000
DTSTAMP:20260424T195448
CREATED:20211013T203606Z
LAST-MODIFIED:20220115T030423Z
UID:2406-1643101200-1643106600@www.fitfrog.ca
SUMMARY:Altadore\, Glenmore Dam & Elbow River
DESCRIPTION:Description:\nWe’ll walk neighbourhood side streets to nature trails along the Elbow River below the Glenmore Dam. \nMeet Place:\nMeet at Neighbour Coffee Shop\, 4038 16 St SW. Free parking on many of the streets in the area. \nPost-Walk Coffee Stop (Optional):\nNeighbour Coffee \nCovid vaccination mandatory:\nVaccination is mandatory to walk/hike/snowshoe with Fit Frog. Please confirm that you are fully vaccinated for Covid 19. You can do this by emailing Lori at lorib@fitfrog.ca proof of vaccination.
URL:https://www.fitfrog.ca/event/altadore-glenmore-dam-elbow-river-winter/
LOCATION:Neighbour Coffee\, Altadore\, 2V9X+8V Calgary\, Alberta
CATEGORIES:Calgary City Walk & Cafe
ATTACH;FMTTYPE=image/jpeg:https://www.fitfrog.ca/wp-content/uploads/2021/05/Winter-sunrise-From-River-Park-copy.jpg
END:VEVENT
END:VCALENDAR