BEGIN:VCALENDAR
VERSION:2.0
PRODID:-//Fit Frog Adventures - ECPv6.15.20//NONSGML v1.0//EN
CALSCALE:GREGORIAN
METHOD:PUBLISH
X-ORIGINAL-URL:https://www.fitfrog.ca
X-WR-CALDESC:Events for Fit Frog Adventures
REFRESH-INTERVAL;VALUE=DURATION:PT1H
X-Robots-Tag:noindex
X-PUBLISHED-TTL:PT1H
BEGIN:VTIMEZONE
TZID:America/Edmonton
BEGIN:DAYLIGHT
TZOFFSETFROM:-0700
TZOFFSETTO:-0600
TZNAME:MDT
DTSTART:20210314T090000
END:DAYLIGHT
BEGIN:STANDARD
TZOFFSETFROM:-0600
TZOFFSETTO:-0700
TZNAME:MST
DTSTART:20211107T080000
END:STANDARD
BEGIN:DAYLIGHT
TZOFFSETFROM:-0700
TZOFFSETTO:-0600
TZNAME:MDT
DTSTART:20220313T090000
END:DAYLIGHT
BEGIN:STANDARD
TZOFFSETFROM:-0600
TZOFFSETTO:-0700
TZNAME:MST
DTSTART:20221106T080000
END:STANDARD
BEGIN:DAYLIGHT
TZOFFSETFROM:-0700
TZOFFSETTO:-0600
TZNAME:MDT
DTSTART:20230312T090000
END:DAYLIGHT
BEGIN:STANDARD
TZOFFSETFROM:-0600
TZOFFSETTO:-0700
TZNAME:MST
DTSTART:20231105T080000
END:STANDARD
END:VTIMEZONE
BEGIN:VEVENT
DTSTART;TZID=America/Edmonton:20220705T090000
DTEND;TZID=America/Edmonton:20220705T103000
DTSTAMP:20260424T113157
CREATED:20210831T145723Z
LAST-MODIFIED:20220624T152835Z
UID:2088-1657011600-1657017000@www.fitfrog.ca
SUMMARY:Riley Park\, Sunnyside\, McHugh Bluffs & Peace Bridge\, NW
DESCRIPTION:Description:\nWe’ll zigzag our way from parkland to ridge-top\, past Sunnyside garage art to big views from Crescent Heights. Views of the Rockies\, Calgary’s downtown core\, and the Bow River are the treats on this outing. We’ll loop back along the Bow River Pathway and over the Peace Bridge. \nMeet Place:\nMeet at the official parking lot for Riley Park on 8 Avenue\, just east of 12 Street\, NW. It is at the VERY end of 8 Ave and has free 3-hour parking. \nBathrooms:\nYes (Late May- mid October) \nPost-Walk Coffee Stop (Optional):\nVendome Café
URL:https://www.fitfrog.ca/event/riley-park-sunnyside-mchugh-bluffs-peace-bridge-nw-spring/
LOCATION:Riley Park official parking lot\, NW\, 30 8 Ave NW\, Calgary\, AB T2N
CATEGORIES:Calgary City Walk & Cafe
ATTACH;FMTTYPE=image/jpeg:https://www.fitfrog.ca/wp-content/uploads/2021/03/Sunnyside-dog-chalkboard-mural-1.jpg
END:VEVENT
BEGIN:VEVENT
DTSTART;TZID=America/Edmonton:20220712T090000
DTEND;TZID=America/Edmonton:20220712T103000
DTSTAMP:20260424T113157
CREATED:20220302T155425Z
LAST-MODIFIED:20220313T204316Z
UID:3314-1657616400-1657621800@www.fitfrog.ca
SUMMARY:Edgemont Park Ravines\, NW
DESCRIPTION:Description:\nWe’ll walk along a mix of neighbourhood side-streets to the spectacular views from the Edgemont Hills. A paved pathway into the Edgemont Ravines leads us to wetlands. \nMeet Place:\nPark in the official parking lot at the intersection of Edgemont Hill and Edgemont Drive\, NW (just off John Laurie Blvd.) The official parking lot for the Edgemont Skating Rink. \nBathrooms:\nNo \nPost-Walk Coffee Stop (Optional):\nFriends Café
URL:https://www.fitfrog.ca/event/edgemont-park-ravines-nw-summer/
LOCATION:Edgemont\, NW\, 6911 Edgemont Dr NW\, Calgary\, AB T3A 2J8
CATEGORIES:Calgary City Walk & Cafe
ATTACH;FMTTYPE=image/jpeg:https://www.fitfrog.ca/wp-content/uploads/2021/04/Edgemont-Ravines-Rabbits.jpg
END:VEVENT
END:VCALENDAR