BEGIN:VCALENDAR
VERSION:2.0
PRODID:-//Fit Frog Adventures - ECPv6.15.20//NONSGML v1.0//EN
CALSCALE:GREGORIAN
METHOD:PUBLISH
X-ORIGINAL-URL:https://www.fitfrog.ca
X-WR-CALDESC:Events for Fit Frog Adventures
REFRESH-INTERVAL;VALUE=DURATION:PT1H
X-Robots-Tag:noindex
X-PUBLISHED-TTL:PT1H
BEGIN:VTIMEZONE
TZID:America/Edmonton
BEGIN:DAYLIGHT
TZOFFSETFROM:-0700
TZOFFSETTO:-0600
TZNAME:MDT
DTSTART:20210314T090000
END:DAYLIGHT
BEGIN:STANDARD
TZOFFSETFROM:-0600
TZOFFSETTO:-0700
TZNAME:MST
DTSTART:20211107T080000
END:STANDARD
BEGIN:DAYLIGHT
TZOFFSETFROM:-0700
TZOFFSETTO:-0600
TZNAME:MDT
DTSTART:20220313T090000
END:DAYLIGHT
BEGIN:STANDARD
TZOFFSETFROM:-0600
TZOFFSETTO:-0700
TZNAME:MST
DTSTART:20221106T080000
END:STANDARD
BEGIN:DAYLIGHT
TZOFFSETFROM:-0700
TZOFFSETTO:-0600
TZNAME:MDT
DTSTART:20230312T090000
END:DAYLIGHT
BEGIN:STANDARD
TZOFFSETFROM:-0600
TZOFFSETTO:-0700
TZNAME:MST
DTSTART:20231105T080000
END:STANDARD
END:VTIMEZONE
BEGIN:VEVENT
DTSTART;TZID=America/Edmonton:20221101T090000
DTEND;TZID=America/Edmonton:20221101T103000
DTSTAMP:20260424T042005
CREATED:20220715T193658Z
LAST-MODIFIED:20221026T125240Z
UID:4748-1667293200-1667298600@www.fitfrog.ca
SUMMARY:Winston Heights\, Mount Pleasant and Confederation park\, NE/ NW
DESCRIPTION:Description:\nWe’ll travel alongside side streets through the Communities of Tuxedo and Mount Pleasant before soaking up some big nature in Confederation Park. Our return route leads us to Lina’s Café for a hot drink (and tasty food!) \nMeet Place:\nMeet at the Winston Heights community association \nBathrooms:\nNone at the start \nPost-Walk Coffee Stop (Optional):\nLina’s Supermarket Cafe OR Rosso Café
URL:https://www.fitfrog.ca/event/winston-heights-mount-pleasant-and-confederation-park-ne-nw-fall/
LOCATION:Winston Heights Community Association\, 520 27 Ave NE\, Calgary\, AB T2E 2A6
CATEGORIES:Calgary City Walk & Cafe
ATTACH;FMTTYPE=image/jpeg:https://www.fitfrog.ca/wp-content/uploads/2021/11/Little-Free-library-winter-copy.jpg
END:VEVENT
BEGIN:VEVENT
DTSTART;TZID=America/Edmonton:20221113T090000
DTEND;TZID=America/Edmonton:20221113T103000
DTSTAMP:20260424T042005
CREATED:20220718T145906Z
LAST-MODIFIED:20221109T195826Z
UID:4802-1668330000-1668335400@www.fitfrog.ca
SUMMARY:Nose Hill Park\, Brisebois
DESCRIPTION:Description:\nThis hill trek leads to panoramic views of the entire city of Calgary. \nMeet Place:\nPark in an official Nose Hill Parking lot on John Laurie Blvd at Brisebois Dr.\, NW \nPost-Walk Coffee Stop (Optional):\nLina’s Italian Market Cafe
URL:https://www.fitfrog.ca/event/nose-hill-park-brisebois-fall-2/
LOCATION:Brisebois Dr NW & John Laurie Blvd NW\, 4V3F+H8\, Calgary\, Alberta\, Canada
CATEGORIES:Calgary City Walk & Cafe
ATTACH;FMTTYPE=image/jpeg:https://www.fitfrog.ca/wp-content/uploads/2022/07/Nose-Hill-winter-view-and-medecine-wheel.jpg
END:VEVENT
BEGIN:VEVENT
DTSTART;TZID=America/Edmonton:20221115T090000
DTEND;TZID=America/Edmonton:20221115T103000
DTSTAMP:20260424T042005
CREATED:20221102T195354Z
LAST-MODIFIED:20221102T195533Z
UID:5453-1668502800-1668508200@www.fitfrog.ca
SUMMARY:Bridgeland & Nose Creek Pathway\, NE
DESCRIPTION:Description:\nTraveling quiet tree-lined side-streets past pop-bottle stucco homes we’ll climb to escarpment trails and enjoy fantastic city centre views from Tom Campbell’s Hill. You can expect a mix of narrow side trails\, stairs\, hills\, and sidewalk trekking. \nMeet Place:\nMeet outside Bridgeland Market. Lots of free parking on side streets or take transit – bus or Bridgeland LRT. \nPost-Walk Coffee Stop (Optional):\nPhil and Sebastien Café
URL:https://www.fitfrog.ca/event/bridgeland-nose-creek-pathway-ne-fall-2022/
LOCATION:Bridgeland Market\, NE\, 3X37+82 Calgary\, Alberta
CATEGORIES:Calgary City Walk & Cafe
ATTACH;FMTTYPE=image/jpeg:https://www.fitfrog.ca/wp-content/uploads/2021/05/Bridgeland-escarpment-view-winter-copy.jpg
END:VEVENT
BEGIN:VEVENT
DTSTART;TZID=America/Edmonton:20221122T090000
DTEND;TZID=America/Edmonton:20221122T103000
DTSTAMP:20260424T042005
CREATED:20220918T135002Z
LAST-MODIFIED:20220918T135141Z
UID:5138-1669107600-1669113000@www.fitfrog.ca
SUMMARY:Sue Higgins\, Carburn Park\, Beaverdam Flats\, SE
DESCRIPTION:Description:\nWe’ll cross the Bow River and walk through Carburn Park to Beaverdam Flats Park and spectacular views from Lynnwood Ridge. Expect lots of wildlife\, most notably deer in Carburn Park\, pelicans in the spring\, and abundant birdlife year-round. \nMeet Place:\nSue Higgins Park\, Deerfoot Trail\, and Southland Drive official parking. \nBathrooms:\nYes\, at the trailhead and at Carburn Park \nPost-Walk Coffee Stop (Optional):\nItalian Centre Café
URL:https://www.fitfrog.ca/event/sue-higgins-carburn-park-beaverdam-flats-se-dec/
LOCATION:Sue Higgins Park\, SE\, XX8C+VC Calgary\, Alberta
CATEGORIES:Calgary City Walk & Cafe
ATTACH;FMTTYPE=image/jpeg:https://www.fitfrog.ca/wp-content/uploads/2021/10/Beaverdam-flats-spring-copy.jpg
END:VEVENT
BEGIN:VEVENT
DTSTART;TZID=America/Edmonton:20221126T090000
DTEND;TZID=America/Edmonton:20221126T103000
DTSTAMP:20260424T042005
CREATED:20220715T193816Z
LAST-MODIFIED:20220916T144706Z
UID:4750-1669453200-1669458600@www.fitfrog.ca
SUMMARY:Jackrabbit Trail\, SW
DESCRIPTION:Description:\nWe’ll follow the Jackrabbit Trail as it skirts the Glenmore reservoir along a hidden wooded pathway with rolling hills. \nMeet Place:\nPark in the large official parking lot for South Glenmore Park at the intersection of 90th Avenue and 24th Street\, SW. Leave 90 Avenue and turn left to get to the public parking area. We’ll meet near the large playground and splash park. \nBathroom:\nBathroom at trailhead \nPost-Walk Coffee Stop (Optional):\nGood Earth Café
URL:https://www.fitfrog.ca/event/jackrabbit-trail-sw-fall-2/
LOCATION:South Glenmore Park\, Jackrabbit Trail\, XVFH+MF Calgary\, Alberta
CATEGORIES:Calgary City Walk & Cafe
ATTACH;FMTTYPE=image/jpeg:https://www.fitfrog.ca/wp-content/uploads/2021/05/Jackrabbit-Trail-winter-copy.jpg
END:VEVENT
BEGIN:VEVENT
DTSTART;TZID=America/Edmonton:20221129T090000
DTEND;TZID=America/Edmonton:20221129T103000
DTSTAMP:20260424T042005
CREATED:20220916T143151Z
LAST-MODIFIED:20221127T143934Z
UID:5112-1669712400-1669717800@www.fitfrog.ca
SUMMARY:Inglewood\, East Village RiverWalk & Scotsman's Hill\, SE
DESCRIPTION:Description:\nExplore Calgary’s eclectic neighbourhoods! This relatively flat hike starts with a climb to a spectacular view of the Saddledome and the downtown core. Historic neighbourhoods\, Chinatown\, the Bow River\, and some funky window shopping are all part of this walk. \nMeet Place:\nMeet at the intersection of 9 Street and 17 Ave\, SE. Free street parking on 9 Street. \nPost-Walk Coffee Stop (Optional):\nHeritage Coffee Roasters
URL:https://www.fitfrog.ca/event/inglewood-east-village-riverwalk-scotsmans-hill-se/
LOCATION:Ramsay Parking\, 9 St and 17 Ave\, SE\, 920 17 Ave SE\, Calgary\, AB T2G 1J7
CATEGORIES:Calgary City Walk & Cafe
ATTACH;FMTTYPE=image/jpeg:https://www.fitfrog.ca/wp-content/uploads/2022/09/Scotsmans-Hill-winter-views.jpg
END:VEVENT
END:VCALENDAR