BEGIN:VCALENDAR
VERSION:2.0
PRODID:-//Fit Frog Adventures - ECPv6.15.20//NONSGML v1.0//EN
CALSCALE:GREGORIAN
METHOD:PUBLISH
X-ORIGINAL-URL:https://www.fitfrog.ca
X-WR-CALDESC:Events for Fit Frog Adventures
REFRESH-INTERVAL;VALUE=DURATION:PT1H
X-Robots-Tag:noindex
X-PUBLISHED-TTL:PT1H
BEGIN:VTIMEZONE
TZID:America/Edmonton
BEGIN:DAYLIGHT
TZOFFSETFROM:-0700
TZOFFSETTO:-0600
TZNAME:MDT
DTSTART:20210314T090000
END:DAYLIGHT
BEGIN:STANDARD
TZOFFSETFROM:-0600
TZOFFSETTO:-0700
TZNAME:MST
DTSTART:20211107T080000
END:STANDARD
BEGIN:DAYLIGHT
TZOFFSETFROM:-0700
TZOFFSETTO:-0600
TZNAME:MDT
DTSTART:20220313T090000
END:DAYLIGHT
BEGIN:STANDARD
TZOFFSETFROM:-0600
TZOFFSETTO:-0700
TZNAME:MST
DTSTART:20221106T080000
END:STANDARD
BEGIN:DAYLIGHT
TZOFFSETFROM:-0700
TZOFFSETTO:-0600
TZNAME:MDT
DTSTART:20230312T090000
END:DAYLIGHT
BEGIN:STANDARD
TZOFFSETFROM:-0600
TZOFFSETTO:-0700
TZNAME:MST
DTSTART:20231105T080000
END:STANDARD
END:VTIMEZONE
BEGIN:VEVENT
DTSTART;TZID=America/Edmonton:20221201T183000
DTEND;TZID=America/Edmonton:20221201T200000
DTSTAMP:20260424T041940
CREATED:20220718T142808Z
LAST-MODIFIED:20221205T024358Z
UID:4785-1669919400-1669924800@www.fitfrog.ca
SUMMARY:Christmas Lights Walk in Confederation Park and Lions Festival of Lights\, NW
DESCRIPTION:Description:\nWe’ll walk along the pathways in Confederation Park and through the Festival of Lights in the Confederation Golf Course. \nMeet Place:\nMeet at the official parking for Confederation park on 10 St NW \nBathrooms:\nYes\, in café
URL:https://www.fitfrog.ca/event/christmas-lights-walk-in-confederation-park-and-lions-festival-of-lights-nw/
LOCATION:Confederation Park 10 St\, 2807 10 St NW\, Calgary\, AB T2K\, Canada
CATEGORIES:Calgary City Walk & Cafe
ATTACH;FMTTYPE=image/png:https://www.fitfrog.ca/wp-content/uploads/2022/07/Screen-Shot-2022-11-26-at-7.35.56-AM.png
END:VEVENT
BEGIN:VEVENT
DTSTART;TZID=America/Edmonton:20221211T183000
DTEND;TZID=America/Edmonton:20221211T200000
DTSTAMP:20260424T041940
CREATED:20220718T142803Z
LAST-MODIFIED:20221205T211215Z
UID:4784-1670783400-1670788800@www.fitfrog.ca
SUMMARY:Christmas Lights Walk in Crescent Heights & Sunnyside
DESCRIPTION:Description:\nWe’ll walk along neighhourhood streets to view Christmas Lights displays! \nMeet Place:\nFree street parking along neighbourhood streets. \nBathrooms:\nNo \nPost-Walk Coffee Stop (Optional):\nnone scheduled
URL:https://www.fitfrog.ca/event/christmas-lights-walk-in-crescent-heights-sunnyside-2022/
LOCATION:Vendome Café\, 940 2 Ave NW\, Calgary\, AB T2N 0E6
CATEGORIES:Calgary City Walk & Cafe
ATTACH;FMTTYPE=image/jpeg:https://www.fitfrog.ca/wp-content/uploads/2021/04/Crescent-Heights-Christmas-Lights-House.jpg
END:VEVENT
BEGIN:VEVENT
DTSTART;TZID=America/Edmonton:20221213T183000
DTEND;TZID=America/Edmonton:20221213T200000
DTSTAMP:20260424T041940
CREATED:20210715T222530Z
LAST-MODIFIED:20221205T024322Z
UID:1885-1670956200-1670961600@www.fitfrog.ca
SUMMARY:Christmas Lights Walk in Mount Royal & Elbow Park\, SW
DESCRIPTION:Description:\nWe’ll walk along neighhourhood streets to view Christmas Lights displays. \nMeet Place:\nMeet outside of Our Daily Brett Café. Free street parking along neighbourhood streets. \nBathrooms:\nYes\, in café \nCovid vaccination mandatory:\nVaccination is mandatory to walk/hike/snowshoe with Fit Frog. Please confirm that you are fully vaccinated for Covid 19. You can do this by emailing Lori at lorib@fitfrog.ca proof of vaccination.
URL:https://www.fitfrog.ca/event/christmas-lights-walk-in-mount-royal-elbow-park-sw/
LOCATION:Our Daily Brett\, 1507 29 Ave SW\, Calgary\, AB T2T 1M4
CATEGORIES:Calgary City Walk & Cafe
ATTACH;FMTTYPE=image/png:https://www.fitfrog.ca/wp-content/uploads/2021/07/Christams-Lights-snowman-.png
END:VEVENT
BEGIN:VEVENT
DTSTART;TZID=America/Edmonton:20221215T090000
DTEND;TZID=America/Edmonton:20221215T103000
DTSTAMP:20260424T041940
CREATED:20221001T220353Z
LAST-MODIFIED:20221204T155151Z
UID:5290-1671094800-1671100200@www.fitfrog.ca
SUMMARY:Sandy Beach\, Stanley Park\, the Elbow River Pathway & Parkhill\, SW
DESCRIPTION:Description:\nWe follow the Elbow River from Sandy Beach Park along Riverdale Avenue to Stanley park before climbing to views from Parkhill. We’ll loop back across the river through the community of Elbow Park. \nMeet Place:\nMeet at Sandy Beach Park official parking lot \nPost-Walk Coffee Stop (Optional):\nBell’s café
URL:https://www.fitfrog.ca/event/sandy-beach-stanley-park-the-elbow-river-pathway-parkhill-sw/
LOCATION:Sandy Beach park\, 1125 50 Ave SW\, Calgary\, AB T2T 2V8
CATEGORIES:Calgary City Walk & Cafe
ATTACH;FMTTYPE=image/jpeg:https://www.fitfrog.ca/wp-content/uploads/2021/11/Little-Free-library-winter-scaled.jpg
END:VEVENT
END:VCALENDAR