BEGIN:VCALENDAR
VERSION:2.0
PRODID:-//Fit Frog Adventures - ECPv6.15.20//NONSGML v1.0//EN
CALSCALE:GREGORIAN
METHOD:PUBLISH
X-WR-CALNAME:Fit Frog Adventures
X-ORIGINAL-URL:https://www.fitfrog.ca
X-WR-CALDESC:Events for Fit Frog Adventures
REFRESH-INTERVAL;VALUE=DURATION:PT1H
X-Robots-Tag:noindex
X-PUBLISHED-TTL:PT1H
BEGIN:VTIMEZONE
TZID:America/Edmonton
BEGIN:DAYLIGHT
TZOFFSETFROM:-0700
TZOFFSETTO:-0600
TZNAME:MDT
DTSTART:20220313T090000
END:DAYLIGHT
BEGIN:STANDARD
TZOFFSETFROM:-0600
TZOFFSETTO:-0700
TZNAME:MST
DTSTART:20221106T080000
END:STANDARD
BEGIN:DAYLIGHT
TZOFFSETFROM:-0700
TZOFFSETTO:-0600
TZNAME:MDT
DTSTART:20230312T090000
END:DAYLIGHT
BEGIN:STANDARD
TZOFFSETFROM:-0600
TZOFFSETTO:-0700
TZNAME:MST
DTSTART:20231105T080000
END:STANDARD
BEGIN:DAYLIGHT
TZOFFSETFROM:-0700
TZOFFSETTO:-0600
TZNAME:MDT
DTSTART:20240310T090000
END:DAYLIGHT
BEGIN:STANDARD
TZOFFSETFROM:-0600
TZOFFSETTO:-0700
TZNAME:MST
DTSTART:20241103T080000
END:STANDARD
END:VTIMEZONE
BEGIN:VEVENT
DTSTART;TZID=America/Edmonton:20230214T090000
DTEND;TZID=America/Edmonton:20230214T103000
DTSTAMP:20260424T000842
CREATED:20220930T144852Z
LAST-MODIFIED:20230209T233405Z
UID:5259-1676365200-1676370600@www.fitfrog.ca
SUMMARY:Nose Hill Park\, Brisebois
DESCRIPTION:Description:\nThis hill trek leads to panoramic views of the entire city of Calgary. \nMeet Place:\nPark in an official Nose Hill Parking lot on John Laurie Blvd at Brisebois Dr.\, NW \nPost-Walk Coffee Stop (Optional):\nCafe Rosso or Lina’s Italian Market Café
URL:https://www.fitfrog.ca/event/nose-hill-park-brisebois-winter-2023/
LOCATION:Brisebois Dr NW & John Laurie Blvd NW\, 4V3F+H8\, Calgary\, Alberta\, Canada
CATEGORIES:Calgary City Walk & Cafe
ATTACH;FMTTYPE=image/jpeg:https://www.fitfrog.ca/wp-content/uploads/2022/07/Nose-Hill-winter-view-and-medecine-wheel.jpg
END:VEVENT
BEGIN:VEVENT
DTSTART;TZID=America/Edmonton:20230225T090000
DTEND;TZID=America/Edmonton:20230225T103000
DTSTAMP:20260424T000842
CREATED:20230103T224716Z
LAST-MODIFIED:20230115T143312Z
UID:5727-1677315600-1677321000@www.fitfrog.ca
SUMMARY:Confederation Park & Capital Hill\, NW
DESCRIPTION:Description:\nThere are a few wonderful walks that we can do from Confederation Park. We’ll travel along the pathways in Confederation Park and into the surrounding neighbourhoods. \nMeet Place:\nMeet at the Confederation park official parking lot on 10 St NW\, just north of 23 Ave on the west side of 10th (near Rosemont Community Centre) \nPost-Walk Coffee Stop (Optional):\nLina’s Supermarket Cafe OR Rosso Café
URL:https://www.fitfrog.ca/event/confederation-park-capital-hill-nw-feb/
LOCATION:Confederation Park 10 St\, 2807 10 St NW\, Calgary\, AB T2K\, Canada
CATEGORIES:Calgary City Walk & Cafe
ATTACH;FMTTYPE=image/jpeg:https://www.fitfrog.ca/wp-content/uploads/2021/10/Winter.jpg
END:VEVENT
BEGIN:VEVENT
DTSTART;TZID=America/Edmonton:20230228T090000
DTEND;TZID=America/Edmonton:20230228T103000
DTSTAMP:20260424T000842
CREATED:20220930T134427Z
LAST-MODIFIED:20230209T233431Z
UID:5244-1677574800-1677580200@www.fitfrog.ca
SUMMARY:Jackrabbit Trail\, SW
DESCRIPTION:Description:\nWe’ll follow the Jackrabbit Trail as it skirts the Glenmore reservoir along a hidden wooded pathway with rolling hills. We’ll continue along a mix of paved paths and Weaselhead wilderness trails along the Elbow River. \nMeet Place:\nPark in the large official parking lot for South Glenmore Park at the intersection of 90th Avenue and 24th Street\, SW. Leave 90 Avenue and turn left to get to the public parking area. We’ll meet near the large playground and splash park. \nBathroom:\nBathroom at trailhead \nPost-Walk Coffee Stop (Optional):\nGood Earth Café
URL:https://www.fitfrog.ca/event/jackrabbit-trail-sw-winter-2023/
LOCATION:South Glenmore Park\, Jackrabbit Trail\, XVFH+MF Calgary\, Alberta
CATEGORIES:Calgary City Walk & Cafe
ATTACH;FMTTYPE=image/jpeg:https://www.fitfrog.ca/wp-content/uploads/2021/05/Jackrabbit-Trail-winter-copy.jpg
END:VEVENT
END:VCALENDAR