BEGIN:VCALENDAR
VERSION:2.0
PRODID:-//Fit Frog Adventures - ECPv6.15.20//NONSGML v1.0//EN
CALSCALE:GREGORIAN
METHOD:PUBLISH
X-WR-CALNAME:Fit Frog Adventures
X-ORIGINAL-URL:https://www.fitfrog.ca
X-WR-CALDESC:Events for Fit Frog Adventures
REFRESH-INTERVAL;VALUE=DURATION:PT1H
X-Robots-Tag:noindex
X-PUBLISHED-TTL:PT1H
BEGIN:VTIMEZONE
TZID:America/Edmonton
BEGIN:DAYLIGHT
TZOFFSETFROM:-0700
TZOFFSETTO:-0600
TZNAME:MDT
DTSTART:20220313T090000
END:DAYLIGHT
BEGIN:STANDARD
TZOFFSETFROM:-0600
TZOFFSETTO:-0700
TZNAME:MST
DTSTART:20221106T080000
END:STANDARD
BEGIN:DAYLIGHT
TZOFFSETFROM:-0700
TZOFFSETTO:-0600
TZNAME:MDT
DTSTART:20230312T090000
END:DAYLIGHT
BEGIN:STANDARD
TZOFFSETFROM:-0600
TZOFFSETTO:-0700
TZNAME:MST
DTSTART:20231105T080000
END:STANDARD
BEGIN:DAYLIGHT
TZOFFSETFROM:-0700
TZOFFSETTO:-0600
TZNAME:MDT
DTSTART:20240310T090000
END:DAYLIGHT
BEGIN:STANDARD
TZOFFSETFROM:-0600
TZOFFSETTO:-0700
TZNAME:MST
DTSTART:20241103T080000
END:STANDARD
END:VTIMEZONE
BEGIN:VEVENT
DTSTART;TZID=America/Edmonton:20230305T090000
DTEND;TZID=America/Edmonton:20230305T103000
DTSTAMP:20260423T225748
CREATED:20220930T131135Z
LAST-MODIFIED:20230113T232456Z
UID:5222-1678006800-1678012200@www.fitfrog.ca
SUMMARY:Fish Creek Park\,  Bow Valley Ranch\, SE
DESCRIPTION:Description:\nWe’ll walk through the east end of Fish Creek park to escarpment views from Parkland and then back to the valley and along Fish Creek. \nMeet Place:\nPark in an official Bow Valley Ranch Fish Creek Park parking lot on Bow Bottom Trail\, SE. Park in the first parking lot that you come to near the Visitor Centre. \nBathrooms:\nThere are bathrooms in the visitor centre at the start of the walk. \nPost-Walk Coffee Stop (Optional):\nItalian Centre Cafe
URL:https://www.fitfrog.ca/event/fish-creek-park-bow-valley-ranch-se/
LOCATION:Bow Valley Ranch\, Fish Creek Park\, 15975 Bow Bottom Trail SE\, Calgary\, AB T2J 6T5
CATEGORIES:Calgary City Walk & Cafe
ATTACH;FMTTYPE=image/png:https://www.fitfrog.ca/wp-content/uploads/2022/01/Fish-Creek-Park-winter.png
END:VEVENT
BEGIN:VEVENT
DTSTART;TZID=America/Edmonton:20230307T090000
DTEND;TZID=America/Edmonton:20230307T103000
DTSTAMP:20260423T225748
CREATED:20220930T150521Z
LAST-MODIFIED:20230301T185438Z
UID:5269-1678179600-1678185000@www.fitfrog.ca
SUMMARY:Glenmore Reservoir & Weaslehead\, SW
DESCRIPTION:Description:\nThis walk starts in North Glenmore Park and follows the paved path along the top of the escarpment\, looking west to the Rockies. We’ll soon enter the Weaselhead trail network\, a mix of singel track and boardwalks. This is a full-on nature immersion.  \nWant to join us?\nScroll down to the bottom for the options \nMeet Place:\nMeet at the Weaselhead Parking Lot\, 37 St. and 66 Ave.\, SW \nBathrooms:\nThere are port-a-potty bathrooms at the trailhead. \nPost-Walk Coffee Stop (Optional):\nSierra Café
URL:https://www.fitfrog.ca/event/glenmore-reservoir-weaslehead-sw-winter-winter-2023/
LOCATION:Weaselhead parking\, Weaselhead\, North Glenmore Park\,6615 37 St SW\, Calgary\, AB T3E 5M9
CATEGORIES:Calgary City Walk & Cafe
ATTACH;FMTTYPE=image/jpeg:https://www.fitfrog.ca/wp-content/uploads/2021/05/Weaselhead-winter-copy.jpg
END:VEVENT
BEGIN:VEVENT
DTSTART;TZID=America/Edmonton:20230314T090000
DTEND;TZID=America/Edmonton:20230314T103000
DTSTAMP:20260423T225748
CREATED:20220930T150658Z
LAST-MODIFIED:20230301T185454Z
UID:5272-1678784400-1678789800@www.fitfrog.ca
SUMMARY:Inglewood\, East Village RiverWalk & Chinatown\, SE
DESCRIPTION:Description:\nExplore Calgary’s eclectic neighbourhoods! This relatively flat hike starts with a climb to a spectacular view of the Saddledome and the downtown core. Historic neighbourhoods\, Chinatown\, the Bow River\, and some funky window shopping are all part of this walk. \nWant to join us?\nScroll down to the bottom for the options \nMeet Place:\nMeet at the intersection of 8 St and 8 Ave\, SE (Lots of free street parking in this area). Note that the map shows the Deane House as the location. Park anywhere near there and we’ll meet at 8th and 8th.\, SE. \nPost-Walk Coffee Stop (Optional):\nGravity Cafe or Sidewalk Citizen at Simmons
URL:https://www.fitfrog.ca/event/inglewood-east-village-riverwalk-chinatown-se-winter-2023/
LOCATION:Inglewood\, SE\, 800 8 St SE\, Calgary\, Canada
CATEGORIES:Calgary City Walk & Cafe
ATTACH;FMTTYPE=image/jpeg:https://www.fitfrog.ca/wp-content/uploads/2022/07/Chinatown-walker.jpg
END:VEVENT
BEGIN:VEVENT
DTSTART;TZID=America/Edmonton:20230328T090000
DTEND;TZID=America/Edmonton:20230328T103000
DTSTAMP:20260423T225748
CREATED:20221031T185436Z
LAST-MODIFIED:20230328T134957Z
UID:5431-1679994000-1679999400@www.fitfrog.ca
SUMMARY:Nose Hill Park\, 64th Avenue\, NW
DESCRIPTION:Description:\nThis hill trek leads to panoramic views of the entire city of Calgary. Wildlife\, wildflowers\, and sweeping green grasses make it hard to believe all this is in the heart of the city. \nWant to join us?\nScroll down to the bottom for the options \nMeet Place:\nPark in an official Nose Hill Parking lot on 14 Street at 64th Ave \nBathroom:\nSeasonal bathroom at the trailhead: Open late May – October (Thanksgiving) \nPost-Walk Coffee Stop (Optional):\nCafe Rosso or Lina’s Italian Market Café
URL:https://www.fitfrog.ca/event/nose-hill-park-64th-avenue-nw/
LOCATION:Nose Hill 64th Avenue\, 6465 14 St NW\, Calgary\, AB T2K 5R2
CATEGORIES:Calgary City Walk & Cafe
ATTACH;FMTTYPE=image/jpeg:https://www.fitfrog.ca/wp-content/uploads/2022/10/Crocuses-on-Nose-HIll-small.jpeg
END:VEVENT
END:VCALENDAR