BEGIN:VCALENDAR
VERSION:2.0
PRODID:-//Fit Frog Adventures - ECPv6.15.20//NONSGML v1.0//EN
CALSCALE:GREGORIAN
METHOD:PUBLISH
X-ORIGINAL-URL:https://www.fitfrog.ca
X-WR-CALDESC:Events for Fit Frog Adventures
REFRESH-INTERVAL;VALUE=DURATION:PT1H
X-Robots-Tag:noindex
X-PUBLISHED-TTL:PT1H
BEGIN:VTIMEZONE
TZID:America/Edmonton
BEGIN:DAYLIGHT
TZOFFSETFROM:-0700
TZOFFSETTO:-0600
TZNAME:MDT
DTSTART:20220313T090000
END:DAYLIGHT
BEGIN:STANDARD
TZOFFSETFROM:-0600
TZOFFSETTO:-0700
TZNAME:MST
DTSTART:20221106T080000
END:STANDARD
BEGIN:DAYLIGHT
TZOFFSETFROM:-0700
TZOFFSETTO:-0600
TZNAME:MDT
DTSTART:20230312T090000
END:DAYLIGHT
BEGIN:STANDARD
TZOFFSETFROM:-0600
TZOFFSETTO:-0700
TZNAME:MST
DTSTART:20231105T080000
END:STANDARD
BEGIN:DAYLIGHT
TZOFFSETFROM:-0700
TZOFFSETTO:-0600
TZNAME:MDT
DTSTART:20240310T090000
END:DAYLIGHT
BEGIN:STANDARD
TZOFFSETFROM:-0600
TZOFFSETTO:-0700
TZNAME:MST
DTSTART:20241103T080000
END:STANDARD
END:VTIMEZONE
BEGIN:VEVENT
DTSTART;TZID=America/Edmonton:20230425T090000
DTEND;TZID=America/Edmonton:20230425T103000
DTSTAMP:20260423T214215
CREATED:20230307T134401Z
LAST-MODIFIED:20230417T181418Z
UID:6073-1682413200-1682418600@www.fitfrog.ca
SUMMARY:City Walk: West Nose Creek / Confluence Park\, NW
DESCRIPTION:Description:\nWe’ll follow the pathways alongside the creek meanders through multiple curves in the valley bottom. The valley where we’ll walk was forged by runoff from the last glaciation and is therefore considerably younger than the Bow and Elbow river valleys. In certain areas\, the creek has been carved through the bedrock. Outcroppings of the bedrock\, known as the Porcupine Hills Formation are exposed along the north bank. We will check see “Split Rock”\, the most famous glacial erratic in Calgary\, along the north bank. The erratic was once part of Mount Edith Cavell in Jasper National Park. \nWant to join us?\nScroll down to the bottom for the options \nMeet Place:\nThe official parking lot for West Nose Creek / Confluence Park at the intersection of Beddington Blvd. and Beddington Trail\, NW \nBathroom:\nYes \nPost-Walk Coffee Stop (Optional):\nTBA
URL:https://www.fitfrog.ca/event/west-nose-creek-confluence-park-nw/
LOCATION:West Nose Creek\, 300 Beddington Blvd NE\, Calgary\, AB
CATEGORIES:Calgary City Walk & Cafe
ATTACH;FMTTYPE=image/png:https://www.fitfrog.ca/wp-content/uploads/2023/03/West-Nose-Creek-Split-Rock-erratic.png
END:VEVENT
END:VCALENDAR