BEGIN:VCALENDAR
VERSION:2.0
PRODID:-//Fit Frog Adventures - ECPv6.15.20//NONSGML v1.0//EN
CALSCALE:GREGORIAN
METHOD:PUBLISH
X-WR-CALNAME:Fit Frog Adventures
X-ORIGINAL-URL:https://www.fitfrog.ca
X-WR-CALDESC:Events for Fit Frog Adventures
REFRESH-INTERVAL;VALUE=DURATION:PT1H
X-Robots-Tag:noindex
X-PUBLISHED-TTL:PT1H
BEGIN:VTIMEZONE
TZID:America/Edmonton
BEGIN:DAYLIGHT
TZOFFSETFROM:-0700
TZOFFSETTO:-0600
TZNAME:MDT
DTSTART:20220313T090000
END:DAYLIGHT
BEGIN:STANDARD
TZOFFSETFROM:-0600
TZOFFSETTO:-0700
TZNAME:MST
DTSTART:20221106T080000
END:STANDARD
BEGIN:DAYLIGHT
TZOFFSETFROM:-0700
TZOFFSETTO:-0600
TZNAME:MDT
DTSTART:20230312T090000
END:DAYLIGHT
BEGIN:STANDARD
TZOFFSETFROM:-0600
TZOFFSETTO:-0700
TZNAME:MST
DTSTART:20231105T080000
END:STANDARD
BEGIN:DAYLIGHT
TZOFFSETFROM:-0700
TZOFFSETTO:-0600
TZNAME:MDT
DTSTART:20240310T090000
END:DAYLIGHT
BEGIN:STANDARD
TZOFFSETFROM:-0600
TZOFFSETTO:-0700
TZNAME:MST
DTSTART:20241103T080000
END:STANDARD
END:VTIMEZONE
BEGIN:VEVENT
DTSTART;TZID=America/Edmonton:20230704T090000
DTEND;TZID=America/Edmonton:20230704T103000
DTSTAMP:20260423T171656
CREATED:20230216T161036Z
LAST-MODIFIED:20230704T142517Z
UID:5924-1688461200-1688466600@www.fitfrog.ca
SUMMARY:City Walk: Nose Hill Park\, Edgemont\, NW
DESCRIPTION:Description:\nThis hill trek leads to panoramic views of the entire city of Calgary. Wildlife\, wildflowers\, and sweeping green grasses make it hard to believe all this is in the heart of the city. This hike is part of the Spring session of hikes with Club Fit Frog. \nWant to join us?\nScroll down to the bottom for the options \nMeet Place:\nPark in an official Nose Hill Parking lot on Shaganappi Trail at Edgemont Blvd.\, NW \nBathroom:\nYes \nPost-Walk Coffee Stop (Optional):\nFriends Café
URL:https://www.fitfrog.ca/event/nose-hill-park-edgemont-nw/
LOCATION:Nose Hill Edgemont Blvd & Shaganappi\, NW\, 4VG8+9Q Calgary\, Alberta
CATEGORIES:Calgary City Walk & Cafe
ATTACH;FMTTYPE=image/jpeg:https://www.fitfrog.ca/wp-content/uploads/2021/06/Thistle-Nose-Hill.jpeg
END:VEVENT
BEGIN:VEVENT
DTSTART;TZID=America/Edmonton:20230711T090000
DTEND;TZID=America/Edmonton:20230711T103000
DTSTAMP:20260423T171656
CREATED:20230216T161554Z
LAST-MODIFIED:20230328T200538Z
UID:5928-1689066000-1689071400@www.fitfrog.ca
SUMMARY:City Walk: Patterson\, Cougar Ridge\, Paskapoo Slopes\, SW
DESCRIPTION:Description:\nOffering unobstructed views of the Bow River Valley and the prairies beyond\, this urban walkabout offers the perfect vantage point to get the lay of the land in Calgary. Navigating a mix of forested single-track trails\, quiet side streets\, and paved pathways\, walkers soak up spectacular vistas and we’ll check out the Buddist Stuppa. \nWant to join us?\nScroll down to the bottom for the options \nMeet Place:\nWe’ll meet at the intersection of 77 St and Cougar Ridge Drive. This is near the Calgary International French School. Free street parking. \nBathroom:\nNone at the walk start. \nPost-Walk Coffee Stop (Optional)\nGood Earth Cafe Strathcona Square
URL:https://www.fitfrog.ca/event/patterson-cougar-ridge-paskapoo-sw-summer-2023/
LOCATION:Cougar Ridge Meet place\, 3R92+4M Calgary\, Alberta
CATEGORIES:Calgary City Walk & Cafe
ATTACH;FMTTYPE=image/jpeg:https://www.fitfrog.ca/wp-content/uploads/2022/02/Patterson-pathway-Calgary.jpg
END:VEVENT
BEGIN:VEVENT
DTSTART;TZID=America/Edmonton:20230723T090000
DTEND;TZID=America/Edmonton:20230723T103000
DTSTAMP:20260423T171656
CREATED:20230217T024742Z
LAST-MODIFIED:20230328T012239Z
UID:5943-1690102800-1690108200@www.fitfrog.ca
SUMMARY:City Walk: Edworthy Park\, Douglas Fir Trail\, Bow River\, SW
DESCRIPTION:Description:\nWe’ll climb and descend a mix of stairs and single-track trails through a Douglas Fir Forest to views of the Bow RiverValley. If the trail is wet or muddy\, we’ll avoid some challenging sections if muddy\, and instead walk through Wildwood and soak up some homes and gardens before connecting to the Douglas Fir Trail again. \nWant to join us?\nScroll down to the bottom for the options \nMeet Place:\nMeet at the official parking for Edworthy Park\, at the intersection of Shaganappi Trail and Memorial Drive. We meet by the bathrooms. Or you can park on the south side of Edworthy and walk across to meet us (or let me know that you are on that side and we will walk over to meet you) \nBathroom:\nBathroom at the trailhead (year-round heated on north side\, port-a-potty on south side) \nPost-Walk Coffee Stop (Optional):\nAngel’s or Lazy Loaf and Kettle Café
URL:https://www.fitfrog.ca/event/edworthy-park-douglas-fir-trail-sw-summer-2023/
LOCATION:Edworthy Park north side\, 4105 Montgomery View NW\, Calgary\, AB T3B 3E8
CATEGORIES:Calgary City Walk & Cafe
ATTACH;FMTTYPE=image/jpeg:https://www.fitfrog.ca/wp-content/uploads/2022/02/Edworthy-Douglas-Fir-Trail-walkers.jpg
END:VEVENT
END:VCALENDAR