BEGIN:VCALENDAR
VERSION:2.0
PRODID:-//Fit Frog Adventures - ECPv6.15.20//NONSGML v1.0//EN
CALSCALE:GREGORIAN
METHOD:PUBLISH
X-WR-CALNAME:Fit Frog Adventures
X-ORIGINAL-URL:https://www.fitfrog.ca
X-WR-CALDESC:Events for Fit Frog Adventures
REFRESH-INTERVAL;VALUE=DURATION:PT1H
X-Robots-Tag:noindex
X-PUBLISHED-TTL:PT1H
BEGIN:VTIMEZONE
TZID:America/Edmonton
BEGIN:DAYLIGHT
TZOFFSETFROM:-0700
TZOFFSETTO:-0600
TZNAME:MDT
DTSTART:20220313T090000
END:DAYLIGHT
BEGIN:STANDARD
TZOFFSETFROM:-0600
TZOFFSETTO:-0700
TZNAME:MST
DTSTART:20221106T080000
END:STANDARD
BEGIN:DAYLIGHT
TZOFFSETFROM:-0700
TZOFFSETTO:-0600
TZNAME:MDT
DTSTART:20230312T090000
END:DAYLIGHT
BEGIN:STANDARD
TZOFFSETFROM:-0600
TZOFFSETTO:-0700
TZNAME:MST
DTSTART:20231105T080000
END:STANDARD
BEGIN:DAYLIGHT
TZOFFSETFROM:-0700
TZOFFSETTO:-0600
TZNAME:MDT
DTSTART:20240310T090000
END:DAYLIGHT
BEGIN:STANDARD
TZOFFSETFROM:-0600
TZOFFSETTO:-0700
TZNAME:MST
DTSTART:20241103T080000
END:STANDARD
END:VTIMEZONE
BEGIN:VEVENT
DTSTART;TZID=America/Edmonton:20231003T090000
DTEND;TZID=America/Edmonton:20231003T103000
DTSTAMP:20260423T115503
CREATED:20230903T182045Z
LAST-MODIFIED:20230903T183022Z
UID:6828-1696323600-1696329000@www.fitfrog.ca
SUMMARY:City Walk: Nose Hill Park\, Edgemont\, NW
DESCRIPTION:Description:\nThis hill trek leads to panoramic views of the entire city of Calgary. Wildlife\, wildflowers\, and sweeping green grasses make it hard to believe all this is in the heart of the city. \nWant to join us?\nScroll down to the bottom for the options \nMeet Place:\nPark in an official Nose Hill Parking lot on Shaganappi Trail at Edgemont Blvd.\, NW \nBathroom:\nYes \nPost-Walk Coffee Stop (Optional):\nFriends Café
URL:https://www.fitfrog.ca/event/nose-hill-park-edgemont-nw-fall-2023/
LOCATION:Nose Hill Edgemont Blvd & Shaganappi\, NW\, 4VG8+9Q Calgary\, Alberta
CATEGORIES:Calgary City Walk & Cafe
ATTACH;FMTTYPE=image/jpeg:https://www.fitfrog.ca/wp-content/uploads/2023/09/Nose-Hill-fall-coulee.jpg
END:VEVENT
BEGIN:VEVENT
DTSTART;TZID=America/Edmonton:20231029T090000
DTEND;TZID=America/Edmonton:20231029T103000
DTSTAMP:20260423T115503
CREATED:20230605T204429Z
LAST-MODIFIED:20230915T212421Z
UID:6571-1698570000-1698575400@www.fitfrog.ca
SUMMARY:City Walk: Inglewood\, East Village RiverWalk & Scotsman's Hill\, SE
DESCRIPTION:Description:\nExplore Calgary’s eclectic neighbourhoods! This relatively flat hike starts with a climb to a spectacular view of the Saddledome and the downtown core. Historic neighbourhoods\, Chinatown\, the Bow River\, and some funky window shopping are all part of this walk. \nMeet Place:\nMeet at the intersection of 9 Street and 17 Ave\, SE. Free street parking on 9 Street. \nPost-Walk Coffee Stop (Optional):\nHeritage Coffee Roasters
URL:https://www.fitfrog.ca/event/inglewood-east-village-riverwalk-scotsmans-hill-se-fall/
LOCATION:Ramsay Parking\, 9 St and 17 Ave\, SE\, 920 17 Ave SE\, Calgary\, AB T2G 1J7
CATEGORIES:Calgary City Walk & Cafe
ATTACH;FMTTYPE=image/jpeg:https://www.fitfrog.ca/wp-content/uploads/2023/06/Ramsay-Scotsman-Hill.jpeg
END:VEVENT
BEGIN:VEVENT
DTSTART;TZID=America/Edmonton:20231031T090000
DTEND;TZID=America/Edmonton:20231031T103000
DTSTAMP:20260423T115503
CREATED:20221213T142641Z
LAST-MODIFIED:20231030T135759Z
UID:5661-1698742800-1698748200@www.fitfrog.ca
SUMMARY:Glenmore Reservoir & Weaslehead\, SW
DESCRIPTION:Description:\nThis walk starts in North Glenmore Park and follows the paved path along the top of the escarpment\, looking west to the Rockies. We’ll soon enter the Weaselhead trail network\, a mix of single-track and boardwalks. This is a full-on nature immersion. \nMeet Place:\nMeet at the Weaselhead Parking Lot\, 37 St. and 66 Ave.\, SW \nBathrooms:\nThere are port-a-potty bathrooms at the trailhead. \nPost-Walk Coffee Stop (Optional):\nCafe Du Parc\, a pop up cafe in North Glenmore Park
URL:https://www.fitfrog.ca/event/glenmore-reservoir-weaslehead-sw-october-2023/
LOCATION:Weaselhead parking\, Weaselhead\, North Glenmore Park\,6615 37 St SW\, Calgary\, AB T3E 5M9
CATEGORIES:Calgary City Walk & Cafe
ATTACH;FMTTYPE=image/jpeg:https://www.fitfrog.ca/wp-content/uploads/2021/05/Weaselhead-winter-copy.jpg
END:VEVENT
END:VCALENDAR