BEGIN:VCALENDAR
VERSION:2.0
PRODID:-//Fit Frog Adventures - ECPv6.15.20//NONSGML v1.0//EN
CALSCALE:GREGORIAN
METHOD:PUBLISH
X-WR-CALNAME:Fit Frog Adventures
X-ORIGINAL-URL:https://www.fitfrog.ca
X-WR-CALDESC:Events for Fit Frog Adventures
REFRESH-INTERVAL;VALUE=DURATION:PT1H
X-Robots-Tag:noindex
X-PUBLISHED-TTL:PT1H
BEGIN:VTIMEZONE
TZID:America/Edmonton
BEGIN:DAYLIGHT
TZOFFSETFROM:-0700
TZOFFSETTO:-0600
TZNAME:MDT
DTSTART:20220313T090000
END:DAYLIGHT
BEGIN:STANDARD
TZOFFSETFROM:-0600
TZOFFSETTO:-0700
TZNAME:MST
DTSTART:20221106T080000
END:STANDARD
BEGIN:DAYLIGHT
TZOFFSETFROM:-0700
TZOFFSETTO:-0600
TZNAME:MDT
DTSTART:20230312T090000
END:DAYLIGHT
BEGIN:STANDARD
TZOFFSETFROM:-0600
TZOFFSETTO:-0700
TZNAME:MST
DTSTART:20231105T080000
END:STANDARD
BEGIN:DAYLIGHT
TZOFFSETFROM:-0700
TZOFFSETTO:-0600
TZNAME:MDT
DTSTART:20240310T090000
END:DAYLIGHT
BEGIN:STANDARD
TZOFFSETFROM:-0600
TZOFFSETTO:-0700
TZNAME:MST
DTSTART:20241103T080000
END:STANDARD
END:VTIMEZONE
BEGIN:VEVENT
DTSTART;TZID=America/Edmonton:20231114T090000
DTEND;TZID=America/Edmonton:20231114T103000
DTSTAMP:20260423T102924
CREATED:20230621T220555Z
LAST-MODIFIED:20230915T212507Z
UID:6657-1699952400-1699957800@www.fitfrog.ca
SUMMARY:City Walk: Sandy Beach\, Stanley Park\, the Elbow River Pathway & Parkhill\, SW
DESCRIPTION:Description:\nWe follow the Elbow River from Sandy Beach Park along Riverdale Avenue to Stanley park before climbing to views from Parkhill. We’ll loop back across the river through the community of Elbow Park. \nMeet Place:\nMeet at Sandy Beach Park official parking lot \nPost-Walk Coffee Stop (Optional):\nBell’s café
URL:https://www.fitfrog.ca/event/sandy-beach-stanley-park-the-elbow-river-pathway-parkhill-sw-fall/
LOCATION:Sandy Beach park\, 1125 50 Ave SW\, Calgary\, AB T2T 2V8
CATEGORIES:Calgary City Walk & Cafe
ATTACH;FMTTYPE=image/jpeg:https://www.fitfrog.ca/wp-content/uploads/2022/10/Sandy-Beach-Park-winter-river.jpg
END:VEVENT
BEGIN:VEVENT
DTSTART;TZID=America/Edmonton:20231121T090000
DTEND;TZID=America/Edmonton:20231121T103000
DTSTAMP:20260423T102924
CREATED:20230615T132148Z
LAST-MODIFIED:20230621T220406Z
UID:6611-1700557200-1700562600@www.fitfrog.ca
SUMMARY:City Walk: Nose Hill Park\, Berkley Gate\, NW
DESCRIPTION:Description:\nThis hill trek leads to panoramic views of the entire city of Calgary. Wildlife\, wildflowers\, and sweeping green grasses make it hard to believe all this is in the heart of the city. \nMeet Place:\nPark in an official Nose Hill Parking lot on 14 Street at Berkley Gate\, NW \nBathroom:\nSeasonal bathroom at the trailhead: Open late May – October (Thanksgiving) \nPost-Walk Coffee Stop (Optional):\n 
URL:https://www.fitfrog.ca/event/nose-hill-park-berkley-gate-nw-august/
LOCATION:Nose Hill\, 14 St and Berkley Gate\, NW\, 4WG2+3F Calgary\, Alberta
CATEGORIES:Calgary City Walk & Cafe
ATTACH;FMTTYPE=image/jpeg:https://www.fitfrog.ca/wp-content/uploads/2021/11/Nose-hill-winter-city-view-copy.jpg
END:VEVENT
END:VCALENDAR