BEGIN:VCALENDAR
VERSION:2.0
PRODID:-//Fit Frog Adventures - ECPv6.15.20//NONSGML v1.0//EN
CALSCALE:GREGORIAN
METHOD:PUBLISH
X-WR-CALNAME:Fit Frog Adventures
X-ORIGINAL-URL:https://www.fitfrog.ca
X-WR-CALDESC:Events for Fit Frog Adventures
REFRESH-INTERVAL;VALUE=DURATION:PT1H
X-Robots-Tag:noindex
X-PUBLISHED-TTL:PT1H
BEGIN:VTIMEZONE
TZID:America/Edmonton
BEGIN:DAYLIGHT
TZOFFSETFROM:-0700
TZOFFSETTO:-0600
TZNAME:MDT
DTSTART:20220313T090000
END:DAYLIGHT
BEGIN:STANDARD
TZOFFSETFROM:-0600
TZOFFSETTO:-0700
TZNAME:MST
DTSTART:20221106T080000
END:STANDARD
BEGIN:DAYLIGHT
TZOFFSETFROM:-0700
TZOFFSETTO:-0600
TZNAME:MDT
DTSTART:20230312T090000
END:DAYLIGHT
BEGIN:STANDARD
TZOFFSETFROM:-0600
TZOFFSETTO:-0700
TZNAME:MST
DTSTART:20231105T080000
END:STANDARD
BEGIN:DAYLIGHT
TZOFFSETFROM:-0700
TZOFFSETTO:-0600
TZNAME:MDT
DTSTART:20240310T090000
END:DAYLIGHT
BEGIN:STANDARD
TZOFFSETFROM:-0600
TZOFFSETTO:-0700
TZNAME:MST
DTSTART:20241103T080000
END:STANDARD
END:VTIMEZONE
BEGIN:VEVENT
DTSTART;TZID=America/Edmonton:20231209T090000
DTEND;TZID=America/Edmonton:20231209T103000
DTSTAMP:20260423T075453
CREATED:20210610T174541Z
LAST-MODIFIED:20231107T224504Z
UID:1685-1702112400-1702117800@www.fitfrog.ca
SUMMARY:Britannia\, Elboya\, Stanley Park\, and Riverdale\, SW
DESCRIPTION:Description:\nWe’ll walk about through Britannia to the Elbow River Pathway to Stanley Park before soaking up big mountain and river views from Parkhill. \nMeet Place:\nMeet outside Owl’s Nest Books. Park anywhere in Britannia Plaza\, off Elbow Drive\, SW or take Bus #3. \nPost-Walk Coffee Stop (Optional):\nLina’s Italian Market and café
URL:https://www.fitfrog.ca/event/britannia-elboya-stanley-park-and-riverdale-sw/
LOCATION:Britannia Plaza\, SW\, Owl's Nest Books\, 815a 49 Ave SW\, Calgary\, AB T2S 1G8
CATEGORIES:Calgary City Walk & Cafe
ATTACH;FMTTYPE=image/jpeg:https://www.fitfrog.ca/wp-content/uploads/2021/05/Winter-sunrise-From-River-Park-copy.jpg
END:VEVENT
BEGIN:VEVENT
DTSTART;TZID=America/Edmonton:20231212T090000
DTEND;TZID=America/Edmonton:20231212T113000
DTSTAMP:20260423T075453
CREATED:20230710T224105Z
LAST-MODIFIED:20231129T032704Z
UID:6697-1702371600-1702380600@www.fitfrog.ca
SUMMARY:City Walk: Montgomery\, University District & Bow River Pathway
DESCRIPTION:Description:\nWe’ll walk through Montgomery\, to the Bow River Pathway and then finish exploring the University District. \nMeet Place:\nMeet in Montgomery at the intersection of Montablan Dr and Montablan Cres.\, NW in the park. Free street parking \nBathrooms:\nNo \nPost-Walk Coffee Stop (Optional):\nMonogram in University District
URL:https://www.fitfrog.ca/event/city-walk-montgomery-university-district-bow-river-pathway/
LOCATION:Montgomery street parking\, 4624 Montalban Dr NW\, Calgary\, AB T3B 1E4
CATEGORIES:Calgary City Walk & Cafe
ATTACH;FMTTYPE=image/jpeg:https://www.fitfrog.ca/wp-content/uploads/2021/10/Coffee-and-wall-e-in--scaled.jpg
END:VEVENT
END:VCALENDAR