BEGIN:VCALENDAR
VERSION:2.0
PRODID:-//Fit Frog Adventures - ECPv6.15.20//NONSGML v1.0//EN
CALSCALE:GREGORIAN
METHOD:PUBLISH
X-ORIGINAL-URL:https://www.fitfrog.ca
X-WR-CALDESC:Events for Fit Frog Adventures
REFRESH-INTERVAL;VALUE=DURATION:PT1H
X-Robots-Tag:noindex
X-PUBLISHED-TTL:PT1H
BEGIN:VTIMEZONE
TZID:America/Edmonton
BEGIN:DAYLIGHT
TZOFFSETFROM:-0700
TZOFFSETTO:-0600
TZNAME:MDT
DTSTART:20230312T090000
END:DAYLIGHT
BEGIN:STANDARD
TZOFFSETFROM:-0600
TZOFFSETTO:-0700
TZNAME:MST
DTSTART:20231105T080000
END:STANDARD
BEGIN:DAYLIGHT
TZOFFSETFROM:-0700
TZOFFSETTO:-0600
TZNAME:MDT
DTSTART:20240310T090000
END:DAYLIGHT
BEGIN:STANDARD
TZOFFSETFROM:-0600
TZOFFSETTO:-0700
TZNAME:MST
DTSTART:20241103T080000
END:STANDARD
BEGIN:DAYLIGHT
TZOFFSETFROM:-0700
TZOFFSETTO:-0600
TZNAME:MDT
DTSTART:20250309T090000
END:DAYLIGHT
BEGIN:STANDARD
TZOFFSETFROM:-0600
TZOFFSETTO:-0700
TZNAME:MST
DTSTART:20251102T080000
END:STANDARD
END:VTIMEZONE
BEGIN:VEVENT
DTSTART;TZID=America/Edmonton:20240107T090000
DTEND;TZID=America/Edmonton:20240107T103000
DTSTAMP:20260423T091608
CREATED:20231213T145444Z
LAST-MODIFIED:20240102T190322Z
UID:7185-1704618000-1704623400@www.fitfrog.ca
SUMMARY:City Walk: Altadore\, Sandy Beach\, Stanley Park\, the Elbow River Pathway & Parkhill\, SW
DESCRIPTION:Description:\nWe follow the Elbow River through Sandy Beach Park along Riverdale Avenue to Stanley park before climbing to views from Parkhill. We’ll loop back across the river through the community of Elbow Park. \nMeet Place:\nMeet outside Bell’s cafe\, free street parking in the area \nPost-Walk Coffee Stop (Optional):\nBell’s café or Comptoir by Francois
URL:https://www.fitfrog.ca/event/sandy-beach-stanley-park-the-elbow-river-pathway-parkhill-sw-winter-2024/
LOCATION:Bell’s Café\, 1515 34 Ave SW\, Calgary\, AB T2T 2B1
CATEGORIES:Calgary City Walk & Cafe
ATTACH;FMTTYPE=image/jpeg:https://www.fitfrog.ca/wp-content/uploads/2022/10/Sandy-Beach-Park-winter-river.jpg
END:VEVENT
BEGIN:VEVENT
DTSTART;TZID=America/Edmonton:20240109T090000
DTEND;TZID=America/Edmonton:20240109T103000
DTSTAMP:20260423T091608
CREATED:20231126T145828Z
LAST-MODIFIED:20231213T143933Z
UID:7020-1704790800-1704796200@www.fitfrog.ca
SUMMARY:Calgary Walk: Bridgeland & Nose Creek & Bow River Pathway\, NE
DESCRIPTION:Description:\nTraveling quiet tree-lined side streets past pop-bottle stucco homes we’ll climb to escarpment trails and enjoy fantastic city centre views from Tom Campbell’s Hill. You can expect a mix of narrow side trails\, stairs\, hills\, and sidewalk trekking. \nMeet Place:\nMeet outside Bridgeland Market. Lots of free parking on side streets or take transit – bus or Bridgeland LRT. \nPost-Walk Coffee Stop (Optional):\nPhil and Sebastien Café
URL:https://www.fitfrog.ca/event/calgary-walk-bridgeland-nose-creek-bow-river-pathway-ne/
LOCATION:Bridgeland Market\, NE\, 3X37+82 Calgary\, Alberta
CATEGORIES:Calgary City Walk & Cafe
ATTACH;FMTTYPE=image/jpeg:https://www.fitfrog.ca/wp-content/uploads/2023/12/IMG_9640-scaled.jpg
END:VEVENT
END:VCALENDAR