BEGIN:VCALENDAR
VERSION:2.0
PRODID:-//Fit Frog Adventures - ECPv6.15.20//NONSGML v1.0//EN
CALSCALE:GREGORIAN
METHOD:PUBLISH
X-WR-CALNAME:Fit Frog Adventures
X-ORIGINAL-URL:https://www.fitfrog.ca
X-WR-CALDESC:Events for Fit Frog Adventures
REFRESH-INTERVAL;VALUE=DURATION:PT1H
X-Robots-Tag:noindex
X-PUBLISHED-TTL:PT1H
BEGIN:VTIMEZONE
TZID:America/Edmonton
BEGIN:DAYLIGHT
TZOFFSETFROM:-0700
TZOFFSETTO:-0600
TZNAME:MDT
DTSTART:20230312T090000
END:DAYLIGHT
BEGIN:STANDARD
TZOFFSETFROM:-0600
TZOFFSETTO:-0700
TZNAME:MST
DTSTART:20231105T080000
END:STANDARD
BEGIN:DAYLIGHT
TZOFFSETFROM:-0700
TZOFFSETTO:-0600
TZNAME:MDT
DTSTART:20240310T090000
END:DAYLIGHT
BEGIN:STANDARD
TZOFFSETFROM:-0600
TZOFFSETTO:-0700
TZNAME:MST
DTSTART:20241103T080000
END:STANDARD
BEGIN:DAYLIGHT
TZOFFSETFROM:-0700
TZOFFSETTO:-0600
TZNAME:MDT
DTSTART:20250309T090000
END:DAYLIGHT
BEGIN:STANDARD
TZOFFSETFROM:-0600
TZOFFSETTO:-0700
TZNAME:MST
DTSTART:20251102T080000
END:STANDARD
END:VTIMEZONE
BEGIN:VEVENT
DTSTART;TZID=America/Edmonton:20240203T090000
DTEND;TZID=America/Edmonton:20240203T103000
DTSTAMP:20260423T045714
CREATED:20231126T152903Z
LAST-MODIFIED:20231213T141714Z
UID:7037-1706950800-1706956200@www.fitfrog.ca
SUMMARY:Calgary Walk: Glenmore Reservoir & Weaslehead\, SW
DESCRIPTION:Description:\nThis walk starts in North Glenmore Park and follows the paved path along the top of the escarpment\, looking west to the Rockies. We’ll soon enter the Weaselhead trail network\, a mix of dirt trails and boardwalks. This is a full-on nature immersion.  \nMeet Place:\nMeet at the Weaselhead Parking Lot\, 37 St. and 66 Ave.\, SW \nBathrooms:\nThere are port-a-potty bathrooms at the trailhead. \nPost-Walk Coffee Stop (Optional):\nCafé du Parc
URL:https://www.fitfrog.ca/event/calgary-walk-glenmore-reservoir-weaslehead-sw/
LOCATION:Weaselhead parking\, Weaselhead\, North Glenmore Park\,6615 37 St SW\, Calgary\, AB T3E 5M9
CATEGORIES:Calgary City Walk & Cafe
ATTACH;FMTTYPE=image/jpeg:https://www.fitfrog.ca/wp-content/uploads/2021/05/Weaselhead-winter-copy.jpg
END:VEVENT
BEGIN:VEVENT
DTSTART;TZID=America/Edmonton:20240213T090000
DTEND;TZID=America/Edmonton:20240213T103000
DTSTAMP:20260423T045714
CREATED:20231126T153816Z
LAST-MODIFIED:20231213T141643Z
UID:7043-1707814800-1707820200@www.fitfrog.ca
SUMMARY:Calgary Walk: Bowmont Park WEST END and Waterfall Valley\, NW
DESCRIPTION:Description:\nWe’ll hike 6-7 km along a mix of paved pathways into the rolling trails of Bowmont Natural Environment Park into Waterfall Valley. \nMeet Place:\nMeet at Bowmont Park WEST parking lot\, 87 St\, NW \nBathrooms:\nNo \nPost-Walk Coffee Stop (Optional):\nCadence Café
URL:https://www.fitfrog.ca/event/calgary-walk-bowmont-park-west-end-and-waterfall-valley-nw/
LOCATION:Bowmont WEST End\, NW\, 5550 51 Avenue Northwest\, Calgary\, AB\, Canada
CATEGORIES:Calgary City Walk & Cafe
ATTACH;FMTTYPE=image/jpeg:https://www.fitfrog.ca/wp-content/uploads/2021/10/Bowmont-Waterfall-Valley-Frozen-waterfall-copy.jpg
END:VEVENT
BEGIN:VEVENT
DTSTART;TZID=America/Edmonton:20240224T090000
DTEND;TZID=America/Edmonton:20240224T103000
DTSTAMP:20260423T045714
CREATED:20231128T021806Z
LAST-MODIFIED:20240220T142806Z
UID:7073-1708765200-1708770600@www.fitfrog.ca
SUMMARY:City Walk: Nose Hill Park\, Brisbois\, NW
DESCRIPTION:Description:\nThis hill trek leads to panoramic views of the entire city of Calgary. Wildlife\, wildflowers\, and sweeping green grasses make it hard to believe all this is in the heart of the city. \nMeet Place:\nPark in an official Nose Hill Parking lot on John Laurie Boulevard at Brisbois Dr\, NW \nBathroom:\nSeasonal bathroom at the trailhead: Open late May – October (Thanksgiving) \nPost-Walk Coffee Stop (Optional):\nFriends Cafe
URL:https://www.fitfrog.ca/event/city-walk-nose-hill-park-brisbois-nw/
LOCATION:Nose Hill Park\, Brisbois and John Laurie Blvd. Parking\, 4V3F+G9 Calgary\, Alberta
CATEGORIES:Calgary City Walk & Cafe
ATTACH;FMTTYPE=image/jpeg:https://www.fitfrog.ca/wp-content/uploads/2024/01/Nose-Hill-sunrise-high-res-scaled.jpg
END:VEVENT
END:VCALENDAR