BEGIN:VCALENDAR
VERSION:2.0
PRODID:-//Fit Frog Adventures - ECPv6.15.20//NONSGML v1.0//EN
CALSCALE:GREGORIAN
METHOD:PUBLISH
X-ORIGINAL-URL:https://www.fitfrog.ca
X-WR-CALDESC:Events for Fit Frog Adventures
REFRESH-INTERVAL;VALUE=DURATION:PT1H
X-Robots-Tag:noindex
X-PUBLISHED-TTL:PT1H
BEGIN:VTIMEZONE
TZID:America/Edmonton
BEGIN:DAYLIGHT
TZOFFSETFROM:-0700
TZOFFSETTO:-0600
TZNAME:MDT
DTSTART:20230312T090000
END:DAYLIGHT
BEGIN:STANDARD
TZOFFSETFROM:-0600
TZOFFSETTO:-0700
TZNAME:MST
DTSTART:20231105T080000
END:STANDARD
BEGIN:DAYLIGHT
TZOFFSETFROM:-0700
TZOFFSETTO:-0600
TZNAME:MDT
DTSTART:20240310T090000
END:DAYLIGHT
BEGIN:STANDARD
TZOFFSETFROM:-0600
TZOFFSETTO:-0700
TZNAME:MST
DTSTART:20241103T080000
END:STANDARD
BEGIN:DAYLIGHT
TZOFFSETFROM:-0700
TZOFFSETTO:-0600
TZNAME:MDT
DTSTART:20250309T090000
END:DAYLIGHT
BEGIN:STANDARD
TZOFFSETFROM:-0600
TZOFFSETTO:-0700
TZNAME:MST
DTSTART:20251102T080000
END:STANDARD
END:VTIMEZONE
BEGIN:VEVENT
DTSTART;TZID=America/Edmonton:20240416T090000
DTEND;TZID=America/Edmonton:20240416T103000
DTSTAMP:20260423T021453
CREATED:20240309T205636Z
LAST-MODIFIED:20240415T184050Z
UID:7394-1713258000-1713263400@www.fitfrog.ca
SUMMARY:Calgary Walk: Marda Loop\, Altadore\, Elbow River Pathway\, SW
DESCRIPTION:Description:\nWe’ll navigate side stress through Elbow Park and along the Elbow River Pathway before looping back for a big views finish from Britannia and River Park. \nMeet Place:\nSouth Calgary Community Association \nBathroom:\nport-a-potty \nPost-Walk Coffee Stop (Optional):\nLe Comptoir by Francois
URL:https://www.fitfrog.ca/event/calgary-walk-marda-loop-altadore-elbow-river-pathway-sw/
LOCATION:South Calgary Community Association\, 3130 16 St SW\, Calgary\, AB T2T 4G7
CATEGORIES:Calgary City Walk & Cafe
ATTACH;FMTTYPE=image/jpeg:https://www.fitfrog.ca/wp-content/uploads/2021/03/River-Park-Spring-Lilacs-1.jpg
END:VEVENT
BEGIN:VEVENT
DTSTART;TZID=America/Edmonton:20240423T090000
DTEND;TZID=America/Edmonton:20240423T103000
DTSTAMP:20260423T021453
CREATED:20240110T143058Z
LAST-MODIFIED:20240417T234020Z
UID:7233-1713862800-1713868200@www.fitfrog.ca
SUMMARY:Calgary Walk- Nose Hill Park\, Brisbois\, NW
DESCRIPTION:Description:\nLoad up your backpack and join us on this hiking training session where we’ll climb the stairs to the Nose Hill Plateau\, Calgary’s highest point where panoramic views are your reward\, and then continue on single-track trails that dip into aspen-filled coulees\, past spring wildflowers to Rockies views. \nWant to join us?\nScroll down to the bottom for the options \nMeet Place:\nPark in an official Nose Hill Parking lot on John Laurie Blvd. at Brisbois \nBathroom:\nYes
URL:https://www.fitfrog.ca/event/calgary-walk-nose-hill-park-brisbois-nw-april-2024/
LOCATION:Nose Hill Park\, Brisbois and John Laurie Blvd. Parking\, 4V3F+G9 Calgary\, Alberta
CATEGORIES:Calgary City Walk & Cafe
ATTACH;FMTTYPE=image/jpeg:https://www.fitfrog.ca/wp-content/uploads/2022/10/Crocuses-on-Nose-HIll-small.jpeg
END:VEVENT
END:VCALENDAR