BEGIN:VCALENDAR
VERSION:2.0
PRODID:-//Fit Frog Adventures - ECPv6.15.20//NONSGML v1.0//EN
CALSCALE:GREGORIAN
METHOD:PUBLISH
X-WR-CALNAME:Fit Frog Adventures
X-ORIGINAL-URL:https://www.fitfrog.ca
X-WR-CALDESC:Events for Fit Frog Adventures
REFRESH-INTERVAL;VALUE=DURATION:PT1H
X-Robots-Tag:noindex
X-PUBLISHED-TTL:PT1H
BEGIN:VTIMEZONE
TZID:America/Edmonton
BEGIN:DAYLIGHT
TZOFFSETFROM:-0700
TZOFFSETTO:-0600
TZNAME:MDT
DTSTART:20230312T090000
END:DAYLIGHT
BEGIN:STANDARD
TZOFFSETFROM:-0600
TZOFFSETTO:-0700
TZNAME:MST
DTSTART:20231105T080000
END:STANDARD
BEGIN:DAYLIGHT
TZOFFSETFROM:-0700
TZOFFSETTO:-0600
TZNAME:MDT
DTSTART:20240310T090000
END:DAYLIGHT
BEGIN:STANDARD
TZOFFSETFROM:-0600
TZOFFSETTO:-0700
TZNAME:MST
DTSTART:20241103T080000
END:STANDARD
BEGIN:DAYLIGHT
TZOFFSETFROM:-0700
TZOFFSETTO:-0600
TZNAME:MDT
DTSTART:20250309T090000
END:DAYLIGHT
BEGIN:STANDARD
TZOFFSETFROM:-0600
TZOFFSETTO:-0700
TZNAME:MST
DTSTART:20251102T080000
END:STANDARD
END:VTIMEZONE
BEGIN:VEVENT
DTSTART;TZID=America/Edmonton:20240702T090000
DTEND;TZID=America/Edmonton:20240702T103000
DTSTAMP:20260422T220016
CREATED:20240220T141759Z
LAST-MODIFIED:20240417T234558Z
UID:7377-1719910800-1719916200@www.fitfrog.ca
SUMMARY:Calgary Walk: Patterson\, Cougar Ridge\, Paskapoo Slopes\, SW
DESCRIPTION:Description:\nOffering unobstructed views of the Bow River Valley and the prairies beyond\, this urban walkabout offers the perfect vantage point to get the lay of the land in Calgary. Navigating a mix of forested single-track trails\, quiet side streets\, and paved pathways\, walkers soak up spectacular vistas and we’ll check out the Buddist Stuppa. \nWant to join us?\nScroll down to the bottom for the options \nMeet Place:\nWe’ll meet at the intersection of 77 St and Cougar Ridge Drive. This is near the Calgary International French School. Free street parking. \nBathroom:\nNone at the walk start. \nPost-Walk Coffee Stop (Optional)\nGood Earth Cafe Strathcona Square
URL:https://www.fitfrog.ca/event/calgary-walk-patterson-cougar-ridge-paskapoo-slopes-sw/
LOCATION:Cougar Ridge Meet place\, 3R92+4M Calgary\, Alberta
CATEGORIES:Calgary City Walk & Cafe
ATTACH;FMTTYPE=image/jpeg:https://www.fitfrog.ca/wp-content/uploads/2022/02/Patterson-pathway-Calgary.jpg
END:VEVENT
BEGIN:VEVENT
DTSTART;TZID=America/Edmonton:20240730T090000
DTEND;TZID=America/Edmonton:20240730T103000
DTSTAMP:20260422T220016
CREATED:20240628T125146Z
LAST-MODIFIED:20240701T151545Z
UID:7622-1722330000-1722335400@www.fitfrog.ca
SUMMARY:Calgary Walk: Riley Park\, Sunnyside Gardens\, McHugh Bluffs & the Peace Bridge\, NW
DESCRIPTION:Description:\nWe’ll zigzag our way from parkland to ridge-top\, past Sunnyside garage art to big views from Crescent Heights. Views of the Rockies\, Calgary’s downtown core\, and the Bow River are the treats on this outing. We’ll loop back along the Bow River Pathway and over the Peace Bridge. \nMeet Place:\nMeet at the official parking lot for Riley Park on 8 Avenue\, just east of 12 Street\, NW. It is at the VERY end of 8 Ave and has free 3-hour parking. \nBathrooms:\nYes (Late May- mid-October) \nPost-Walk Coffee Stop (Optional):\nVendome Café or other spot along Kensington Raod or 10 St
URL:https://www.fitfrog.ca/event/calgary-walk-riley-park-sunnyside-gardens-mchugh-bluffs-the-peace-bridge-nw/
LOCATION:Riley Park official parking lot\, NW\, 30 8 Ave NW\, Calgary\, AB T2N
CATEGORIES:Calgary City Walk & Cafe
ATTACH;FMTTYPE=image/jpeg:https://www.fitfrog.ca/wp-content/uploads/2022/08/House-Sunnyside-bike-on-roof-scaled.jpg
END:VEVENT
END:VCALENDAR