BEGIN:VCALENDAR
VERSION:2.0
PRODID:-//Fit Frog Adventures - ECPv6.15.20//NONSGML v1.0//EN
CALSCALE:GREGORIAN
METHOD:PUBLISH
X-WR-CALNAME:Fit Frog Adventures
X-ORIGINAL-URL:https://www.fitfrog.ca
X-WR-CALDESC:Events for Fit Frog Adventures
REFRESH-INTERVAL;VALUE=DURATION:PT1H
X-Robots-Tag:noindex
X-PUBLISHED-TTL:PT1H
BEGIN:VTIMEZONE
TZID:America/Edmonton
BEGIN:DAYLIGHT
TZOFFSETFROM:-0700
TZOFFSETTO:-0600
TZNAME:MDT
DTSTART:20230312T090000
END:DAYLIGHT
BEGIN:STANDARD
TZOFFSETFROM:-0600
TZOFFSETTO:-0700
TZNAME:MST
DTSTART:20231105T080000
END:STANDARD
BEGIN:DAYLIGHT
TZOFFSETFROM:-0700
TZOFFSETTO:-0600
TZNAME:MDT
DTSTART:20240310T090000
END:DAYLIGHT
BEGIN:STANDARD
TZOFFSETFROM:-0600
TZOFFSETTO:-0700
TZNAME:MST
DTSTART:20241103T080000
END:STANDARD
BEGIN:DAYLIGHT
TZOFFSETFROM:-0700
TZOFFSETTO:-0600
TZNAME:MDT
DTSTART:20250309T090000
END:DAYLIGHT
BEGIN:STANDARD
TZOFFSETFROM:-0600
TZOFFSETTO:-0700
TZNAME:MST
DTSTART:20251102T080000
END:STANDARD
END:VTIMEZONE
BEGIN:VEVENT
DTSTART;TZID=America/Edmonton:20240806T090000
DTEND;TZID=America/Edmonton:20240806T103000
DTSTAMP:20260422T191730
CREATED:20240423T133314Z
LAST-MODIFIED:20240509T112054Z
UID:7539-1722934800-1722940200@www.fitfrog.ca
SUMMARY:Calgary Walk: Nose Hill Park wildflowers\, Edgemont\, NW
DESCRIPTION:Description:\nThis hill trek leads to panoramic views of the entire city of Calgary. Wildlife\, wildflowers\, and sweeping green grasses make it hard to believe all this is in the heart of the city. This hike is part of the Spring session of hikes with Club Fit Frog. \nWant to join us?\nScroll down to the bottom for the options \nMeet Place:\nPark in an official Nose Hill Parking lot on Shaganappi Trail at Edgemont Blvd.\, NW \nBathroom:\nYes \nPost-Walk Coffee Stop (Optional):\nFriends Café
URL:https://www.fitfrog.ca/event/calgary-walk-nose-hill-park-wildflowers-edgemont-nw/
LOCATION:Nose Hill Edgemont Blvd & Shaganappi\, NW\, 4VG8+9Q Calgary\, Alberta
CATEGORIES:Calgary City Walk & Cafe
ATTACH;FMTTYPE=image/jpeg:https://www.fitfrog.ca/wp-content/uploads/2024/04/Nose-Hill-lupins-small.jpeg
END:VEVENT
BEGIN:VEVENT
DTSTART;TZID=America/Edmonton:20240820T090000
DTEND;TZID=America/Edmonton:20240820T103000
DTSTAMP:20260422T191730
CREATED:20240509T110003Z
LAST-MODIFIED:20240509T110246Z
UID:7556-1724144400-1724149800@www.fitfrog.ca
SUMMARY:Calgary Walk: Briar Hill\, West Hillhurst\, Hounsfield Heights\, Bow River\, NW
DESCRIPTION:Description:\nWe’ll walk about 6-7 km through green spaces mixed with escarpment viewpoints alongside impressive homes. Creativity and quirkiness provide interest! \nMeet Place:\nMeet outside Made by Marcus Ice cream shop. \nBathroom:\nNone at the walk start. \nPost-Walk Coffee Stop (Optional):\nPocket Coffee
URL:https://www.fitfrog.ca/event/calgary-walk-briar-hill-west-hillhurst-hounsfield-heights-bow-river-nw/
LOCATION:Made by Marcus\, Hillhurst\, Made by Marcus\, 221 19 St NW\, Calgary\, AB T2N 2H9
CATEGORIES:Calgary City Walk & Cafe
ATTACH;FMTTYPE=image/jpeg:https://www.fitfrog.ca/wp-content/uploads/2021/03/Briar-HIll-off-leash-1.jpg
END:VEVENT
BEGIN:VEVENT
DTSTART;TZID=America/Edmonton:20240827T090000
DTEND;TZID=America/Edmonton:20240827T103000
DTSTAMP:20260422T191730
CREATED:20240819T233358Z
LAST-MODIFIED:20240823T195308Z
UID:7659-1724749200-1724754600@www.fitfrog.ca
SUMMARY:Calgary Walk: Glenmore Reservoir & Weaslehead\, SW
DESCRIPTION:Description:\nThis walk starts in North Glenmore Park and follows the paved path along the top of the escarpment\, looking west to the Rockies. We’ll soon enter the Weaselhead trail network\, a mix of dirt trails and boardwalks. This is a full-on nature immersion.  \nMeet Place:\nMeet at the Weaselhead Parking Lot\, 37 St. and 66 Ave.\, SW \nBathrooms:\nThere are port-a-potty bathrooms at the trailhead. \nPost-Walk Coffee Stop (Optional):\nCafé du Parc in North Glenmore Park
URL:https://www.fitfrog.ca/event/calgary-walk-glenmore-reservoir-weaslehead-sw-2/
LOCATION:Weaselhead parking\, Weaselhead\, North Glenmore Park\,6615 37 St SW\, Calgary\, AB T3E 5M9
CATEGORIES:Calgary City Walk & Cafe
ATTACH;FMTTYPE=image/jpeg:https://www.fitfrog.ca/wp-content/uploads/2024/02/North-Glenmore-park-scaled.jpg
END:VEVENT
END:VCALENDAR