BEGIN:VCALENDAR
VERSION:2.0
PRODID:-//Fit Frog Adventures - ECPv6.15.20//NONSGML v1.0//EN
CALSCALE:GREGORIAN
METHOD:PUBLISH
X-ORIGINAL-URL:https://www.fitfrog.ca
X-WR-CALDESC:Events for Fit Frog Adventures
REFRESH-INTERVAL;VALUE=DURATION:PT1H
X-Robots-Tag:noindex
X-PUBLISHED-TTL:PT1H
BEGIN:VTIMEZONE
TZID:America/Edmonton
BEGIN:DAYLIGHT
TZOFFSETFROM:-0700
TZOFFSETTO:-0600
TZNAME:MDT
DTSTART:20230312T090000
END:DAYLIGHT
BEGIN:STANDARD
TZOFFSETFROM:-0600
TZOFFSETTO:-0700
TZNAME:MST
DTSTART:20231105T080000
END:STANDARD
BEGIN:DAYLIGHT
TZOFFSETFROM:-0700
TZOFFSETTO:-0600
TZNAME:MDT
DTSTART:20240310T090000
END:DAYLIGHT
BEGIN:STANDARD
TZOFFSETFROM:-0600
TZOFFSETTO:-0700
TZNAME:MST
DTSTART:20241103T080000
END:STANDARD
BEGIN:DAYLIGHT
TZOFFSETFROM:-0700
TZOFFSETTO:-0600
TZNAME:MDT
DTSTART:20250309T090000
END:DAYLIGHT
BEGIN:STANDARD
TZOFFSETFROM:-0600
TZOFFSETTO:-0700
TZNAME:MST
DTSTART:20251102T080000
END:STANDARD
END:VTIMEZONE
BEGIN:VEVENT
DTSTART;TZID=America/Edmonton:20240903T090000
DTEND;TZID=America/Edmonton:20240903T103000
DTSTAMP:20260422T175829
CREATED:20240130T204734Z
LAST-MODIFIED:20240813T205306Z
UID:7305-1725354000-1725359400@www.fitfrog.ca
SUMMARY:Calgary Walk: Nose Hill Park\, Berkley Gate\, NW
DESCRIPTION:Description:\nThis urban walk leads to panoramic views of the entire city of Calgary from Calgary’s highest point. Nose Hill Park is 11 square km of sweeping grasses\, aspen-filled coulees\, wildlife\, and colourful wildflowers from Spring through Fall. \nMeet Place:\nPark in an official Nose Hill Parking lot on 14 St at Berkley Gate\, NW \nBathroom:\nyes \n\n 
URL:https://www.fitfrog.ca/event/calgary-walk-nose-hill-park-berkley-gate-nw/
LOCATION:Nose Hill\, 14 St and Berkley Gate\, NW\, 4WG2+3F Calgary\, Alberta
CATEGORIES:Calgary City Walk & Cafe
ATTACH;FMTTYPE=image/jpeg:https://www.fitfrog.ca/wp-content/uploads/2024/01/Nose-Hill-view-of-City-sunrise-Fall-scaled.jpg
END:VEVENT
BEGIN:VEVENT
DTSTART;TZID=America/Edmonton:20240908T090000
DTEND;TZID=America/Edmonton:20240908T103000
DTSTAMP:20260422T175829
CREATED:20240830T143120Z
LAST-MODIFIED:20240905T222857Z
UID:7675-1725786000-1725791400@www.fitfrog.ca
SUMMARY:Calgary Walk: Inglewood & East Village RiverWalk\, SE
DESCRIPTION:Description:\nExplore Calgary’s eclectic neighbourhoods! This relatively flat hike starts with a climb to a spectacular view of the Saddledome and the downtown core. Historic neighbourhoods\, the Bow River\, and some funky window shopping are all part of this walk. \nWant to join us?\nScroll down to the bottom for the options \nMeet Place:\nMeet at the intersection of 17 Ave and 9 St.\, SE. There is free street parking. \nPost-Walk Coffee Stop (Optional):\nApprentice Café
URL:https://www.fitfrog.ca/event/calgary-walk-inglewood-east-village-riverwalk-se/
LOCATION:Ramsay Parking\, 9 St and 17 Ave\, SE\, 920 17 Ave SE\, Calgary\, AB T2G 1J7
CATEGORIES:Calgary City Walk & Cafe
ATTACH;FMTTYPE=image/jpeg:https://www.fitfrog.ca/wp-content/uploads/2022/09/Ramsay-house-small.jpg
END:VEVENT
BEGIN:VEVENT
DTSTART;TZID=America/Edmonton:20240911T090000
DTEND;TZID=America/Edmonton:20240911T103000
DTSTAMP:20260422T175829
CREATED:20231029T175704Z
LAST-MODIFIED:20240905T222350Z
UID:6902-1726045200-1726050600@www.fitfrog.ca
SUMMARY:Calgary Walk: Bowmont Park WEST END and Waterfall Valley\, NW
DESCRIPTION:Description:\nWe’ll hike 6-7 km along a mix of paved pathways into the rolling trails of Bowmont Natural Environment Park into Waterfall Valley. \nMeet Place:\nMeet at Bowmont Park WEST parking lot\, 85 St\, NW just north of Bearspaw Dam Road (follow the map below as there is another parking lot for the off-leash and we are not meeting at that one) \nBathrooms:\nNo \nPost-Walk Coffee Stop (Optional):\nCadence Café \n 
URL:https://www.fitfrog.ca/event/calgary-walk-bowmont-park-west-and-waterfall-valley-nw/
LOCATION:Bowmont WEST End\, NW\, 5550 51 Avenue Northwest\, Calgary\, AB\, Canada
CATEGORIES:Calgary City Walk & Cafe
ATTACH;FMTTYPE=image/jpeg:https://www.fitfrog.ca/wp-content/uploads/2021/03/Bowmont-West-Calgary-walk.jpg
END:VEVENT
BEGIN:VEVENT
DTSTART;TZID=America/Edmonton:20240917T090000
DTEND;TZID=America/Edmonton:20240917T103000
DTSTAMP:20260422T175829
CREATED:20240416T143047Z
LAST-MODIFIED:20240829T172858Z
UID:7499-1726563600-1726569000@www.fitfrog.ca
SUMMARY:Calgary Walk: Bridgeland & the River Walk\, NE/ SE
DESCRIPTION:Description:\nTraveling quiet tree-lined side streets past pop-bottle stucco homes we’ll climb to escarpment trails and enjoy fantastic city centre views from Tom Campbell’s Hill. You can expect a mix of narrow side trails\, stairs\, hills\, and sidewalk trekking. \nMeet Place:\nMeet outside Bridgeland Market. Lots of free parking on side streets or take transit – bus or Bridgeland LRT. \nPost-Walk Coffee Stop (Optional):\nPhil and Sebastien Café
URL:https://www.fitfrog.ca/event/calgary-walk-bridgeland-the-river-walk-ne-se-summer-2024/
LOCATION:Bridgeland Market\, NE\, 3X37+82 Calgary\, Alberta
CATEGORIES:Calgary City Walk & Cafe
ATTACH;FMTTYPE=image/jpeg:https://www.fitfrog.ca/wp-content/uploads/2024/02/Bridgeland-view-summer-downtown-scaled.jpg
END:VEVENT
BEGIN:VEVENT
DTSTART;TZID=America/Edmonton:20240921T090000
DTEND;TZID=America/Edmonton:20240921T103000
DTSTAMP:20260422T175829
CREATED:20240906T214849Z
LAST-MODIFIED:20240909T211725Z
UID:7683-1726909200-1726914600@www.fitfrog.ca
SUMMARY:Calgary Walk: Jackrabbit Trail\, SW
DESCRIPTION:Description:\nWe’ll follow the Jackrabbit Trail as it skirts the Glenmore reservoir along a hidden wooded pathway with rolling hills. \nMeet Place:\nPark in the large official parking lot for South Glenmore Park at the intersection of 90th Avenue and 24th Street\, SW. Leave 90 Avenue and turn left to get to the public parking area. We’ll meet near the large playground and splash park. \nBathroom:\nBathroom at trailhead \nPost-Walk Coffee Stop (Optional):\nGood Earth Café
URL:https://www.fitfrog.ca/event/calgary-walk-jackrabbit-trail-sw-fall-2024/
LOCATION:South Glenmore Park\, Jackrabbit Trail\, XVFH+MF Calgary\, Alberta
CATEGORIES:Calgary City Walk & Cafe
ATTACH;FMTTYPE=image/jpeg:https://www.fitfrog.ca/wp-content/uploads/2021/03/Jackrabbit-Trail-summer-walkers.jpg
END:VEVENT
BEGIN:VEVENT
DTSTART;TZID=America/Edmonton:20240924T090000
DTEND;TZID=America/Edmonton:20240924T103000
DTSTAMP:20260422T175829
CREATED:20240823T195934Z
LAST-MODIFIED:20240919T164321Z
UID:7666-1727168400-1727173800@www.fitfrog.ca
SUMMARY:Calgary Walk: Altadore\, Sandy Beach\,  the Elbow River Pathway\, SW
DESCRIPTION:Description:\nWe follow the Elbow River through Sandy Beach Park along Riverdale Avenue to Stanley park before climbing to views from Parkhill. We’ll loop back across the river through the community of Elbow Park. \nMeet Place:\nMeet outside Neighbour Coffee \nPost-Walk Coffee Stop (Optional):\nNeighbour Coffee or Bell’s café
URL:https://www.fitfrog.ca/event/calgary-walk-altadore-sandy-beach-the-elbow-river-pathway-sw/
LOCATION:Neighbour Coffee\, Altadore\, 2V9X+8V Calgary\, Alberta
CATEGORIES:Calgary City Walk & Cafe
ATTACH;FMTTYPE=image/jpeg:https://www.fitfrog.ca/wp-content/uploads/2021/06/Britannia-Slopes-Fall.jpg
END:VEVENT
END:VCALENDAR