BEGIN:VCALENDAR
VERSION:2.0
PRODID:-//Fit Frog Adventures - ECPv6.15.20//NONSGML v1.0//EN
CALSCALE:GREGORIAN
METHOD:PUBLISH
X-WR-CALNAME:Fit Frog Adventures
X-ORIGINAL-URL:https://www.fitfrog.ca
X-WR-CALDESC:Events for Fit Frog Adventures
REFRESH-INTERVAL;VALUE=DURATION:PT1H
X-Robots-Tag:noindex
X-PUBLISHED-TTL:PT1H
BEGIN:VTIMEZONE
TZID:America/Edmonton
BEGIN:DAYLIGHT
TZOFFSETFROM:-0700
TZOFFSETTO:-0600
TZNAME:MDT
DTSTART:20230312T090000
END:DAYLIGHT
BEGIN:STANDARD
TZOFFSETFROM:-0600
TZOFFSETTO:-0700
TZNAME:MST
DTSTART:20231105T080000
END:STANDARD
BEGIN:DAYLIGHT
TZOFFSETFROM:-0700
TZOFFSETTO:-0600
TZNAME:MDT
DTSTART:20240310T090000
END:DAYLIGHT
BEGIN:STANDARD
TZOFFSETFROM:-0600
TZOFFSETTO:-0700
TZNAME:MST
DTSTART:20241103T080000
END:STANDARD
BEGIN:DAYLIGHT
TZOFFSETFROM:-0700
TZOFFSETTO:-0600
TZNAME:MDT
DTSTART:20250309T090000
END:DAYLIGHT
BEGIN:STANDARD
TZOFFSETFROM:-0600
TZOFFSETTO:-0700
TZNAME:MST
DTSTART:20251102T080000
END:STANDARD
END:VTIMEZONE
BEGIN:VEVENT
DTSTART;TZID=America/Edmonton:20241109T090000
DTEND;TZID=America/Edmonton:20241109T103000
DTSTAMP:20260422T135104
CREATED:20240924T124427Z
LAST-MODIFIED:20240930T120547Z
UID:7732-1731142800-1731148200@www.fitfrog.ca
SUMMARY:Calgary Walk: Bridgeland & the River Walk\, NE/ SE
DESCRIPTION:Description:\nTraveling quiet tree-lined side streets past pop-bottle stucco homes we’ll climb to escarpment trails and enjoy fantastic city centre views from Tom Campbell’s Hill. You can expect a mix of narrow side trails\, stairs\, hills\, and sidewalk trekking. \nMeet Place:\nMeet outside Bridgeland Market. Lots of free parking on side streets or take transit – bus or Bridgeland LRT. \nPost-Walk Coffee Stop (Optional):\nPhil and Sebastien Café
URL:https://www.fitfrog.ca/event/calgary-walk-bridgeland-the-river-walk-ne-se-late-fall-2024/
LOCATION:Bridgeland Market\, NE\, 3X37+82 Calgary\, Alberta
CATEGORIES:Calgary City Walk & Cafe
ATTACH;FMTTYPE=image/jpeg:https://www.fitfrog.ca/wp-content/uploads/2024/02/Bridgeland-house-with-doppelganger-mini-house-scaled.jpg
END:VEVENT
BEGIN:VEVENT
DTSTART;TZID=America/Edmonton:20241113T090000
DTEND;TZID=America/Edmonton:20241113T103000
DTSTAMP:20260422T135104
CREATED:20240930T122123Z
LAST-MODIFIED:20241015T123851Z
UID:7762-1731488400-1731493800@www.fitfrog.ca
SUMMARY:Calgary Walk: Briar Hill\, Hounsfield Heights\, West Hillhurst and Bow River\, NW
DESCRIPTION:Description:\nWe’ll walk through green spaces mixed with escarpment viewpoints alongside impressive homes. Creativity and quirkiness provide interest! \nMeet Place:\nMeet outside Made by Marcus Ice cream shop. \nBathroom:\nNone at the walk start. \nPost-Walk Coffee Stop (Optional):\nPocket Coffee
URL:https://www.fitfrog.ca/event/calgary-walk-briar-hill-hounsfield-heights-west-hillhurst-and-bow-river-nw/
LOCATION:Made by Marcus\, Hillhurst\, Made by Marcus\, 221 19 St NW\, Calgary\, AB T2N 2H9
CATEGORIES:Calgary City Walk & Cafe
ATTACH;FMTTYPE=image/jpeg:https://www.fitfrog.ca/wp-content/uploads/2021/03/Briar-HIll-off-leash-1.jpg
END:VEVENT
BEGIN:VEVENT
DTSTART;TZID=America/Edmonton:20241119T090000
DTEND;TZID=America/Edmonton:20241119T103000
DTSTAMP:20260422T135104
CREATED:20240823T195542Z
LAST-MODIFIED:20241008T200115Z
UID:7664-1732006800-1732012200@www.fitfrog.ca
SUMMARY:Calgary walk: Bowmont Park EAST End\, NW
DESCRIPTION:Description:\nA flat start on paved paths follows the Bow River. The rolling terrain becomes earthy and hilly as you climb to fantastic views of the Rockies and river valley and into Waterfall Valley. \nMeet Place:\nWe meet at the official parking lot for Bowmont Natural Environment Park\, NW Calgary. The east end parking lot is on 52 St.\, NW\, just off Home Road\, NW. Turn south onto 52 St.\, (one-way down-hill) and the first left is the Bowmont parking area. \nBathroom:\nNo \nPost-Walk Coffee Stop (Optional):\nCadence Coffee
URL:https://www.fitfrog.ca/event/calgary-walk-bowmont-park-east-end-nw/
LOCATION:Bowmont EAST End\, NW\, 3RJM+5P Calgary\, Alberta
CATEGORIES:Calgary City Walk & Cafe
ATTACH;FMTTYPE=image/jpeg:https://www.fitfrog.ca/wp-content/uploads/2021/03/Bowmont-Park-east-image-1.jpg
END:VEVENT
BEGIN:VEVENT
DTSTART;TZID=America/Edmonton:20241126T090000
DTEND;TZID=America/Edmonton:20241126T103000
DTSTAMP:20260422T135104
CREATED:20240924T124905Z
LAST-MODIFIED:20240930T121958Z
UID:7734-1732611600-1732617000@www.fitfrog.ca
SUMMARY:Calgary Walk: Fish Creek Park\,  Bow Valley Ranch\, SE
DESCRIPTION:Description:\nWe’ll walk through the east end of Fish Creek park to escarpment views from Parkland and then back to the valley and along Fish Creek. \nMeet Place:\nPark in an official Bow Valley Ranch Fish Creek Park parking lot on Bow Bottom Trail\, SE. Park in the first parking lot that you come to near the Visitor Centre. \nBathrooms:\nThere are bathrooms in the visitor centre at the start of the walk. \nPost-Walk Coffee Stop (Optional):\nItalian Centre Cafe
URL:https://www.fitfrog.ca/event/calgary-walk-fish-creek-park-bow-valley-ranch-se-fall-2024/
LOCATION:Bow Valley Ranch\, Fish Creek Park\, 15975 Bow Bottom Trail SE\, Calgary\, AB T2J 6T5
CATEGORIES:Calgary City Walk & Cafe
ATTACH;FMTTYPE=image/png:https://www.fitfrog.ca/wp-content/uploads/2022/01/Fish-Creek-Park-winter.png
END:VEVENT
END:VCALENDAR