BEGIN:VCALENDAR
VERSION:2.0
PRODID:-//Fit Frog Adventures - ECPv6.15.20//NONSGML v1.0//EN
CALSCALE:GREGORIAN
METHOD:PUBLISH
X-ORIGINAL-URL:https://www.fitfrog.ca
X-WR-CALDESC:Events for Fit Frog Adventures
REFRESH-INTERVAL;VALUE=DURATION:PT1H
X-Robots-Tag:noindex
X-PUBLISHED-TTL:PT1H
BEGIN:VTIMEZONE
TZID:America/Edmonton
BEGIN:DAYLIGHT
TZOFFSETFROM:-0700
TZOFFSETTO:-0600
TZNAME:MDT
DTSTART:20240310T090000
END:DAYLIGHT
BEGIN:STANDARD
TZOFFSETFROM:-0600
TZOFFSETTO:-0700
TZNAME:MST
DTSTART:20241103T080000
END:STANDARD
BEGIN:DAYLIGHT
TZOFFSETFROM:-0700
TZOFFSETTO:-0600
TZNAME:MDT
DTSTART:20250309T090000
END:DAYLIGHT
BEGIN:STANDARD
TZOFFSETFROM:-0600
TZOFFSETTO:-0700
TZNAME:MST
DTSTART:20251102T080000
END:STANDARD
BEGIN:DAYLIGHT
TZOFFSETFROM:-0700
TZOFFSETTO:-0600
TZNAME:MDT
DTSTART:20260308T090000
END:DAYLIGHT
BEGIN:STANDARD
TZOFFSETFROM:-0600
TZOFFSETTO:-0700
TZNAME:MST
DTSTART:20261101T080000
END:STANDARD
END:VTIMEZONE
BEGIN:VEVENT
DTSTART;TZID=America/Edmonton:20250105T090000
DTEND;TZID=America/Edmonton:20250105T103000
DTSTAMP:20260422T082953
CREATED:20241109T145604Z
LAST-MODIFIED:20241211T005716Z
UID:7874-1736067600-1736073000@www.fitfrog.ca
SUMMARY:Calgary Walk: Glenmore Reservoir & Weaslehead\, SW
DESCRIPTION:Description:\nThis walk starts in North Glenmore Park and follows the paved path along the top of the escarpment\, looking west to the Rockies. We’ll soon enter the Weaselhead trail network\, a mix of dirt trails and boardwalks. This is a full-on nature immersion.  \nMeet Place:\nMeet at the Weaselhead Parking Lot\, 37 St. and 66 Ave.\, SW \nBathrooms:\nThere are port-a-potty bathrooms at the trailhead. \nPost-Walk Coffee Stop (Optional):\nCafé de Parc
URL:https://www.fitfrog.ca/event/calgary-walk-glenmore-reservoir-weaslehead-sw-jan-2025/
LOCATION:Weaselhead parking\, Weaselhead\, North Glenmore Park\,6615 37 St SW\, Calgary\, AB T3E 5M9
CATEGORIES:Calgary City Walk & Cafe
ATTACH;FMTTYPE=image/jpeg:https://www.fitfrog.ca/wp-content/uploads/2021/05/Weaselhead-winter-copy.jpg
END:VEVENT
BEGIN:VEVENT
DTSTART;TZID=America/Edmonton:20250114T090000
DTEND;TZID=America/Edmonton:20250114T103000
DTSTAMP:20260422T082953
CREATED:20241127T193311Z
LAST-MODIFIED:20241218T142847Z
UID:7903-1736845200-1736850600@www.fitfrog.ca
SUMMARY:Calgary Walk: Bridgeland & Nose Creek & Bow River Pathway\, NE
DESCRIPTION:Description:\nTraveling quiet tree-lined side streets past pop-bottle stucco homes we’ll climb to escarpment trails and enjoy fantastic city centre views from Tom Campbell’s Hill. You can expect a mix of narrow side trails\, stairs\, hills\, and sidewalk trekking. \nMeet Place:\nMeet outside Bridgeland Market. Lots of free parking on side streets or take transit – bus or Bridgeland LRT. \nPost-Walk Coffee Stop (Optional):\nPhil and Sebastien Café
URL:https://www.fitfrog.ca/event/calgary-walk-bridgeland-nose-creek-bow-river-pathway-ne-2025/
LOCATION:Bridgeland Market\, NE\, 3X37+82 Calgary\, Alberta
CATEGORIES:Calgary City Walk & Cafe
ATTACH;FMTTYPE=image/jpeg:https://www.fitfrog.ca/wp-content/uploads/2024/02/Bridgeland-house-with-doppelganger-mini-house-scaled.jpg
END:VEVENT
BEGIN:VEVENT
DTSTART;TZID=America/Edmonton:20250129T090000
DTEND;TZID=America/Edmonton:20250129T103000
DTSTAMP:20260422T082953
CREATED:20241109T145748Z
LAST-MODIFIED:20241231T163651Z
UID:7877-1738141200-1738146600@www.fitfrog.ca
SUMMARY:Calgary Walk: Briar Hill\, Hounsfield Heights\, West Hillhurst and Bow River\, NW
DESCRIPTION:Description:\nWe’ll walk through green spaces mixed with escarpment viewpoints alongside impressive homes. Creativity and quirkiness provide interest! \nMeet Place:\nMeet outside Made by Marcus Ice cream shop. \nBathroom:\nNone at the walk start. \nPost-Walk Coffee Stop (Optional):\nPocket Coffee or another along 19 Street
URL:https://www.fitfrog.ca/event/calgary-walk-briar-hill-hounsfield-heights-west-hillhurst-and-bow-river-nw-jan-2025/
LOCATION:Made by Marcus\, Hillhurst\, Made by Marcus\, 221 19 St NW\, Calgary\, AB T2N 2H9
CATEGORIES:Calgary City Walk & Cafe
ATTACH;FMTTYPE=image/jpeg:https://www.fitfrog.ca/wp-content/uploads/2024/03/11-Be-Curious-not-Judgemental-mural-Hillhurst-scaled.jpg
END:VEVENT
END:VCALENDAR