BEGIN:VCALENDAR
VERSION:2.0
PRODID:-//Fit Frog Adventures - ECPv6.15.20//NONSGML v1.0//EN
CALSCALE:GREGORIAN
METHOD:PUBLISH
X-WR-CALNAME:Fit Frog Adventures
X-ORIGINAL-URL:https://www.fitfrog.ca
X-WR-CALDESC:Events for Fit Frog Adventures
REFRESH-INTERVAL;VALUE=DURATION:PT1H
X-Robots-Tag:noindex
X-PUBLISHED-TTL:PT1H
BEGIN:VTIMEZONE
TZID:America/Edmonton
BEGIN:DAYLIGHT
TZOFFSETFROM:-0700
TZOFFSETTO:-0600
TZNAME:MDT
DTSTART:20240310T090000
END:DAYLIGHT
BEGIN:STANDARD
TZOFFSETFROM:-0600
TZOFFSETTO:-0700
TZNAME:MST
DTSTART:20241103T080000
END:STANDARD
BEGIN:DAYLIGHT
TZOFFSETFROM:-0700
TZOFFSETTO:-0600
TZNAME:MDT
DTSTART:20250309T090000
END:DAYLIGHT
BEGIN:STANDARD
TZOFFSETFROM:-0600
TZOFFSETTO:-0700
TZNAME:MST
DTSTART:20251102T080000
END:STANDARD
BEGIN:DAYLIGHT
TZOFFSETFROM:-0700
TZOFFSETTO:-0600
TZNAME:MDT
DTSTART:20260308T090000
END:DAYLIGHT
BEGIN:STANDARD
TZOFFSETFROM:-0600
TZOFFSETTO:-0700
TZNAME:MST
DTSTART:20261101T080000
END:STANDARD
END:VTIMEZONE
BEGIN:VEVENT
DTSTART;TZID=America/Edmonton:20250401T090000
DTEND;TZID=America/Edmonton:20250401T103000
DTSTAMP:20260422T040953
CREATED:20250131T042316Z
LAST-MODIFIED:20250331T154542Z
UID:8095-1743498000-1743503400@www.fitfrog.ca
SUMMARY:Calgary Walk: Nose Hill Park\, 64th Ave\, NW
DESCRIPTION:Description:\nThis urban walk leads to panoramic views of the entire city of Calgary from Calgary’s highest point. Nose Hill Park is 11 square km of sweeping grasses\, aspen-filled coulees\, wildlife\, and colourful wildflowers from Spring through Fall. \nMeet Place:\nPark in an official Nose Hill Parking lot on 14 St at 64 Ave.\, NW \nBathroom:\nNo \nPost-Walk Coffee Stop (Optional):\nHaven House Cafe \n  \n\n 
URL:https://www.fitfrog.ca/event/calgary-walk-nose-hill-park-wildflowers-64th-ave-nw-spring/
LOCATION:Nose Hill 64th Avenue\, 6465 14 St NW\, Calgary\, AB T2K 5R2
CATEGORIES:Calgary City Walk & Cafe
ATTACH;FMTTYPE=image/jpeg:https://www.fitfrog.ca/wp-content/uploads/2025/01/Prairie-Crocus-Nose-Hill-small.jpeg
END:VEVENT
BEGIN:VEVENT
DTSTART;TZID=America/Edmonton:20250406T090000
DTEND;TZID=America/Edmonton:20250406T103000
DTSTAMP:20260422T040953
CREATED:20250330T140013Z
LAST-MODIFIED:20250331T125839Z
UID:8340-1743930000-1743935400@www.fitfrog.ca
SUMMARY:Calgary Walk: Mount Royal\, Roxboro\, Elbow River\, SW
DESCRIPTION:Description:\nHidden pathways\, stairs and hills\, river trails\, interesting architecture\, and some tasty post-hike treats to warm us up! \nWant to join us?\nScroll down to the bottom for the options \nMeet Place:\nMeet outside the cafe\, Our Daily Brett. Lots of street parking and many bus routes along 14 Street (#7 and #22) \nBathroom:\nNone \nPost-Walk Coffee Stop (Optional):\nOur Daily Brett Or Aroma Café at Cspace \n 
URL:https://www.fitfrog.ca/event/calgary-walk-mount-royal-roxboro-elbow-river-sw/
LOCATION:Our Daily Brett\, 1507 29 Ave SW\, Calgary\, AB T2T 1M4
CATEGORIES:Calgary City Walk & Cafe
ATTACH;FMTTYPE=image/jpeg:https://www.fitfrog.ca/wp-content/uploads/2022/09/Evamy-Ridge-Park-Cliff-Bungalow-Mount-Royal-stairs-small.jpeg
END:VEVENT
BEGIN:VEVENT
DTSTART;TZID=America/Edmonton:20250422T090000
DTEND;TZID=America/Edmonton:20250422T103000
DTSTAMP:20260422T040953
CREATED:20250304T150153Z
LAST-MODIFIED:20250304T150228Z
UID:8220-1745312400-1745317800@www.fitfrog.ca
SUMMARY:Calgary Walk: Briar Hill\, Hounsfield Heights\, West Hillhurst and Bow River\, NW
DESCRIPTION:Description:\nWe’ll walk through green spaces mixed with escarpment viewpoints alongside impressive homes. Creativity and quirkiness provide interest! \nMeet Place:\nMeet outside Made by Marcus Ice cream shop. \nBathroom:\nNone at the walk start. \nPost-Walk Coffee Stop (Optional):\nPocket Coffee or another along 19 Street
URL:https://www.fitfrog.ca/event/calgary-walk-briar-hill-hounsfield-heights-west-hillhurst-and-bow-river-nw-april-2025/
LOCATION:Made by Marcus\, Hillhurst\, Made by Marcus\, 221 19 St NW\, Calgary\, AB T2N 2H9
CATEGORIES:Calgary City Walk & Cafe
ATTACH;FMTTYPE=image/jpeg:https://www.fitfrog.ca/wp-content/uploads/2024/03/11-Be-Curious-not-Judgemental-mural-Hillhurst-scaled.jpg
END:VEVENT
BEGIN:VEVENT
DTSTART;TZID=America/Edmonton:20250426T090000
DTEND;TZID=America/Edmonton:20250426T103000
DTSTAMP:20260422T040953
CREATED:20250421T193050Z
LAST-MODIFIED:20250421T193125Z
UID:8463-1745658000-1745663400@www.fitfrog.ca
SUMMARY:Calgary Walk: Glenmore Reservoir & Weaslehead\, SW
DESCRIPTION:Description:\nThis walk starts in North Glenmore Park and follows the paved path along the top of the escarpment\, looking west to the Rockies. We’ll soon enter the Weaselhead trail network\, a mix of dirt trails and boardwalks. This is a full-on nature immersion.  \nMeet Place:\nMeet at the Weaselhead Parking Lot\, 37 St. and 66 Ave.\, SW \nBathrooms:\nThere are port-a-potty bathrooms at the trailhead. \nPost-Walk Coffee Stop (Optional):\nCafé du Parc in North Glenmore Park
URL:https://www.fitfrog.ca/event/calgary-walk-glenmore-reservoir-weaslehead-sw-spring/
LOCATION:Weaselhead parking\, Weaselhead\, North Glenmore Park\,6615 37 St SW\, Calgary\, AB T3E 5M9
CATEGORIES:Calgary City Walk & Cafe
ATTACH;FMTTYPE=image/jpeg:https://www.fitfrog.ca/wp-content/uploads/2024/02/North-Glenmore-park-scaled.jpg
END:VEVENT
BEGIN:VEVENT
DTSTART;TZID=America/Edmonton:20250430T090000
DTEND;TZID=America/Edmonton:20250430T103000
DTSTAMP:20260422T040953
CREATED:20250318T134128Z
LAST-MODIFIED:20250402T145146Z
UID:8304-1746003600-1746009000@www.fitfrog.ca
SUMMARY:Calgary Walk: Nose Hill Park\, Berkley Gate\, NW
DESCRIPTION:Description:\nLoad up your backpack and join us on this hiking training session where we’ll climb the stairs to the Nose Hill Plateau\, Calgary’s highest point where panoramic views are your reward\, and then continue on single-track trails that dip into aspen-filled coulees\, past spring wildflowers to Rockies views. \nWant to join us?\nScroll down to the bottom for the options \nMeet Place:\nPark in an official Nose Hill Parking lot on 14 Street at Berkley Gate\, NW \nBathroom:\nYes
URL:https://www.fitfrog.ca/event/calgary-walk-nose-hill-park-berkley-gate-nw-2/
LOCATION:Nose Hill\, 14 St and Berkley Gate\, NW\, 4WG2+3F Calgary\, Alberta
CATEGORIES:Calgary City Walk & Cafe
ATTACH;FMTTYPE=image/jpeg:https://www.fitfrog.ca/wp-content/uploads/2022/10/Crocuses-on-Nose-HIll-small.jpeg
END:VEVENT
END:VCALENDAR