BEGIN:VCALENDAR
VERSION:2.0
PRODID:-//Fit Frog Adventures - ECPv6.15.20//NONSGML v1.0//EN
CALSCALE:GREGORIAN
METHOD:PUBLISH
X-ORIGINAL-URL:https://www.fitfrog.ca
X-WR-CALDESC:Events for Fit Frog Adventures
REFRESH-INTERVAL;VALUE=DURATION:PT1H
X-Robots-Tag:noindex
X-PUBLISHED-TTL:PT1H
BEGIN:VTIMEZONE
TZID:America/Edmonton
BEGIN:DAYLIGHT
TZOFFSETFROM:-0700
TZOFFSETTO:-0600
TZNAME:MDT
DTSTART:20240310T090000
END:DAYLIGHT
BEGIN:STANDARD
TZOFFSETFROM:-0600
TZOFFSETTO:-0700
TZNAME:MST
DTSTART:20241103T080000
END:STANDARD
BEGIN:DAYLIGHT
TZOFFSETFROM:-0700
TZOFFSETTO:-0600
TZNAME:MDT
DTSTART:20250309T090000
END:DAYLIGHT
BEGIN:STANDARD
TZOFFSETFROM:-0600
TZOFFSETTO:-0700
TZNAME:MST
DTSTART:20251102T080000
END:STANDARD
BEGIN:DAYLIGHT
TZOFFSETFROM:-0700
TZOFFSETTO:-0600
TZNAME:MDT
DTSTART:20260308T090000
END:DAYLIGHT
BEGIN:STANDARD
TZOFFSETFROM:-0600
TZOFFSETTO:-0700
TZNAME:MST
DTSTART:20261101T080000
END:STANDARD
END:VTIMEZONE
BEGIN:VEVENT
DTSTART;TZID=America/Edmonton:20250506T090000
DTEND;TZID=America/Edmonton:20250506T103000
DTSTAMP:20260422T021713
CREATED:20250304T150337Z
LAST-MODIFIED:20250304T150501Z
UID:8222-1746522000-1746527400@www.fitfrog.ca
SUMMARY:Calgary Walk: Roxboro\, Ramsay\, Elbow River\, SW
DESCRIPTION:Description:\nHidden pathways\, stairs and hills\, river trails\, interesting architecture\, and some tasty post-hike treats to warm us up! \nWant to join us?\nScroll down to the bottom for the options \nMeet Place:\nMeet in the park at the corner of 30 Avenue and Roxboro Glen Road\, SW. Free\, no restrictions\, parking on 30 Avenue and side streets. \nBathroom:\nNone \nPost-Walk Coffee Stop (Optional):\nPhil and Sebastian’s on 4th Street \n 
URL:https://www.fitfrog.ca/event/calgary-walk-roxboro-ramsay-elbow-river-sw-2025-may/
LOCATION:Roxboro Park\, 3041 Roxboro Glen Rd SW\, Calgary\, AB T2S 1T9\, Canada
CATEGORIES:Calgary City Walk & Cafe
ATTACH;FMTTYPE=image/jpeg:https://www.fitfrog.ca/wp-content/uploads/2023/06/Ramsay-Scotsman-Hill.jpeg
END:VEVENT
BEGIN:VEVENT
DTSTART;TZID=America/Edmonton:20250513T090000
DTEND;TZID=America/Edmonton:20250513T103000
DTSTAMP:20260422T021713
CREATED:20250303T145644Z
LAST-MODIFIED:20250304T145340Z
UID:8203-1747126800-1747132200@www.fitfrog.ca
SUMMARY:Calgary Walk: Bridgeland Blossoms & the River Walk\, NE/ SE
DESCRIPTION:Description:\nTraveling quiet tree-lined side streets past pop-bottle stucco homes we’ll climb to escarpment trails and enjoy fantastic city centre views from Tom Campbell’s Hill. You can expect a mix of narrow side trails\, stairs\, hills\, and sidewalk trekking. \nMeet Place:\nMeet outside Bridgeland Market. Lots of free parking on side streets or take transit – bus or Bridgeland LRT. \nPost-Walk Coffee Stop (Optional):\nPhil and Sebastien Café
URL:https://www.fitfrog.ca/event/calgary-walk-bridgeland-the-river-walk-ne-se-may/
LOCATION:Bridgeland Market\, NE\, 3X37+82 Calgary\, Alberta
CATEGORIES:Calgary City Walk & Cafe
ATTACH;FMTTYPE=image/jpeg:https://www.fitfrog.ca/wp-content/uploads/2024/02/Bridgeland-view-summer-downtown-scaled.jpg
END:VEVENT
BEGIN:VEVENT
DTSTART;TZID=America/Edmonton:20250517T090000
DTEND;TZID=America/Edmonton:20250517T103000
DTSTAMP:20260422T021713
CREATED:20250502T142431Z
LAST-MODIFIED:20250513T185524Z
UID:8504-1747472400-1747477800@www.fitfrog.ca
SUMMARY:Calgary Walk: Blossoms + River Walk - Stanley Park\, Roxboro\, Mission\, Mount Royal\,  Elbow Park\, SW
DESCRIPTION:Description:\nWe’ll walk along neighhourhood streets past blossoming cherry trees and beautiful homes\, along the Elbow River Pathway to hidden stairways and pathways that lead to spectacular views. \nWant to join us?\nScroll down to the bottom for the options \nMeet Place:\nMeet at Stanley Park official parking lot on 42 Ave. SW \nBathrooms:\nYes \nPost-Walk Coffee Stop (Optional):\nNeighbour Coffee
URL:https://www.fitfrog.ca/event/calgary-walk-blossoms-river-walk-stanley-park-roxboro-mission-mount-royal-elbow-park-sw/
LOCATION:Stanley Park parking lot 42 Ave\, 2W8J+9R Calgary\, Alberta
CATEGORIES:Calgary City Walk & Cafe
ATTACH;FMTTYPE=image/jpeg:https://www.fitfrog.ca/wp-content/uploads/2022/03/Cherry-tree-blossoms-1.jpeg
END:VEVENT
BEGIN:VEVENT
DTSTART;TZID=America/Edmonton:20250520T090000
DTEND;TZID=America/Edmonton:20250520T103000
DTSTAMP:20260422T021713
CREATED:20250512T034039Z
LAST-MODIFIED:20250512T034114Z
UID:8524-1747731600-1747737000@www.fitfrog.ca
SUMMARY:Calgary Walk: Edgemont Park Ravines\, NW
DESCRIPTION:Description:\nWe’ll walk along a mix of neighbourhood side-streets to the spectacular views from the Edgemont Hills. A paved pathway into the Edgemont Ravines leads us to wetlands. \nMeet Place:\nPark in the official parking lot at the intersection of Edgemont Hill and Edgemont Drive\, NW (just off John Laurie Blvd.) The official parking lot for the Edgemont Skating Rink. \nBathrooms:\nNo \nPost-Walk Coffee Stop (Optional):\nFriends Café
URL:https://www.fitfrog.ca/event/edgemont-park-ravines-nw-2025/
LOCATION:Edgemont\, NW\, 6911 Edgemont Dr NW\, Calgary\, AB T3A 2J8
CATEGORIES:Calgary City Walk & Cafe
ATTACH;FMTTYPE=image/jpeg:https://www.fitfrog.ca/wp-content/uploads/2021/04/Edgemont-Ravines-Rabbits.jpg
END:VEVENT
BEGIN:VEVENT
DTSTART;TZID=America/Edmonton:20250524T090000
DTEND;TZID=America/Edmonton:20250524T103000
DTSTAMP:20260422T021713
CREATED:20250513T143253Z
LAST-MODIFIED:20250513T143332Z
UID:8543-1748077200-1748082600@www.fitfrog.ca
SUMMARY:Calgary Walk: Edworthy Park\, Wildwood & Quarry Road Trail\, SW
DESCRIPTION:Description:\nWe’ll walk along the Bow River Pathway to Wildwood\, sections of the Douglas Fir Trail\, and the Quarry Road Trail  We’ll connect to Wildwood at that point and navigate the neighbourhood to a hidden single track wilderness trail that leads to the Quarry Road Trail.   \nWant to join us?\nScroll down to the bottom for the options \nMeet Place:\nMeet at the official parking for Edworthy Park\, at the intersection of Shaganappi Trail and Memorial Drive. We meet by the bathrooms. Or you can park on the south side of Edworthy and walk across to meet us (or let me know that you are on that side and we will walk over to meet you) \nBathroom:\nBathroom at the trailhead (year-round heated on north side\, port-a-potty on south side) \nCafé stop (optional):\nAngel’s
URL:https://www.fitfrog.ca/event/edworthy-park-douglas-fir-trail-wildwood-quarry-road-trail-sw-summer-2025-2/
LOCATION:Edworthy Park north side\, 4105 Montgomery View NW\, Calgary\, AB T3B 3E8
CATEGORIES:Calgary City Walk & Cafe
ATTACH;FMTTYPE=image/jpeg:https://www.fitfrog.ca/wp-content/uploads/2022/02/Edworthy-Douglas-Fir-Trail-walkers.jpg
END:VEVENT
BEGIN:VEVENT
DTSTART;TZID=America/Edmonton:20250527T090000
DTEND;TZID=America/Edmonton:20250527T103000
DTSTAMP:20260422T021713
CREATED:20250416T125239Z
LAST-MODIFIED:20250416T125505Z
UID:8439-1748336400-1748341800@www.fitfrog.ca
SUMMARY:Calgary Walk: Patterson\, Cougar Ridge\, Paskapoo Slopes\, SW
DESCRIPTION:Description:\nOffering unobstructed views of the Bow River Valley and the prairies beyond\, this urban walkabout offers the perfect vantage point to get the lay of the land in Calgary. Navigating a mix of forested single-track trails\, quiet side streets\, and paved pathways\, walkers soak up spectacular vistas and we’ll check out the Buddist Stuppa. \nWant to join us?\nScroll down to the bottom for the options \nMeet Place:\nWe’ll meet at the intersection of 77 St and Cougar Ridge Drive. This is near the Calgary International French School. Free street parking. \nBathroom:\nNone at the walk start. \nPost-Walk Coffee Stop (Optional)\nGood Earth Cafe Strathcona Square
URL:https://www.fitfrog.ca/event/calgary-walk-patterson-cougar-ridge-paskapoo-slopes-sw-spring-2025/
LOCATION:Cougar Ridge Meet place\, 3R92+4M Calgary\, Alberta
CATEGORIES:Calgary City Walk & Cafe
ATTACH;FMTTYPE=image/jpeg:https://www.fitfrog.ca/wp-content/uploads/2022/02/Patterson-pathway-Calgary.jpg
END:VEVENT
BEGIN:VEVENT
DTSTART;TZID=America/Edmonton:20250531T090000
DTEND;TZID=America/Edmonton:20250531T103000
DTSTAMP:20260422T021713
CREATED:20250421T133532Z
LAST-MODIFIED:20250525T162205Z
UID:8452-1748682000-1748687400@www.fitfrog.ca
SUMMARY:Calgary Walk: Ogden\, Beaverdam Flats\, Lynnwood views\, SE
DESCRIPTION:Description:\nWe’ll cross the Bow River and follow single-track trails into Carburn Park where birdlife is abundant. We’ll limb to Lynnwood for stunning views of the Rockies\, Bow River Valley and downtown. Neighbourhood streets and single-track trails behind homes lead to hidden pathways that we’ll follow to the Bow River Pathway\, into Beaverdam Flats Park and perhaps to pelican sightings. The birds often make their home in this area in the spring through summer. \nMeet Place:\nMeet at George Moss Park near Brian’s Café\, as per the map \nBathrooms:\nYes \nPost-Walk Coffee Stop (Optional):\nBrian’s Café
URL:https://www.fitfrog.ca/event/calgary-walk-ogden-beaverdam-flats-lynnwood-views-se-2/
LOCATION:Ogden\, George Moss Park\, SE\, XXPW+VF Calgary\, Alberta
CATEGORIES:Calgary City Walk & Cafe
ATTACH;FMTTYPE=image/jpeg:https://www.fitfrog.ca/wp-content/uploads/2025/03/Beaverdam-Flats-view-from-Lynnwood.jpg
END:VEVENT
END:VCALENDAR