BEGIN:VCALENDAR
VERSION:2.0
PRODID:-//Fit Frog Adventures - ECPv6.15.20//NONSGML v1.0//EN
CALSCALE:GREGORIAN
METHOD:PUBLISH
X-WR-CALNAME:Fit Frog Adventures
X-ORIGINAL-URL:https://www.fitfrog.ca
X-WR-CALDESC:Events for Fit Frog Adventures
REFRESH-INTERVAL;VALUE=DURATION:PT1H
X-Robots-Tag:noindex
X-PUBLISHED-TTL:PT1H
BEGIN:VTIMEZONE
TZID:America/Edmonton
BEGIN:DAYLIGHT
TZOFFSETFROM:-0700
TZOFFSETTO:-0600
TZNAME:MDT
DTSTART:20250309T090000
END:DAYLIGHT
BEGIN:STANDARD
TZOFFSETFROM:-0600
TZOFFSETTO:-0700
TZNAME:MST
DTSTART:20251102T080000
END:STANDARD
BEGIN:DAYLIGHT
TZOFFSETFROM:-0700
TZOFFSETTO:-0600
TZNAME:MDT
DTSTART:20260308T090000
END:DAYLIGHT
BEGIN:STANDARD
TZOFFSETFROM:-0600
TZOFFSETTO:-0700
TZNAME:MST
DTSTART:20261101T080000
END:STANDARD
BEGIN:DAYLIGHT
TZOFFSETFROM:-0700
TZOFFSETTO:-0600
TZNAME:MDT
DTSTART:20270314T090000
END:DAYLIGHT
BEGIN:STANDARD
TZOFFSETFROM:-0600
TZOFFSETTO:-0700
TZNAME:MST
DTSTART:20271107T080000
END:STANDARD
END:VTIMEZONE
BEGIN:VEVENT
DTSTART;TZID=America/Edmonton:20260616T000000
DTEND;TZID=America/Edmonton:20260616T235900
DTSTAMP:20260423T021055
CREATED:20260310T035213Z
LAST-MODIFIED:20260417T004434Z
UID:9439-1781568000-1781654340@www.fitfrog.ca
SUMMARY:Calgary Walk: Nose Hill Park Wildflowers\, Edgemont
DESCRIPTION:Description:\nThis urban walk leads to panoramic views of the entire city of Calgary from Calgary’s highest point. Nose Hill Park is 11 square km of sweeping grasses\, aspen-filled coulees\, wildlife\, and colourful wildflowers from Spring through Fall. \nMeet Place:\nPark in an official Nose Hill Parking lot on Shaganappi Trail at Edgemont Blvd. \nBathroom:\nYes \nPost-Walk Coffee Stop (Optional):\nFriends Cafe \n\n 
URL:https://www.fitfrog.ca/event/calgary-walk-nose-hill-park-wildflowers-edgemont/
LOCATION:Nose Hill Edgemont Blvd & Shaganappi\, NW\, 4VG8+9Q Calgary\, Alberta
CATEGORIES:Calgary City Walk & Cafe
ATTACH;FMTTYPE=image/jpeg:https://www.fitfrog.ca/wp-content/uploads/2026/03/Nose-Hill-flax-small-scaled.jpg
END:VEVENT
BEGIN:VEVENT
DTSTART;TZID=America/Edmonton:20260630T090000
DTEND;TZID=America/Edmonton:20260630T103000
DTSTAMP:20260423T021055
CREATED:20260325T141618Z
LAST-MODIFIED:20260325T141658Z
UID:9481-1782810000-1782815400@www.fitfrog.ca
SUMMARY:Calgary Walk: Ogden\, Beaverdam Flats\, Lynnwood views\, SE
DESCRIPTION:Description:\nWe’ll cross the Bow River and follow single-track trails into Carburn Park where birdlife is abundant. We’ll limb to Lynnwood for stunning views of the Rockies\, Bow River Valley and downtown. Neighbourhood streets and single-track trails behind homes lead to hidden pathways that we’ll follow to the Bow River Pathway\, into Beaverdam Flats Park and perhaps to pelican sightings. The birds often make their home in this area in the spring through summer. \nMeet Place:\nMeet at George Moss Park near Brian’s Café\, as per the map \nBathrooms:\nYes \nPost-Walk Coffee Stop (Optional):\nBrian’s Café
URL:https://www.fitfrog.ca/event/calgary-walk-ogden-beaverdam-flats-lynnwood-views-se-summer-2026/
LOCATION:Ogden\, George Moss Park\, SE\, XXPW+VF Calgary\, Alberta
CATEGORIES:Calgary City Walk & Cafe
ATTACH;FMTTYPE=image/jpeg:https://www.fitfrog.ca/wp-content/uploads/2025/03/Beaverdam-Flats-view-from-Lynnwood.jpg
END:VEVENT
BEGIN:VEVENT
DTSTART;TZID=America/Edmonton:20260714T090000
DTEND;TZID=America/Edmonton:20260714T103000
DTSTAMP:20260423T021055
CREATED:20251105T183441Z
LAST-MODIFIED:20260417T004553Z
UID:9207-1784019600-1784025000@www.fitfrog.ca
SUMMARY:Calgary Walk: West Hillhurst \, Briar Hill\, St. Andrew's Heights\, Parkdale and Bow River\, NW
DESCRIPTION:Description:\nWe’ll walk west through neighbourhoods\, along escarpment paths to big views alongside impressive homes. Creativity and quirkiness provide interest! \nMeet Place:\nMeet outside Made by Marcus Ice cream shop. \nBathroom:\nNone at the walk start. \nPost-Walk Coffee Stop (Optional):\nPocket Coffee or another along 19 Street
URL:https://www.fitfrog.ca/event/calgary-walk-west-hillhurst-briar-hill-st-andrews-heights-and-bow-river-nw/
LOCATION:Made by Marcus\, Hillhurst\, Made by Marcus\, 221 19 St NW\, Calgary\, AB T2N 2H9
CATEGORIES:Calgary City Walk & Cafe
ATTACH;FMTTYPE=image/jpeg:https://www.fitfrog.ca/wp-content/uploads/2024/03/11-Be-Curious-not-Judgemental-mural-Hillhurst-scaled.jpg
END:VEVENT
BEGIN:VEVENT
DTSTART;TZID=America/Edmonton:20260718T090000
DTEND;TZID=America/Edmonton:20260718T103000
DTSTAMP:20260423T021055
CREATED:20260211T144847Z
LAST-MODIFIED:20260411T224108Z
UID:9358-1784365200-1784370600@www.fitfrog.ca
SUMMARY:Calgary Walk: Jackrabbit Trail\, SW
DESCRIPTION:Description:\nWe’ll follow the Jackrabbit Trail as it skirts the Glenmore reservoir along a hidden wooded pathway with rolling hills. \nRegistration & Fees:\nWant to join us? Scroll down to the bottom for registration and fee options. \nMeet Place:\nPark in the large official parking lot for South Glenmore Park at the intersection of 90th Avenue and 24th Street\, SW. Leave 90 Avenue and turn left to get to the public parking area. We’ll meet near the large playground and splash park. \nBathroom:\nBathroom at trailhead \nPost-Walk Coffee Stop (Optional):\nSocial Grounds Cafe
URL:https://www.fitfrog.ca/event/calgary-walk-jackrabbit-trail-sw-spring-2026/
LOCATION:South Glenmore Park\, Jackrabbit Trail\, XVFH+MF Calgary\, Alberta
CATEGORIES:Calgary City Walk & Cafe
ATTACH;FMTTYPE=image/jpeg:https://www.fitfrog.ca/wp-content/uploads/2021/03/Jackrabbit-Trail-summer-walkers.jpg
END:VEVENT
BEGIN:VEVENT
DTSTART;TZID=America/Edmonton:20260728T090000
DTEND;TZID=America/Edmonton:20260728T103000
DTSTAMP:20260423T021055
CREATED:20260226T154224Z
LAST-MODIFIED:20260417T002109Z
UID:9390-1785229200-1785234600@www.fitfrog.ca
SUMMARY:Calgary Walk: Patterson\, Cougar Ridge\, Paskapoo Slopes\, SW
DESCRIPTION:Description:\nOffering unobstructed views of the Bow River Valley and the prairies beyond\, this urban walkabout offers the perfect vantage point to get the lay of the land in Calgary. Navigating a mix of forested single-track trails\, quiet side streets\, and paved pathways\, walkers soak up spectacular vistas and we’ll check out the Buddist Stuppa. \nWant to join us?\nScroll down to the bottom for the options \nMeet Place:\nWe’ll meet at the intersection of 77 St and Cougar Ridge Drive. This is near the Calgary International French School. Free street parking. \nBathroom:\nNone at the walk start. \nPost-Walk Coffee Stop (Optional)\nGood Earth Cafe Strathcona Square
URL:https://www.fitfrog.ca/event/calgary-walk-patterson-cougar-ridge-paskapoo-slopes-sw-spring-2026/
LOCATION:Cougar Ridge Meet place\, 3R92+4M Calgary\, Alberta
CATEGORIES:Calgary City Walk & Cafe
ATTACH;FMTTYPE=image/jpeg:https://www.fitfrog.ca/wp-content/uploads/2022/02/Patterson-pathway-Calgary.jpg
END:VEVENT
END:VCALENDAR