BEGIN:VCALENDAR
VERSION:2.0
PRODID:-//Fit Frog Adventures - ECPv6.15.20//NONSGML v1.0//EN
CALSCALE:GREGORIAN
METHOD:PUBLISH
X-WR-CALNAME:Fit Frog Adventures
X-ORIGINAL-URL:https://www.fitfrog.ca
X-WR-CALDESC:Events for Fit Frog Adventures
REFRESH-INTERVAL;VALUE=DURATION:PT1H
X-Robots-Tag:noindex
X-PUBLISHED-TTL:PT1H
BEGIN:VTIMEZONE
TZID:America/Edmonton
BEGIN:DAYLIGHT
TZOFFSETFROM:-0700
TZOFFSETTO:-0600
TZNAME:MDT
DTSTART:20190310T090000
END:DAYLIGHT
BEGIN:STANDARD
TZOFFSETFROM:-0600
TZOFFSETTO:-0700
TZNAME:MST
DTSTART:20191103T080000
END:STANDARD
BEGIN:DAYLIGHT
TZOFFSETFROM:-0700
TZOFFSETTO:-0600
TZNAME:MDT
DTSTART:20200308T090000
END:DAYLIGHT
BEGIN:STANDARD
TZOFFSETFROM:-0600
TZOFFSETTO:-0700
TZNAME:MST
DTSTART:20201101T080000
END:STANDARD
BEGIN:DAYLIGHT
TZOFFSETFROM:-0700
TZOFFSETTO:-0600
TZNAME:MDT
DTSTART:20210314T090000
END:DAYLIGHT
BEGIN:STANDARD
TZOFFSETFROM:-0600
TZOFFSETTO:-0700
TZNAME:MST
DTSTART:20211107T080000
END:STANDARD
END:VTIMEZONE
BEGIN:VEVENT
DTSTART;TZID=America/Edmonton:20201017T083000
DTEND;TZID=America/Edmonton:20201017T150000
DTSTAMP:20260423T114802
CREATED:20210610T172433Z
LAST-MODIFIED:20210620T182830Z
UID:1679-1602923400-1602946800@www.fitfrog.ca
SUMMARY:Jumpingpound Summit & beyond\, Kananaskis
DESCRIPTION:Description:\nThis scenic trail takes you to breathtaking views of the front ranges. We’ll hike beyond Jumpingpound Summit along grassy slopes to big views and our lunch spot. \nMeet Place:\nAllen Bill trailhead\, Elbow Falls Trail (Hwy 66) Kananaskis \nDirections:\nThis trailhead is about a 45-55 minute drive from Calgary. \n\nAccess Hwy. 66 from Hwy. 22 (Hwy. 22 becomes Hwy. 66) or from Hwy. 8 (Glenmore Trail West).\nFollow Hwy. 66 into Kananaskis Country\nGo past the Information Centre and watch for the “Allen Bill” sign.\nThe sign and parking is just past the Elbow River Crossing at the bottom of a long\, gradual hill.\n\nDistance/Length:\nRated* (MOD)\, 10 km + 500 meters elevation gain: 4-5 hours hiking time \n*See drop-down menu below to learn about ratings. \nCarpool Option:\nWhen possible\, carpooling will be arranged from the meet place.
URL:https://www.fitfrog.ca/event/jumpingpound-summit-beyond-kananaskis/
LOCATION:Allen Bill Day Use Area\, W826+H8\, Bragg Creek\, Alberta\, T0L 0K0\, Canada
CATEGORIES:Full Day Alberta Hikes / Snowshoeing
ATTACH;FMTTYPE=image/jpeg:https://www.fitfrog.ca/wp-content/uploads/2021/06/Jumpingpound-Summit.jpg
END:VEVENT
END:VCALENDAR