BEGIN:VCALENDAR
VERSION:2.0
PRODID:-//Fit Frog Adventures - ECPv6.15.20//NONSGML v1.0//EN
CALSCALE:GREGORIAN
METHOD:PUBLISH
X-ORIGINAL-URL:https://www.fitfrog.ca
X-WR-CALDESC:Events for Fit Frog Adventures
REFRESH-INTERVAL;VALUE=DURATION:PT1H
X-Robots-Tag:noindex
X-PUBLISHED-TTL:PT1H
BEGIN:VTIMEZONE
TZID:America/Edmonton
BEGIN:DAYLIGHT
TZOFFSETFROM:-0700
TZOFFSETTO:-0600
TZNAME:MDT
DTSTART:20200308T090000
END:DAYLIGHT
BEGIN:STANDARD
TZOFFSETFROM:-0600
TZOFFSETTO:-0700
TZNAME:MST
DTSTART:20201101T080000
END:STANDARD
BEGIN:DAYLIGHT
TZOFFSETFROM:-0700
TZOFFSETTO:-0600
TZNAME:MDT
DTSTART:20210314T090000
END:DAYLIGHT
BEGIN:STANDARD
TZOFFSETFROM:-0600
TZOFFSETTO:-0700
TZNAME:MST
DTSTART:20211107T080000
END:STANDARD
BEGIN:DAYLIGHT
TZOFFSETFROM:-0700
TZOFFSETTO:-0600
TZNAME:MDT
DTSTART:20220313T090000
END:DAYLIGHT
BEGIN:STANDARD
TZOFFSETFROM:-0600
TZOFFSETTO:-0700
TZNAME:MST
DTSTART:20221106T080000
END:STANDARD
END:VTIMEZONE
BEGIN:VEVENT
DTSTART;TZID=America/Edmonton:20210601T080000
DTEND;TZID=America/Edmonton:20210601T153000
DTSTAMP:20260422T204429
CREATED:20210611T131404Z
LAST-MODIFIED:20210831T144228Z
UID:1696-1622534400-1622561400@www.fitfrog.ca
SUMMARY:Jumpingpound Loop\, Kananaskis
DESCRIPTION:Description:\nThis easy loop winding through meadow and forest is a popular choice for early spring and late fall. It has two distinct sections: the undulating high line north of the highway which offers views of Moose Mountain and the river route that overlooks Jumpingpound Creek. \nMeet Place:\nShell Station at COP \nDirections:\nMeet at the Shell station at COP. \nDistance/Length:\nRated (All Level)\, 9.5 km + 240 meters elevation gain: 3-4 hours hiking. \nCarpool Option:\nWhen possible\, carpooling will be arranged from the meet place. It is not guaranteed but may be an option. In order to carpool (to drive or be a passenger) please confirm that you are fully vaccinated for Covid 19. You can do this by emailing Lori at lorib@fitfrog.ca with a copy of your vaccine record. If you DO NOT want to carpool then you do not need to provide vaccine confirmation.
URL:https://www.fitfrog.ca/event/jumpingpound-loop-kananaskis/
LOCATION:Shell Station at COP\, HWY 1\, 8435 Bowfort Rd NW\, Calgary\, AB T3B 2V2
CATEGORIES:Full Day Alberta Hikes / Snowshoeing
ATTACH;FMTTYPE=image/jpeg:https://www.fitfrog.ca/wp-content/uploads/2021/03/Fish-Creek-Park-West-End-5.jpg
END:VEVENT
BEGIN:VEVENT
DTSTART;TZID=America/Edmonton:20210604T083000
DTEND;TZID=America/Edmonton:20210604T143000
DTSTAMP:20260422T204429
CREATED:20210316T223311Z
LAST-MODIFIED:20210321T205304Z
UID:276-1622795400-1622817000@www.fitfrog.ca
SUMMARY:Powderface Ridge\, Kananaskis
DESCRIPTION:Description:\nThis scenic trail takes you to breathtaking views of the front ranges\, the Elbow River Valley and the city of Calgary. This hike is part of the Spring session of hikes with Club Fit Frog. \nMeet Place:\nAllen Bill trailhead\, Elbow Falls Trail (Hwy 66) Kananaskis \nDirections:\nThis trailhead is about a 45-55 minute drive from Calgary. \n\nAccess Hwy. 66 from Hwy. 22 (Hwy. 22 becomes Hwy. 66) or from Hwy. 8 (Glenmore Trail West).\nFollow Hwy. 66 into Kananaskis Country\nGo past the Information Centre and watch for the “Allen Bill” sign.\nThe sign and parking is just past the Elbow River Crossing at the bottom of long\, gradual hill.\n\nDistance/Length:\nRated (MOD/INT)\, 10 km + 650 meters elevation gain: 5 hours hiking time \nCarpool Option:\nWhen possible\, carpooling will be arranged from the meet place.
URL:https://www.fitfrog.ca/event/powderface-ridge-kananaskis-spring/
LOCATION:Allen Bill Day Use Area\, W826+H8\, Bragg Creek\, Alberta\, T0L 0K0\, Canada
CATEGORIES:Full Day Alberta Hikes / Snowshoeing
ATTACH;FMTTYPE=image/jpeg:https://www.fitfrog.ca/wp-content/uploads/2021/03/Powderface-Ridge-shooting-stars-wildflowers-summer-1-2.jpg
END:VEVENT
BEGIN:VEVENT
DTSTART;TZID=America/Edmonton:20210609T083000
DTEND;TZID=America/Edmonton:20210609T150000
DTSTAMP:20260422T204430
CREATED:20210322T151301Z
LAST-MODIFIED:20210322T151700Z
UID:663-1623227400-1623250800@www.fitfrog.ca
SUMMARY:Birthday Hike to Jumpingpound Summit & beyond\, Kananaskis
DESCRIPTION:Description:\nThis scenic trail takes you to breathtaking views of the front ranges. We’ll hike beyond Jumpingpound Summit along grassy\, wildflower-covered slopes to our birthday lunch spot. Yup\, there will be cupcakes! \nMeet Place:\nAllen Bill trailhead\, Elbow Falls Trail (Hwy 66) Kananaskis \nDirections:\nThis trailhead is about a 45-55 minute drive from Calgary. \n\nAccess Hwy. 66 from Hwy. 22 (Hwy. 22 becomes Hwy. 66) or from Hwy. 8 (Glenmore Trail West).\nFollow Hwy. 66 into Kananaskis Country\nGo past the Information Centre and watch for the “Allen Bill” sign.\nThe sign and parking is just past the Elbow River Crossing at the bottom of a long\, gradual hill.\n\nDistance/Length:\nRated (MOD)\, 10 km + 500 meters elevation gain: 4-5 hours hiking time \nCarpool Option:\nWhen possible\, carpooling will be arranged from the meet place.
URL:https://www.fitfrog.ca/event/birthday-hike-to-jumpingpound-summit-beyond-kananaskis/
LOCATION:Allen Bill Day Use Area\, W826+H8\, Bragg Creek\, Alberta\, T0L 0K0\, Canada
CATEGORIES:Full Day Alberta Hikes / Snowshoeing
ATTACH;FMTTYPE=image/jpeg:https://www.fitfrog.ca/wp-content/uploads/2021/03/Jumpingpound-Ridge-Birthday-hike.jpg
END:VEVENT
BEGIN:VEVENT
DTSTART;TZID=America/Edmonton:20210613T090000
DTEND;TZID=America/Edmonton:20210613T130000
DTSTAMP:20260422T204430
CREATED:20210318T194442Z
LAST-MODIFIED:20210505T121419Z
UID:445-1623574800-1623589200@www.fitfrog.ca
SUMMARY:Sulphur Springs / Riverview Loop\, Kananaskis
DESCRIPTION:Description:\nThis foothills trail dips and climbs through the forest. This is a nice gradual trail that is perfect as an introduction to hiking or as a warm-up for more difficult hikes. This hike is part of the Spring session of hikes with Club Fit Frog. \nMeet Place:\nAllen Bill trailhead\, Elbow Falls Trail (Hwy 66) Kananaskis \nDirections:\nThis trailhead is about a 45-55 minute drive from Calgary. \n\nAccess Hwy. 66 from Hwy. 22 (Hwy. 22 becomes Hwy. 66) or from Hwy. 8 (Glenmore Trail West).\nFollow Hwy. 66 into Kananaskis Country\nGo past the Information Centre and watch for the “Allen Bill” sign.\nThe sign and parking is just past the Elbow River Crossing at the bottom of long\, gradual hill.\n\nDistance/Length:\nRated (All levels)\, 10 km + 250 meters gain\, 100 meters loss: 3-4 hours hiking \nCarpool Option:\nWhen possible\, carpooling will be arranged from the meet place.
URL:https://www.fitfrog.ca/event/sulphur-springs-riverview-loop-kananaskis/
LOCATION:Allen Bill Day Use Area\, W826+H8\, Bragg Creek\, Alberta\, T0L 0K0\, Canada
CATEGORIES:Full Day Alberta Hikes / Snowshoeing
ATTACH;FMTTYPE=image/jpeg:https://www.fitfrog.ca/wp-content/uploads/2021/03/Forgetmenots-white-1.jpg
END:VEVENT
BEGIN:VEVENT
DTSTART;TZID=America/Edmonton:20210619T083000
DTEND;TZID=America/Edmonton:20210619T150000
DTSTAMP:20260422T204430
CREATED:20210322T145648Z
LAST-MODIFIED:20210620T181639Z
UID:657-1624091400-1624114800@www.fitfrog.ca
SUMMARY:Grass Pass & beyond (Bull Creek Hills)\, Kananaskis
DESCRIPTION:Description:\nWe’ll climb a forested path along the Pack Trail Coulee to a grassy pass between the Bull Creek Hills and Holy Cross Mountain. We’ll then dip into a forest before climbing to the top of Bull Creek Hills. We will do a portion of the Bull Creek Hills route and will backtrack down to our cars. Panoramic views\, wildflowers\, and Limber pines are a constant. \nMeet Place:\nLongview ESSO\, Hwy 22 in Longview \nDirections:\nTravel south on Hwy 22 to Longview. We’ll meet at the ESSO station. \nDistance/Length:\nRated (MOD)\, 10 km + 700* meters elevation gain: 5 hours hiking time \nCarpool Option:\nWhen possible\, carpooling will be arranged from the meet place.
URL:https://www.fitfrog.ca/event/grass-pass-kananaskis/
LOCATION:Longview ESSO\, GQM9+JF Longview\, Alberta
CATEGORIES:Full Day Alberta Hikes / Snowshoeing
ATTACH;FMTTYPE=image/jpeg:https://www.fitfrog.ca/wp-content/uploads/2021/03/Grass-Pass-hiker.jpg
END:VEVENT
BEGIN:VEVENT
DTSTART;TZID=America/Edmonton:20210625T083000
DTEND;TZID=America/Edmonton:20210625T150000
DTSTAMP:20260422T204430
CREATED:20210616T031311Z
LAST-MODIFIED:20210616T031414Z
UID:1755-1624609800-1624633200@www.fitfrog.ca
SUMMARY:Jumpingpound Summit & beyond\, Kananaskis
DESCRIPTION:Description:\nThis scenic trail takes you to breathtaking views of the front ranges. We’ll hike beyond Jumpingpound Summit along grassy slopes to big views and our lunch spot. \nMeet Place:\nAllen Bill trailhead\, Elbow Falls Trail (Hwy 66) Kananaskis \nDirections:\nThis trailhead is about a 45-55 minute drive from Calgary. \n\nAccess Hwy. 66 from Hwy. 22 (Hwy. 22 becomes Hwy. 66) or from Hwy. 8 (Glenmore Trail West).\nFollow Hwy. 66 into Kananaskis Country\nGo past the Information Centre and watch for the “Allen Bill” sign.\nThe sign and parking is just past the Elbow River Crossing at the bottom of a long\, gradual hill.\n\nDistance/Length:\nRated* (MOD)\, 10 km + 500 meters elevation gain: 4-5 hours hiking time \n*See drop-down menu below to learn about ratings. \nCarpool Option:\nWhen possible\, carpooling will be arranged from the meet place.
URL:https://www.fitfrog.ca/event/jumpingpound-summit-beyond-kananaskis-summer/
LOCATION:Allen Bill Day Use Area\, W826+H8\, Bragg Creek\, Alberta\, T0L 0K0\, Canada
CATEGORIES:Full Day Alberta Hikes / Snowshoeing
ATTACH;FMTTYPE=image/jpeg:https://www.fitfrog.ca/wp-content/uploads/2021/06/Jumpingpound-Summit.jpg
END:VEVENT
END:VCALENDAR