BEGIN:VCALENDAR
VERSION:2.0
PRODID:-//Fit Frog Adventures - ECPv6.15.20//NONSGML v1.0//EN
CALSCALE:GREGORIAN
METHOD:PUBLISH
X-WR-CALNAME:Fit Frog Adventures
X-ORIGINAL-URL:https://www.fitfrog.ca
X-WR-CALDESC:Events for Fit Frog Adventures
REFRESH-INTERVAL;VALUE=DURATION:PT1H
X-Robots-Tag:noindex
X-PUBLISHED-TTL:PT1H
BEGIN:VTIMEZONE
TZID:America/Edmonton
BEGIN:DAYLIGHT
TZOFFSETFROM:-0700
TZOFFSETTO:-0600
TZNAME:MDT
DTSTART:20200308T090000
END:DAYLIGHT
BEGIN:STANDARD
TZOFFSETFROM:-0600
TZOFFSETTO:-0700
TZNAME:MST
DTSTART:20201101T080000
END:STANDARD
BEGIN:DAYLIGHT
TZOFFSETFROM:-0700
TZOFFSETTO:-0600
TZNAME:MDT
DTSTART:20210314T090000
END:DAYLIGHT
BEGIN:STANDARD
TZOFFSETFROM:-0600
TZOFFSETTO:-0700
TZNAME:MST
DTSTART:20211107T080000
END:STANDARD
BEGIN:DAYLIGHT
TZOFFSETFROM:-0700
TZOFFSETTO:-0600
TZNAME:MDT
DTSTART:20220313T090000
END:DAYLIGHT
BEGIN:STANDARD
TZOFFSETFROM:-0600
TZOFFSETTO:-0700
TZNAME:MST
DTSTART:20221106T080000
END:STANDARD
END:VTIMEZONE
BEGIN:VEVENT
DTSTART;TZID=America/Edmonton:20210902T090000
DTEND;TZID=America/Edmonton:20210902T160000
DTSTAMP:20260422T123039
CREATED:20210415T005254Z
LAST-MODIFIED:20210830T125837Z
UID:1137-1630573200-1630598400@www.fitfrog.ca
SUMMARY:Tent Ridge Horseshoe\, Kananaskis
DESCRIPTION:Description:\nThis is a spectacular\, CHALLENGING scramble/hike & ridge walk that offers the hiker panoramic views of the Spray Lakes Valley and Banff National Park. You’ll be able to see Mount Assiniboine on a clear day. YOU MUST BE COMFORTABLE with rocky terrain\, exposure\, using your hands to climb and balance at times\, and steep descents. If you have a fear of heights you should not come on this hike as the route is alongside steep drop-offs and steep slopes throughout the day. \nMeet Place:\nChester Lake trailhead\, Spray Lakes Road\, Kananaskis (or carpooling could be arranged from the Shell station at COP in Calgary). About a 1 hour 40 minutes drive from Calgary. \nDirections:\nHwy 1 (Trans Canada) west to Hwy 40. Continue along Hwy 40 to the turnoff on Kananaskis Lake Trail followed by another turn onto the Spray Lakes Road (Smith Dorrien Hwy 762). Continue on this gravel road to Chester Lake Parking lot where will use the bathrooms before driving another 10 minutes to the start of the hike. \nDistance/Length:\nRated ADV: 13 km + 800 m elevation gain\, 5-6 hours round trip. \nCarpool Option:\nWhen possible\, carpooling will be arranged from the meet place. It is not guaranteed but may be an option. In order to carpool (to drive or be a passenger) please confirm that you are fully vaccinated for Covid 19. You can do this by emailing Lori at lorib@fitfrog.ca with a copy of your vaccine record. If you DO NOT want to carpool then you do not need to provide vaccine confirmation.
URL:https://www.fitfrog.ca/event/tent-ridge-horseshoe-kananaskis-fall/
LOCATION:Chester Lake\, Kananaskis\, 9526QMRX+77
CATEGORIES:Full Day Alberta Hikes / Snowshoeing
ATTACH;FMTTYPE=image/jpeg:https://www.fitfrog.ca/wp-content/uploads/2021/04/Tent-Ridge-small.jpg
END:VEVENT
BEGIN:VEVENT
DTSTART;TZID=America/Edmonton:20210910T090000
DTEND;TZID=America/Edmonton:20210910T160000
DTSTAMP:20260422T123039
CREATED:20210323T012739Z
LAST-MODIFIED:20210908T183314Z
UID:673-1631264400-1631289600@www.fitfrog.ca
SUMMARY:Pocaterra Ridge Larch\, Highwood Pass\, Kananaskis
DESCRIPTION:Description:\nThis is a moderate to a strenuous hike to panoramic views\, with some off-trail hiking up to Pocaterra Ridge. There are options to stop before the top as the views are spectacular the entire hike! \nMeet Place:\nShell Station at COP \nDirections:\nWe will meet at the Highwood Pass parking lot\, Hwy 40\, Kananaskis (trailhead for Pocaterra Ridge and Ptarmigan Cirque trails) \nDistance/Length:\nRated (INT)\, 12 km + 760 meters elevation gain: 5-6 hours hiking. There is an option for some people to stop after about 500 metres of elevation gain and enjoy the views while others hike to the top. \nCarpool Option:\nWhen possible\, carpooling will be arranged from the meet place. It is not guaranteed but may be an option. In order to carpool (to drive or be a passenger) please confirm that you are fully vaccinated for Covid 19. You can do this by emailing Lori at lorib@fitfrog.ca with a copy of your vaccine record. If you DO NOT want to carpool then you do not need to provide vaccine confirmation.
URL:https://www.fitfrog.ca/event/pocaterra-ridge-highwood-pass-kananaskis-fall/
LOCATION:Highwood Pass parking\, 9527H2W7+CV
CATEGORIES:Full Day Alberta Hikes / Snowshoeing
ATTACH;FMTTYPE=image/jpeg:https://www.fitfrog.ca/wp-content/uploads/2021/03/Pocaterra-Cirque.jpg
END:VEVENT
BEGIN:VEVENT
DTSTART;TZID=America/Edmonton:20210915T080000
DTEND;TZID=America/Edmonton:20210915T150000
DTSTAMP:20260422T123039
CREATED:20210611T132820Z
LAST-MODIFIED:20211013T174329Z
UID:1699-1631692800-1631718000@www.fitfrog.ca
SUMMARY:Mount Yamnuska\,  Raven's End trail\, Kananaskis
DESCRIPTION:Description:\nA forested climb to the east ridge of Yamnuska known as Raven’s End leads to spectacular views. This hike is part of the Fall session of hikes with Club Fit Frog. \nMeet Place:\nMount Yamnuska trailhead\, Kananaskis \nDirections:\nHwy. 1A (Bow Valley Trail). 2.1 km east of 1X Highway turn left (north) onto the quarry road. Keep straight\, then turn left into a parking lot. \nDistance/Length:\nRated (AL/MOD)\, 7 km + 500 meters elevation gain: 4 hours hiking time \nCarpool Option:\nWhen possible\, carpooling will be arranged from the meet place. It is not guaranteed but may be an option. In order to carpool (to drive or be a passenger) please confirm that you are fully vaccinated for Covid 19. You can do this by emailing Lori at lorib@fitfrog.ca with a copy of your vaccine record. If you DO NOT want to carpool then you do not need to provide vaccine confirmation.
URL:https://www.fitfrog.ca/event/mount-yamnuska-ravens-end-trail-kananaskis-fall/
LOCATION:Shell Station at COP\, HWY 1\, 8435 Bowfort Rd NW\, Calgary\, AB T3B 2V2
CATEGORIES:Full Day Alberta Hikes / Snowshoeing
ATTACH;FMTTYPE=image/jpeg:https://www.fitfrog.ca/wp-content/uploads/2021/03/Mount-Yamnuska-hike-1.jpg
END:VEVENT
BEGIN:VEVENT
DTSTART;TZID=America/Edmonton:20210916T073000
DTEND;TZID=America/Edmonton:20210916T160000
DTSTAMP:20260422T123039
CREATED:20220302T163057Z
LAST-MODIFIED:20220629T132801Z
UID:3323-1631777400-1631808000@www.fitfrog.ca
SUMMARY:Pocaterra Ridge one way hike\, Highwood Pass\, Kananaskis
DESCRIPTION:Description:\nThis is a moderate to strenuous hike to panoramic views\, with some off-trail hiking up to Pocaterra Ridge. This is a one-way\, linear hike where we will park cars on each end. \nMeet Place:\nShell Station\, across from COP \nDirections:\nWe will drop cars at Little Highwood Pass and then carpool to Highwood Pass parking lot\, Hwy 40\, Kananaskis (trailhead for Pocaterra Ridge and Ptarmigan Cirque trails) \nDistance/Length:\nRated (INT)\, 10 km + 550 meters elevation gain and 875 metres loss: 6+ hours hiking. \nCarpool Option:\nWhen possible\, carpooling will be arranged from the meet place.
URL:https://www.fitfrog.ca/event/pocaterra-ridge-larch-highwood-pass-kananaskis-summer/
LOCATION:Shell Station at COP\, HWY 1\, 8435 Bowfort Rd NW\, Calgary\, AB T3B 2V2
CATEGORIES:Full Day Alberta Hikes / Snowshoeing
ATTACH;FMTTYPE=image/jpeg:https://www.fitfrog.ca/wp-content/uploads/2021/05/Larch-hike-Pocaterra-Ridge-Kananaskis.jpg
END:VEVENT
BEGIN:VEVENT
DTSTART;TZID=America/Edmonton:20210916T073000
DTEND;TZID=America/Edmonton:20210916T160000
DTSTAMP:20260422T123039
CREATED:20220313T203535Z
LAST-MODIFIED:20220728T172233Z
UID:3430-1631777400-1631808000@www.fitfrog.ca
SUMMARY:Healy and Simpson's Pass Larch\, Banff National Park
DESCRIPTION:Description:\nThis Parks Canada Trail is well maintained and allows for beautiful views of many gorgeous peaks and Egypt Lake. The start of the trail keeps you shaded from the summer sun as you gradually climb. The hike starts with a wide\, rolling trail that narrows as you go. The lush forest and the bridge over Healy Creek are stunning\, submerging you in the idyllic natural universe of the Canadian Rockies. We’ll take Simpson pass through meadows\, past lakes before entering the golden larch-filled alpine meadows that lead to Healy Pass. Views of lakes and waterfalls and peak upon peak are your reward. \nMeet Place:\nCO-OP Gas Station at the Brentwood LRT or at the trailhead \nDirections:\nTo the trailhead: Hwy 1 (Trans Canada) west to Sunshine Ski Hill (just west of the town of Banff). Park at the Sunshine Ski Hill Parking Lot\, Banff National Park (drive all the way to the Sunshine ski hill parking lots and the lodges\, at the end of the road) \nDistance/Length:\nRated INT: 20 km + 700 metres elevation gain. 6+ hours hiking \nCarpool Option:\nWhen possible\, carpooling will be arranged from the Co-op gas station at the Brentwood LRT in Calgary. If you need to carpool\, please advise Lori. It is not guaranteed but may be an option.
URL:https://www.fitfrog.ca/event/healy-simpsons-pass-larch-banff-national-park-2022/
LOCATION:Brentwood LRT/ Co-op gas station\, 4122 Brentwood Rd NW\, Calgary\, AB T2L 1K8
CATEGORIES:Full Day Alberta Hikes / Snowshoeing
ATTACH;FMTTYPE=image/jpeg:https://www.fitfrog.ca/wp-content/uploads/2022/03/Healy-PAss-lake-and-larch-fall-scaled.jpg
END:VEVENT
BEGIN:VEVENT
DTSTART;TZID=America/Edmonton:20210918T073000
DTEND;TZID=America/Edmonton:20210918T160000
DTSTAMP:20260422T123039
CREATED:20210610T140802Z
LAST-MODIFIED:20210912T134823Z
UID:1673-1631950200-1631980800@www.fitfrog.ca
SUMMARY:Rae Lake Larch\, Kananaskis
DESCRIPTION:Description:\nWe’ll hike to the popular Elbow Lake and beyond to the beautiful\, peaceful\, and rarely-visited Rae Lake. Rae Lake is nestled below the north end of Mt. Rae and the east of Tombstone Pass. \nMeet Place:\nShell Station at COP \nDirections:\nMeet at the Shell station at COP. \nDistance/Length:\nRated* (MOD)\,16 km + 400 meters elevation gain: 5-6 hours hiking \n*see rating system in the drop-down menu below \nCarpool Option:\nWhen possible\, carpooling will be arranged from the meet place. It is not guaranteed but may be an option. In order to carpool (to drive or be a passenger) please confirm that you are fully vaccinated for Covid 19. You can do this by emailing Lori at lorib@fitfrog.ca with a copy of your vaccine record. If you DO NOT want to carpool then you do not need to provide vaccine confirmation.
URL:https://www.fitfrog.ca/event/rae-lake-larch-kananaskis/
LOCATION:Shell Station at COP\, HWY 1\, 8435 Bowfort Rd NW\, Calgary\, AB T3B 2V2
CATEGORIES:Full Day Alberta Hikes / Snowshoeing
ATTACH;FMTTYPE=image/jpeg:https://www.fitfrog.ca/wp-content/uploads/2021/06/Rae-Lake-hike-fall.jpg
END:VEVENT
BEGIN:VEVENT
DTSTART;TZID=America/Edmonton:20210926T073000
DTEND;TZID=America/Edmonton:20210926T160000
DTSTAMP:20260422T123039
CREATED:20210601T010428Z
LAST-MODIFIED:20210920T190907Z
UID:1628-1632641400-1632672000@www.fitfrog.ca
SUMMARY:Burstall Pass Larch\, Kananaskis
DESCRIPTION:Description:\nBurstall Pass trail winds through forests and willow flats near the Burstall Lakes then climbs to alpine meadows and golden larches. \nMeet Place:\nShell Station at COP \nDirections:\nBurstall Pass trailhead is located on Hwy 762 (Smith Dorrien) in Kananaskis. \nDistance/Length:\nRated MOD: 16 km + 450 m elevation gain: 5 hours of hiking. \nCarpool Option:\nWhen possible\, carpooling will be arranged from the Shell station in Calgary. It is not guaranteed but may be an option. \nCovid vaccination mandatory:\nVaccination is mandatory to attend any Fit Frog event. Please confirm that you are fully vaccinated for Covid 19. You can do this by emailing Lori at lorib@fitfrog.ca with a copy of your vaccine record.
URL:https://www.fitfrog.ca/event/burstall-pass-larch-kananaskis/
LOCATION:Shell Station at COP\, HWY 1\, 8435 Bowfort Rd NW\, Calgary\, AB T3B 2V2
CATEGORIES:Full Day Alberta Hikes / Snowshoeing
ATTACH;FMTTYPE=image/jpeg:https://www.fitfrog.ca/wp-content/uploads/2021/05/Larch-hike-Pocaterra-Ridge-Kananaskis.jpg
END:VEVENT
BEGIN:VEVENT
DTSTART;TZID=America/Edmonton:20210929T090000
DTEND;TZID=America/Edmonton:20210929T150000
DTSTAMP:20260422T123039
CREATED:20210318T200057Z
LAST-MODIFIED:20211026T023531Z
UID:449-1632906000-1632927600@www.fitfrog.ca
SUMMARY:Powderface Ridge\, Kananaskis
DESCRIPTION:Description:\nThis scenic trail takes you to breathtaking views of the front ranges\, the Elbow River Valley\, and the city of Calgary. This hike is part of the Fall session of hikes with Club Fit Frog. \nMeet Place:\nAllen Bill trailhead\, Elbow Falls Trail (Hwy 66) Kananaskis \nDirections:\nThis trailhead is about a 45-55 minute drive from Calgary. \n\nAccess Hwy. 66 from Hwy. 22 (Hwy. 22 becomes Hwy. 66) or from Hwy. 8 (Glenmore Trail West).\nFollow Hwy. 66 into Kananaskis Country\nGo past the Information Centre and watch for the “Allen Bill” sign.\nThe sign and parking is just past the Elbow River Crossing at the bottom of a long\, gradual hill.\n\nDistance/Length:\nRated (MOD/INT)\, 10 km + 650 meters elevation gain: 5 hours hiking time \nCarpool Option:\nWhen possible\, carpooling will be arranged from the meet place. It is not guaranteed but may be an option. In order to carpool (to drive or be a passenger) please confirm that you are fully vaccinated for Covid 19. You can do this by emailing Lori at lorib@fitfrog.ca with a copy of your vaccine record. If you DO NOT want to carpool then you do not need to provide vaccine confirmation.
URL:https://www.fitfrog.ca/event/powderface-ridge-kananaskis-fall/
LOCATION:Allen Bill Day Use Area\, W826+H8\, Bragg Creek\, Alberta\, T0L 0K0\, Canada
CATEGORIES:Full Day Alberta Hikes / Snowshoeing
ATTACH;FMTTYPE=image/jpeg:https://www.fitfrog.ca/wp-content/uploads/2021/03/Powderface-Ridge-hike-Kananaskis.jpg
END:VEVENT
END:VCALENDAR