BEGIN:VCALENDAR
VERSION:2.0
PRODID:-//Fit Frog Adventures - ECPv6.15.20//NONSGML v1.0//EN
CALSCALE:GREGORIAN
METHOD:PUBLISH
X-WR-CALNAME:Fit Frog Adventures
X-ORIGINAL-URL:https://www.fitfrog.ca
X-WR-CALDESC:Events for Fit Frog Adventures
REFRESH-INTERVAL;VALUE=DURATION:PT1H
X-Robots-Tag:noindex
X-PUBLISHED-TTL:PT1H
BEGIN:VTIMEZONE
TZID:America/Edmonton
BEGIN:DAYLIGHT
TZOFFSETFROM:-0700
TZOFFSETTO:-0600
TZNAME:MDT
DTSTART:20200308T090000
END:DAYLIGHT
BEGIN:STANDARD
TZOFFSETFROM:-0600
TZOFFSETTO:-0700
TZNAME:MST
DTSTART:20201101T080000
END:STANDARD
BEGIN:DAYLIGHT
TZOFFSETFROM:-0700
TZOFFSETTO:-0600
TZNAME:MDT
DTSTART:20210314T090000
END:DAYLIGHT
BEGIN:STANDARD
TZOFFSETFROM:-0600
TZOFFSETTO:-0700
TZNAME:MST
DTSTART:20211107T080000
END:STANDARD
BEGIN:DAYLIGHT
TZOFFSETFROM:-0700
TZOFFSETTO:-0600
TZNAME:MDT
DTSTART:20220313T090000
END:DAYLIGHT
BEGIN:STANDARD
TZOFFSETFROM:-0600
TZOFFSETTO:-0700
TZNAME:MST
DTSTART:20221106T080000
END:STANDARD
END:VTIMEZONE
BEGIN:VEVENT
DTSTART;TZID=America/Edmonton:20211002T073000
DTEND;TZID=America/Edmonton:20211002T160000
DTSTAMP:20260422T123253
CREATED:20210611T192828Z
LAST-MODIFIED:20210920T190955Z
UID:1727-1633159800-1633190400@www.fitfrog.ca
SUMMARY:Lillian & Galatea Lakes\, Kananaskis
DESCRIPTION:Description:\nThe trail to Lillian Lake and the Galatea Lakes follows a forested trail alongside Galatea Creek\, crisscrossing bridges until Lillian Lake comes into view. The 1 km climb to Galatea lake offers spectacular views. \nMeet Place:\nGalatea trailhead\, HWY 40 (or carpooling could be arranged from the Shell station at COP in Calgary). About 1 hour 15 minutes drive from Calgary. \nDirections:\nHwy 1 (Trans Canada) west to Hwy 40. Continue along Hwy 40 to the Galatea trailhead\, just past the Village of Kananaskis. \nDistance/Length:\nRated MOD/INT: Lillian Lake is 12.5 km + 475 metres round trip; Galatea Lake is 15 km +675 metres elevation gain round trip ( 6+ hiking hours including lunch stop) \nCarpool Option:\nWhen possible\, carpooling will be arranged from the Shell station in Calgary. It is not guaranteed but may be an option. \nCovid vaccination mandatory:\nVaccination is mandatory to attend any Fit Frog event. Please confirm that you are fully vaccinated for Covid 19. You can do this by emailing Lori at lorib@fitfrog.ca with a copy of your vaccine record.
URL:https://www.fitfrog.ca/event/lillian-galatea-lakes-kananaskis/
LOCATION:Shell Station at COP\, HWY 1\, 8435 Bowfort Rd NW\, Calgary\, AB T3B 2V2
CATEGORIES:Full Day Alberta Hikes / Snowshoeing
ATTACH;FMTTYPE=image/jpeg:https://www.fitfrog.ca/wp-content/uploads/2021/06/Lillian-Lake-from-above.jpg
END:VEVENT
BEGIN:VEVENT
DTSTART;TZID=America/Edmonton:20211009T073000
DTEND;TZID=America/Edmonton:20211009T163000
DTSTAMP:20260422T123253
CREATED:20210531T233036Z
LAST-MODIFIED:20211007T015620Z
UID:1616-1633764600-1633797000@www.fitfrog.ca
SUMMARY:Buller Pass Larch\, Kananaskis
DESCRIPTION:Description:\nA meandering trail leads to a waterfall\, unique rock outcrops\, rugged cliff bands\, and an open alpine valley. A steep rocky slope leads to Buller Pass where spectacular views of Ribbon Lake and Mount Assiniboine are achieved. \nMeet Place:\nShell at COP \nDirections:\nMeet at the Shell station at COP. \nDistance/Length:\nRated (MOD/INT)\, 12 km + 400 or 600 meters elevation gain: 5-6 hours hiking. There is an option for some people to stop after about 400 metres of elevation gain and enjoy the wide-open valley while others hike to the pass. \nCarpool Option:\nWhen possible\, carpooling will be arranged from the Shell station in Calgary. It is not guaranteed but may be an option. \nCovid vaccination mandatory:\nVaccination is mandatory to hike with Fit Frog. Please confirm that you are fully vaccinated for Covid 19. You can do this by emailing Lori at lorib@fitfrog.ca with a copy of your vaccine record.
URL:https://www.fitfrog.ca/event/buller-pass-larch-kananaskis/
LOCATION:Shell Station at COP\, HWY 1\, 8435 Bowfort Rd NW\, Calgary\, AB T3B 2V2
CATEGORIES:Full Day Alberta Hikes / Snowshoeing
ATTACH;FMTTYPE=image/jpeg:https://www.fitfrog.ca/wp-content/uploads/2021/05/Larch-Alberta-Rocky-Mountains.jpg
END:VEVENT
BEGIN:VEVENT
DTSTART;VALUE=DATE:20211024
DTEND;VALUE=DATE:20211025
DTSTAMP:20260422T123253
CREATED:20210802T133742Z
LAST-MODIFIED:20211022T141347Z
UID:1999-1635033600-1635119999@www.fitfrog.ca
SUMMARY:Horsethief Canyon Badlands with paleonologist\, Drumheller
DESCRIPTION:Description:\nHorsethief Canyon is the rarely marvelled gem in this prehistoric playground. It’s a 10-kilometre jaunt up quiet Highway 838 (the North Dinosaur Trail)\, northwest of the region’s Royal Tyrrell Museum. A descent in the canyon leads us into the land of strange outcrops of rock that are a kaleidoscope of geology and history\, a mingling of dinosaurs and prehistoric animals. The confluence of factors here unveil a landscape found in only a few places on Earth – and rarely so close to a large city. The canyon is T-shaped\, running roughly half a kilometre by one kilometre out to the wider Red Deer River Valley (cut from the land when the last ice age ended about 10\,000 years ago)\, terrain that can occupy most of an afternoon in the absence of officially marked trails. Here you can look in on the last years of the Cretaceous Period\, 70 million years ago\, the end of the age of dinosaurs. Among the notable specimens uncovered in the Horsethief is a horned dinosaur with a thick nose named Pachyrhinosaurus canadensis. \nThis hike is part of the Fall session of hikes with Club Fit Frog. \nCarpool Meet Place:\nMeet at 7:45 am at  Nose Hill Park\, 64th Avenue parking. \nDirections:\nWe’ll drive 1.5 hours to Drumheller and continue 10 minutes (11.6 km) past the Royal Tyrell Museum along  AB-838/Dinosaur Trail northbound before turning left into the parking area signed for Horsethief Canyon. Here is the Google map: https://goo.gl/maps/2UaXuzBPR8tom3kr9 \nDistance/Length:\nRated (AL/MOD)\, 10 km + 100 meters elevation gain: 3-4 hours hiking time \nCarpool Option:\nWhen possible\, carpooling will be arranged from Calgary (location above). It is not guaranteed but may be an option. \nCovid vaccination mandatory:\nVaccination is mandatory to hike with Fit Frog. Please confirm that you are fully vaccinated for Covid 19. You can do this by emailing Lori at lorib@fitfrog.ca proof of vaccination.
URL:https://www.fitfrog.ca/event/horsethief-canyon-badlands-with-paleonologist-drumheller/
LOCATION:Nose Hill 64th Avenue\, 6465 14 St NW\, Calgary\, AB T2K 5R2
CATEGORIES:Full Day Alberta Hikes / Snowshoeing
ATTACH;FMTTYPE=image/png:https://www.fitfrog.ca/wp-content/uploads/2021/08/Horsethief-Canyon-Hiking-1.png
END:VEVENT
END:VCALENDAR