BEGIN:VCALENDAR
VERSION:2.0
PRODID:-//Fit Frog Adventures - ECPv6.15.20//NONSGML v1.0//EN
CALSCALE:GREGORIAN
METHOD:PUBLISH
X-ORIGINAL-URL:https://www.fitfrog.ca
X-WR-CALDESC:Events for Fit Frog Adventures
REFRESH-INTERVAL;VALUE=DURATION:PT1H
X-Robots-Tag:noindex
X-PUBLISHED-TTL:PT1H
BEGIN:VTIMEZONE
TZID:America/Edmonton
BEGIN:DAYLIGHT
TZOFFSETFROM:-0700
TZOFFSETTO:-0600
TZNAME:MDT
DTSTART:20200308T090000
END:DAYLIGHT
BEGIN:STANDARD
TZOFFSETFROM:-0600
TZOFFSETTO:-0700
TZNAME:MST
DTSTART:20201101T080000
END:STANDARD
BEGIN:DAYLIGHT
TZOFFSETFROM:-0700
TZOFFSETTO:-0600
TZNAME:MDT
DTSTART:20210314T090000
END:DAYLIGHT
BEGIN:STANDARD
TZOFFSETFROM:-0600
TZOFFSETTO:-0700
TZNAME:MST
DTSTART:20211107T080000
END:STANDARD
BEGIN:DAYLIGHT
TZOFFSETFROM:-0700
TZOFFSETTO:-0600
TZNAME:MDT
DTSTART:20220313T090000
END:DAYLIGHT
BEGIN:STANDARD
TZOFFSETFROM:-0600
TZOFFSETTO:-0700
TZNAME:MST
DTSTART:20221106T080000
END:STANDARD
END:VTIMEZONE
BEGIN:VEVENT
DTSTART;TZID=America/Edmonton:20211102T080000
DTEND;TZID=America/Edmonton:20211102T150000
DTSTAMP:20260422T111315
CREATED:20220126T192629Z
LAST-MODIFIED:20220402T190652Z
UID:3003-1635840000-1635865200@www.fitfrog.ca
SUMMARY:Mount Yamnuska\,  Raven's End trail\, Kananaskis
DESCRIPTION:Description:\nA forested climb to the east ridge of Yamnuska known as Raven’s End leads to spectacular views. This hike is part of the Spring session of hikes with Club Fit Frog. \nMeet Place:\nShell Station at COP on Hwy 1 \nDirections:\nHwy. 1A (Bow Valley Trail). 2.1 km east of 1X Highway turn left (north) onto the quarry road. Keep straight\, then turn left into a parking lot. \nDistance/Length:\nRated (AL/MOD)\, 7 km + 500 meters elevation gain: 4 hours hiking time \nCarpool Option:\nWhen possible\, carpooling will be arranged from the meet place.
URL:https://www.fitfrog.ca/event/mount-yamnuska-ravens-end-trail-kananaskis-spring/
LOCATION:Shell Station at COP\, HWY 1\, 8435 Bowfort Rd NW\, Calgary\, AB T3B 2V2
CATEGORIES:Full Day Alberta Hikes / Snowshoeing
ATTACH;FMTTYPE=image/jpeg:https://www.fitfrog.ca/wp-content/uploads/2021/03/Mount-Yamnuska-hike-1.jpg
END:VEVENT
BEGIN:VEVENT
DTSTART;TZID=America/Edmonton:20211114T080000
DTEND;TZID=America/Edmonton:20211114T160000
DTSTAMP:20260422T111315
CREATED:20210716T142820Z
LAST-MODIFIED:20211121T185057Z
UID:1903-1636876800-1636905600@www.fitfrog.ca
SUMMARY:Taylor Lake Snowshoe / winter hike\, Banff National Park
DESCRIPTION:Description:\nA snowshoe trip to Taylor Lake\, which sits at the base of Mount Bell\, is a beautiful sight. Be sure not to miss the open meadows below Panorama Ridge\, just a short distance from Taylor Lake; they are what make this a spectacular trip. \nMeet Place:\nShell Station at COP \nDirections:\nMeet at the Shell station at COP. \nDistance/Length:\nRated (MOD/INT)\, 10 km + 700 meters elevation gain: 6 hours on trail. \nCarpool Option:\nWhen possible\, carpooling will be arranged from the Shell station in Calgary. It is not guaranteed but may be an option. \nCovid vaccination mandatory:\nVaccination is mandatory to hike with Fit Frog. Please confirm that you are fully vaccinated for Covid 19. You can do this by emailing Lori at lorib@fitfrog.ca proof of vaccination.
URL:https://www.fitfrog.ca/event/taylor-lake-snowshoe-banff-national-park/
LOCATION:Shell Station at COP\, HWY 1\, 8435 Bowfort Rd NW\, Calgary\, AB T3B 2V2
CATEGORIES:Full Day Alberta Hikes / Snowshoeing
ATTACH;FMTTYPE=image/jpeg:https://www.fitfrog.ca/wp-content/uploads/2021/04/hikers-Banff-National-Park-Winter.jpg
END:VEVENT
BEGIN:VEVENT
DTSTART;TZID=America/Edmonton:20211124T080000
DTEND;TZID=America/Edmonton:20211124T160000
DTSTAMP:20260422T111315
CREATED:20210716T132143Z
LAST-MODIFIED:20211204T142039Z
UID:1891-1637740800-1637769600@www.fitfrog.ca
SUMMARY:Chester Lake & Elephant Rocks Snowshoe\, Kananaskis
DESCRIPTION:Description:\nWe’ll climb along a forested path to big open views of surrounding peaks\, including Mount Chester. Onward to Chester Lake and beyond to the Elephant Rocks. If snow if abundant this trail allows for lots of  powdery off-trail exploration. \nMeet Place:\nShell Station at COP \nDirections:\nMeet at the Shell station at COP. \nDistance/Length:\nRated (MOD)\, 10 km + 3-400 meters elevation gain: 4+ hours on trail. \nCarpool Option:\nWhen possible\, carpooling will be arranged from the Shell station in Calgary. It is not guaranteed but may be an option. \nCovid vaccination mandatory:\nVaccination is mandatory to hike with Fit Frog. Please confirm that you are fully vaccinated for Covid 19. You can do this by emailing Lori at lorib@fitfrog.ca proof of vaccination.
URL:https://www.fitfrog.ca/event/chester-lake-elephant-rocks-snowshoe-kananaskis/
LOCATION:Shell Station at COP\, HWY 1\, 8435 Bowfort Rd NW\, Calgary\, AB T3B 2V2
CATEGORIES:Full Day Alberta Hikes / Snowshoeing
ATTACH;FMTTYPE=image/jpeg:https://www.fitfrog.ca/wp-content/uploads/2021/10/Snowshoe-trail-Chester-Lake-copy.jpg
END:VEVENT
BEGIN:VEVENT
DTSTART;TZID=America/Edmonton:20211125T090000
DTEND;TZID=America/Edmonton:20211125T153000
DTSTAMP:20260422T111315
CREATED:20210601T004655Z
LAST-MODIFIED:20211122T200845Z
UID:1624-1637830800-1637854200@www.fitfrog.ca
SUMMARY:Prairie View and Jewell Pass (Yates Mountain)\, Kananaskis
DESCRIPTION:Description:\nThis trail goes by secluded Jewell Falls and has beautiful views of Barrier Lake. We’ll climb to the top of Yates Mountain where a fire lookout is perched\, and have lunch before looping back on the Prairie View Trail. \nMeet Place:\nBarrier Dam Parking lot\, Hwy 40\, Kananaskis \nDirections:\nFollow Hwy 1 west to Hwy 40. Take Hwy 40 to the Barrier Dam Parking lot (just past the Kananaskis Visitor Centre and before the Kananaskis Village and Nakiska Ski Hill turn off). \nDistance/Length:\nRated (MOD/INT)\, 12 km + 600 meters elevation gain: 5-6 hours hiking. There is an option for some people to stop after about 500 metres of elevation gain and enjoy the views. \nCarpool Option:\nWhen possible\, carpooling will be arranged from the Shell station in Calgary. It is not guaranteed but may be an option. \nCovid vaccination mandatory:\nVaccination is mandatory to hike with Fit Frog. Please confirm that you are fully vaccinated for Covid 19. You can do this by emailing Lori at lorib@fitfrog.ca proof of vaccination.
URL:https://www.fitfrog.ca/event/prairie-view-and-jewell-pass-yates-mountain-kananaskis/
LOCATION:Barrier Dam parking (Prairie View hike)\, 2XJ6+X8 Kananaskis\, Alberta
CATEGORIES:Full Day Alberta Hikes / Snowshoeing
ATTACH;FMTTYPE=image/jpeg:https://www.fitfrog.ca/wp-content/uploads/2021/03/Join-Lori-on-an-adventure-Barrier-Lake.jpg
END:VEVENT
BEGIN:VEVENT
DTSTART;VALUE=DATE:20211128
DTEND;VALUE=DATE:20211129
DTSTAMP:20260422T111315
CREATED:20210611T152828Z
LAST-MODIFIED:20211125T140214Z
UID:1721-1638057600-1638143999@www.fitfrog.ca
SUMMARY:Highwood Pass Snowshoe\, Kananaskis
DESCRIPTION:Description:\nWe’ll wind our way along a forested path before entering a spectacular cirque with big views all around. \nMeet Place:\nShell Station at COP at 7:45 am \nDirections:\nMeet at the Shell station at COP. We will drive west on Hwy 1 to Hwy 40 turnoff. Continue on Hwy. 40 to the Highwood Pass Parking lot. \nDistance/Length:\nRated (MOD)\, 8 km + 300 meters elevation gain. Approx. 4 hours on the trail. \nCarpool Option:\nWhen possible\, carpooling will be arranged from the meet place.
URL:https://www.fitfrog.ca/event/highwood-pass-snowshoe-kananaskis/
LOCATION:Shell Station at COP\, HWY 1\, 8435 Bowfort Rd NW\, Calgary\, AB T3B 2V2
CATEGORIES:Full Day Alberta Hikes / Snowshoeing
ATTACH;FMTTYPE=image/jpeg:https://www.fitfrog.ca/wp-content/uploads/2021/04/Snowshoes-at-Highwood-Pass-copy.jpg
END:VEVENT
END:VCALENDAR