BEGIN:VCALENDAR
VERSION:2.0
PRODID:-//Fit Frog Adventures - ECPv6.15.20//NONSGML v1.0//EN
CALSCALE:GREGORIAN
METHOD:PUBLISH
X-WR-CALNAME:Fit Frog Adventures
X-ORIGINAL-URL:https://www.fitfrog.ca
X-WR-CALDESC:Events for Fit Frog Adventures
REFRESH-INTERVAL;VALUE=DURATION:PT1H
X-Robots-Tag:noindex
X-PUBLISHED-TTL:PT1H
BEGIN:VTIMEZONE
TZID:America/Edmonton
BEGIN:DAYLIGHT
TZOFFSETFROM:-0700
TZOFFSETTO:-0600
TZNAME:MDT
DTSTART:20210314T090000
END:DAYLIGHT
BEGIN:STANDARD
TZOFFSETFROM:-0600
TZOFFSETTO:-0700
TZNAME:MST
DTSTART:20211107T080000
END:STANDARD
BEGIN:DAYLIGHT
TZOFFSETFROM:-0700
TZOFFSETTO:-0600
TZNAME:MDT
DTSTART:20220313T090000
END:DAYLIGHT
BEGIN:STANDARD
TZOFFSETFROM:-0600
TZOFFSETTO:-0700
TZNAME:MST
DTSTART:20221106T080000
END:STANDARD
BEGIN:DAYLIGHT
TZOFFSETFROM:-0700
TZOFFSETTO:-0600
TZNAME:MDT
DTSTART:20230312T090000
END:DAYLIGHT
BEGIN:STANDARD
TZOFFSETFROM:-0600
TZOFFSETTO:-0700
TZNAME:MST
DTSTART:20231105T080000
END:STANDARD
END:VTIMEZONE
BEGIN:VEVENT
DTSTART;TZID=America/Edmonton:20220418T083000
DTEND;TZID=America/Edmonton:20220418T133000
DTSTAMP:20260420T021045
CREATED:20220202T234402Z
LAST-MODIFIED:20220412T135026Z
UID:3037-1650270600-1650288600@www.fitfrog.ca
SUMMARY:Prairie Mountain loop to Prairie Creek\, Elbow Valley\, Kananaskis
DESCRIPTION:Description:\nA steep climb leads to breathtaking views of the front ranges\, the Elbow River Valley\, and the city of Calgary. We’ll loop down to connect to the Prairie Creek trail for a rolling\, creekside finish. This hike is part of the Fall session of hikes with Club Fit Frog. \nMeet Place:\nAllen Bill trailhead\, Elbow Falls Trail (Hwy 66) Kananaskis \nDirections:\nThis trailhead is about a 45-55 minute drive from Calgary. \n\nAccess Hwy. 66 from Hwy. 22 (Hwy. 22 becomes Hwy. 66) or from Hwy. 8 (Glenmore Trail West).\nFollow Hwy. 66 into Kananaskis Country\nGo past the Information Centre and watch for the “Allen Bill” sign.\nThe sign and parking are just past the Elbow River Crossing at the bottom of long\, gradual hill.\n\nDistance/Length:\nRated (INT)\, 10 km + 700 meters elevation gain: 4-5 hours hiking time \nCarpool Option:\nWhen possible\, carpooling will be arranged from the meet place.
URL:https://www.fitfrog.ca/event/prairie-mountain-loop-to-prairie-creek-elbow-valley-kananaskis-spring/
LOCATION:Allen Bill Day Use Area\, W826+H8\, Bragg Creek\, Alberta\, T0L 0K0\, Canada
CATEGORIES:Full Day Alberta Hikes / Snowshoeing
ATTACH;FMTTYPE=image/jpeg:https://www.fitfrog.ca/wp-content/uploads/2021/03/Prairie-Mountain.jpg
END:VEVENT
END:VCALENDAR