BEGIN:VCALENDAR
VERSION:2.0
PRODID:-//Fit Frog Adventures - ECPv6.15.20//NONSGML v1.0//EN
CALSCALE:GREGORIAN
METHOD:PUBLISH
X-WR-CALNAME:Fit Frog Adventures
X-ORIGINAL-URL:https://www.fitfrog.ca
X-WR-CALDESC:Events for Fit Frog Adventures
REFRESH-INTERVAL;VALUE=DURATION:PT1H
X-Robots-Tag:noindex
X-PUBLISHED-TTL:PT1H
BEGIN:VTIMEZONE
TZID:America/Edmonton
BEGIN:DAYLIGHT
TZOFFSETFROM:-0700
TZOFFSETTO:-0600
TZNAME:MDT
DTSTART:20210314T090000
END:DAYLIGHT
BEGIN:STANDARD
TZOFFSETFROM:-0600
TZOFFSETTO:-0700
TZNAME:MST
DTSTART:20211107T080000
END:STANDARD
BEGIN:DAYLIGHT
TZOFFSETFROM:-0700
TZOFFSETTO:-0600
TZNAME:MDT
DTSTART:20220313T090000
END:DAYLIGHT
BEGIN:STANDARD
TZOFFSETFROM:-0600
TZOFFSETTO:-0700
TZNAME:MST
DTSTART:20221106T080000
END:STANDARD
BEGIN:DAYLIGHT
TZOFFSETFROM:-0700
TZOFFSETTO:-0600
TZNAME:MDT
DTSTART:20230312T090000
END:DAYLIGHT
BEGIN:STANDARD
TZOFFSETFROM:-0600
TZOFFSETTO:-0700
TZNAME:MST
DTSTART:20231105T080000
END:STANDARD
END:VTIMEZONE
BEGIN:VEVENT
DTSTART;TZID=America/Edmonton:20220609T083000
DTEND;TZID=America/Edmonton:20220609T143000
DTSTAMP:20260420T005150
CREATED:20220301T153033Z
LAST-MODIFIED:20220518T220231Z
UID:3265-1654763400-1654785000@www.fitfrog.ca
SUMMARY:Birthday hike to Jumpingpound Summit and beyond\,  Kananaskis
DESCRIPTION:Description:\nIt’s Lori’s birthday so we’ll hike for cupcakes! This scenic trail takes you to breathtaking views of the front ranges. We’ll hike beyond Jumpingpound Summit along grassy slopes to big views and our lunch spot. \nMeet Place:\nAllen Bill trailhead\, Elbow Falls Trail (Hwy 66) Kananaskis \nDirections:\nThis trailhead is about a 45-55 minute drive from Calgary. \n\nAccess Hwy. 66 from Hwy. 22 (Hwy. 22 becomes Hwy. 66) or from Hwy. 8 (Glenmore Trail West).\nFollow Hwy. 66 into Kananaskis Country\nGo past the Information Centre and watch for the “Allen Bill” sign.\nThe sign and parking is just past the Elbow River Crossing at the bottom of long\, gradual hill.\n\nDistance/Length:\nRated* (MOD)\, 10 km + 500 meters elevation gain: 4-5 hours hiking time \n*Please see the drop menu below for an explanation of ratings \nCarpool Option:\nWhen possible\, carpooling will be arranged from the meet place.
URL:https://www.fitfrog.ca/event/birthday-hike-to-jumpingpound-summit-and-beyond-kananaskis/
LOCATION:Allen Bill Day Use Area\, W826+H8\, Bragg Creek\, Alberta\, T0L 0K0\, Canada
CATEGORIES:Full Day Alberta Hikes / Snowshoeing
ATTACH;FMTTYPE=image/jpeg:https://www.fitfrog.ca/wp-content/uploads/2021/03/Jumpingpound-Ridge-Birthday-hike.jpg
END:VEVENT
BEGIN:VEVENT
DTSTART;TZID=America/Edmonton:20220616T083000
DTEND;TZID=America/Edmonton:20220616T150000
DTSTAMP:20260420T005150
CREATED:20220203T002625Z
LAST-MODIFIED:20220526T001323Z
UID:3058-1655368200-1655391600@www.fitfrog.ca
SUMMARY:Powderface Ridge\, Kananaskis
DESCRIPTION:Description:\nThis scenic trail takes you through wildflowers meadows to breathtaking views of the front ranges\, the Elbow River Valley\, and the city of Calgary. \nMeet Place:\nAllen Bill trailhead\, Elbow Falls Trail (Hwy 66) Kananaskis \nDirections:\nThis trailhead is about a 45-55 minute drive from Calgary. \n\nAccess Hwy. 66 from Hwy. 22 (Hwy. 22 becomes Hwy. 66) or from Hwy. 8 (Glenmore Trail West).\nFollow Hwy. 66 into Kananaskis Country\nGo past the Information Centre and watch for the “Allen Bill” sign.\nThe sign and parking is just past the Elbow River Crossing at the bottom of a long\, gradual hill.\n\nDistance/Length:\nRated (MOD/INT)*\, 10 km + 650 meters elevation gain: 5 hours hiking time \n*See drop-down menu below to learn about ratings. \nCarpool Option:\nWhen possible\, carpooling will be arranged from the meet place.
URL:https://www.fitfrog.ca/event/powderface-ridge-kananaskis/
LOCATION:Allen Bill Day Use Area\, W826+H8\, Bragg Creek\, Alberta\, T0L 0K0\, Canada
CATEGORIES:Full Day Alberta Hikes / Snowshoeing
ATTACH;FMTTYPE=image/jpeg:https://www.fitfrog.ca/wp-content/uploads/2021/03/Powderface-Ridge-shooting-stars-wildflowers-summer-1-2.jpg
END:VEVENT
BEGIN:VEVENT
DTSTART;TZID=America/Edmonton:20220622T083000
DTEND;TZID=America/Edmonton:20220622T150000
DTSTAMP:20260420T005150
CREATED:20220706T132659Z
LAST-MODIFIED:20220707T143508Z
UID:4679-1655886600-1655910000@www.fitfrog.ca
SUMMARY:Cox Hill Ridge\, Kananaskis
DESCRIPTION:Description:\nThis scenic trail takes you along a forested path to meadows of wildflowers and breathtaking views of the front ranges and the city of Calgary. \nMeet Place:\nShell Station at COP \nDirections:\nDawson Trailhead in Sibbald Flats Area of Kananaskis off Hwy 1 west: Hwy 68 to Powderface Road (Google map: https://goo.gl/maps/pDxAsQkqyQko56DEA) \nDistance/Length:\nRated (MOD/INT)*\, 13 km + 600 meters elevation gain: 5 hours hiking time \n*See drop-down menu below to learn about ratings. \nCarpool Option:\nWhen possible\, carpooling will be arranged from the meet place\, or you can meet the group at the trailhead.
URL:https://www.fitfrog.ca/event/cox-hill-ridge-kananaskis/
LOCATION:Allen Bill Day Use Area\, W826+H8\, Bragg Creek\, Alberta\, T0L 0K0\, Canada
CATEGORIES:Full Day Alberta Hikes / Snowshoeing
ATTACH;FMTTYPE=image/jpeg:https://www.fitfrog.ca/wp-content/uploads/2021/03/Powderface-Ridge-shooting-stars-wildflowers-summer-1-2.jpg
END:VEVENT
END:VCALENDAR