BEGIN:VCALENDAR
VERSION:2.0
PRODID:-//Fit Frog Adventures - ECPv6.15.20//NONSGML v1.0//EN
CALSCALE:GREGORIAN
METHOD:PUBLISH
X-WR-CALNAME:Fit Frog Adventures
X-ORIGINAL-URL:https://www.fitfrog.ca
X-WR-CALDESC:Events for Fit Frog Adventures
REFRESH-INTERVAL;VALUE=DURATION:PT1H
X-Robots-Tag:noindex
X-PUBLISHED-TTL:PT1H
BEGIN:VTIMEZONE
TZID:America/Edmonton
BEGIN:DAYLIGHT
TZOFFSETFROM:-0700
TZOFFSETTO:-0600
TZNAME:MDT
DTSTART:20210314T090000
END:DAYLIGHT
BEGIN:STANDARD
TZOFFSETFROM:-0600
TZOFFSETTO:-0700
TZNAME:MST
DTSTART:20211107T080000
END:STANDARD
BEGIN:DAYLIGHT
TZOFFSETFROM:-0700
TZOFFSETTO:-0600
TZNAME:MDT
DTSTART:20220313T090000
END:DAYLIGHT
BEGIN:STANDARD
TZOFFSETFROM:-0600
TZOFFSETTO:-0700
TZNAME:MST
DTSTART:20221106T080000
END:STANDARD
BEGIN:DAYLIGHT
TZOFFSETFROM:-0700
TZOFFSETTO:-0600
TZNAME:MDT
DTSTART:20230312T090000
END:DAYLIGHT
BEGIN:STANDARD
TZOFFSETFROM:-0600
TZOFFSETTO:-0700
TZNAME:MST
DTSTART:20231105T080000
END:STANDARD
END:VTIMEZONE
BEGIN:VEVENT
DTSTART;TZID=America/Edmonton:20220701T073000
DTEND;TZID=America/Edmonton:20220701T160000
DTSTAMP:20260420T005210
CREATED:20220302T154906Z
LAST-MODIFIED:20220718T141622Z
UID:3311-1656660600-1656691200@www.fitfrog.ca
SUMMARY:Tent Ridge Horseshoe\, Kananaskis
DESCRIPTION:Description:\nThis is a spectacular\, CHALLENGING scramble/hike & ridge walk that offers the hiker panoramic views of the Spray Lakes Valley and Banff National Park. You’ll be able to see Mount Assiniboine on a clear day. YOU MUST BE COMFORTABLE with rocky terrain\, exposure\, using your hands to climb and balance at times\, and steep descents. If you have a fear of heights you should not come on this hike as the route is alongside steep drop-offs and steep slopes throughout the day. \nMeet Place:\nShell Gas Station\, across from COP OR meet at Chester Lake trailhead\, Spray Lakes Road\, Kananaskis at 9 am. About a 1 hour 40 minutes drive from Calgary. \nDirections:\nChester Lake Trailhead: Hwy 1 (Trans Canada) west to Hwy 40. Continue along Hwy 40 to the turnoff on Kananaskis Lake Trail followed by another turn onto the Spray Lakes Road (Smith Dorrien Hwy 762). Continue on this gravel road to Chester Lake Parking lot where will use the bathrooms before driving another 10 minutes to the start of the hike. \nDistance/Length:\nRated ADV: 13 km + 800 m elevation gain\, 5-6 hours round trip. \nCarpool Option:\nWhen possible\, carpooling will be arranged from the meeting place. It is not guaranteed but may be an option.
URL:https://www.fitfrog.ca/event/tent-ridge-horseshoe-kananaskis-june/
LOCATION:Shell Station at COP\, HWY 1\, 8435 Bowfort Rd NW\, Calgary\, AB T3B 2V2
CATEGORIES:Full Day Alberta Hikes / Snowshoeing
ATTACH;FMTTYPE=image/jpeg:https://www.fitfrog.ca/wp-content/uploads/2021/04/Tent-Ridge-small.jpg
END:VEVENT
BEGIN:VEVENT
DTSTART;TZID=America/Edmonton:20220701T073000
DTEND;TZID=America/Edmonton:20220701T163000
DTSTAMP:20260420T005210
CREATED:20220302T213557Z
LAST-MODIFIED:20220728T170341Z
UID:3335-1656660600-1656693000@www.fitfrog.ca
SUMMARY:Buller Pass Larch\, Kananaskis
DESCRIPTION:Description:\nA meandering trail leads to a waterfall\, unique rock outcrops\, rugged cliff bands\, and an open alpine valley. A steep rocky slope leads to Buller Pass where spectacular views of Ribbon Lake and Mount Assiniboine are achieved. \nMeet Place:\nShell at COP \nDirections:\nMeet at the Shell station at COP. \nDistance/Length:\nRated (MOD/INT)\, 12 km + 400 or 600 meters elevation gain: 5-6 hours hiking. There is an option for some people to stop after about 400 metres of elevation gain and enjoy the wide-open valley while others hike to the pass. \nCarpool Option:\nWhen possible\, carpooling will be arranged from the Shell station in Calgary. It is not guaranteed but may be an option. \n 
URL:https://www.fitfrog.ca/event/buller-pass-larch-kananaskis-2/
LOCATION:Shell Station at COP\, HWY 1\, 8435 Bowfort Rd NW\, Calgary\, AB T3B 2V2
CATEGORIES:Full Day Alberta Hikes / Snowshoeing
ATTACH;FMTTYPE=image/jpeg:https://www.fitfrog.ca/wp-content/uploads/2021/05/Larch-Alberta-Rocky-Mountains.jpg
END:VEVENT
BEGIN:VEVENT
DTSTART;TZID=America/Edmonton:20220714T073000
DTEND;TZID=America/Edmonton:20220714T163000
DTSTAMP:20260420T005210
CREATED:20220301T183534Z
LAST-MODIFIED:20220707T143421Z
UID:3269-1657783800-1657816200@www.fitfrog.ca
SUMMARY:Galatea Lake and Guinn's Pass\, Kananaskis
DESCRIPTION:Description:\nThe trail to Lillian Lake\, Galatea Lakes\, and Guinn’s Pass follow a forested trail alongside Galatea Creek\, crisscrossing bridges until Lillian Lake comes into view. The 1 km climb to Galatea lake offers spectacular views. The views continue on the way to Guinn’s Pass where we’ll settle in for lunch and views of Ribbon Lake and Buller Pass. \nMeet Place:\nShell Station\, Hwy 1 across from COP  (or meet at the trailhead at 8:30 am) \nDirections:\nGalatea trailhead: Hwy 1 (Trans Canada) west to Hwy 40. Continue along Hwy 40 to the Galatea trailhead\, just past the Village of Kananaskis. \nDistance/Length:\nRated INT/ADV: 16 km round trip to Galatea Lake\, 18 km round trip to Guinn’s Pass; 700-900 m elevation gain\, 7 hours round trip. \nCarpool Option:\nWhen possible\, carpooling will be arranged from the Shell station in Calgary
URL:https://www.fitfrog.ca/event/galatea-lake-and-guinns-pass-kananaskis-2022/
LOCATION:Galatea Trailhead\, Kananaskis\, VR6F+GG Kananaskis Village\, Alberta
CATEGORIES:Full Day Alberta Hikes / Snowshoeing
ATTACH;FMTTYPE=image/jpeg:https://www.fitfrog.ca/wp-content/uploads/2021/03/Mountain-Hikes.jpg
END:VEVENT
BEGIN:VEVENT
DTSTART;TZID=America/Edmonton:20220717T073000
DTEND;TZID=America/Edmonton:20220717T160000
DTSTAMP:20260420T005210
CREATED:20220126T193442Z
LAST-MODIFIED:20220702T153653Z
UID:3011-1658043000-1658073600@www.fitfrog.ca
SUMMARY:Stanley Glacier\, Kootenay National Park
DESCRIPTION:Description:\nA wonderful trail zigzags through shrubs and wildflowers into a wide-open valley below Stanley Glacier. Waterfalls\, glaciers\, and big views are constant on this fantastic hike. \nMeet Place:\nShell Station on Hwy 1\, across from COP \nDirections:\nStanley Glacier Trailhead\, Kootenay National Park: Hwy 1 (Trans Canada) west to Castle Junction. Take Hwy 93 south towards Radium (about 1 hour\, 50 minutes drive from Calgary). Google map link: https://goo.gl/maps/ZbVzh1winwjb2nuL8 \nDistance/Length:\nRated MOD: 11 km + 500 m elevation gain: 5 hours of hiking. \nCarpool Option:\nWhen possible\, carpooling will be arranged from the Shell station in Calgary
URL:https://www.fitfrog.ca/event/stanley-glacier-kootenay-national-park-summer/
LOCATION:Shell Station at COP\, HWY 1\, 8435 Bowfort Rd NW\, Calgary\, AB T3B 2V2
CATEGORIES:Full Day Alberta Hikes / Snowshoeing
ATTACH;FMTTYPE=image/jpeg:https://www.fitfrog.ca/wp-content/uploads/2021/04/Indian-Paintbrush-scaled.jpg
END:VEVENT
BEGIN:VEVENT
DTSTART;TZID=America/Edmonton:20220721T083000
DTEND;TZID=America/Edmonton:20220721T160000
DTSTAMP:20260420T005210
CREATED:20220707T143803Z
LAST-MODIFIED:20220707T143913Z
UID:4693-1658392200-1658419200@www.fitfrog.ca
SUMMARY:Healy Pass & Simpson's Pass Wildflowers\, Banff national Park
DESCRIPTION:Description:\nThis Parks Canada Trail is well maintained and allows for beautiful views of many gorgeous peaks and Egypt Lake. The start of the trail keeps you shaded from the summer sun as you gradually climb. The hike starts with a wide\, rolling trail that narrows as you go. The lush forest and the bridge over Healy Creek are stunning\, submerging you in the idyllic natural universe of the Canadian Rockies. We’ll take Simpson pass through meadows\, past lakes before entering the Wildflower-filled alpine meadows that lead to Healy Pass. Views of lakes and waterfalls and peak upon peak are your reward. \nMeet Place:\nSunshine Ski Hill Parking Lot\, Banff National Park (drive all the way to the Sunshine ski hill parking lots and the lodges\, at the end of the road) \nDirections:\nHwy 1 (Trans Canada) west to Sunshine Ski Hill (just west of the town of Banff) \nDistance/Length:\nRated MOD/INT: 20 km + 700 metres elevation gain. 6+ hours hiking \nCarpool Option:\nWhen possible\, carpooling will be arranged from the Shell station in Calgary
URL:https://www.fitfrog.ca/event/healy-pass-simpsons-pass-wildflowers-banff-national-park/
LOCATION:Healy Pass trailhead\, Sunshine ski hill\, 467P+XH Banff\, Alberta\, Canada
CATEGORIES:Full Day Alberta Hikes / Snowshoeing
ATTACH;FMTTYPE=image/jpeg:https://www.fitfrog.ca/wp-content/uploads/2021/04/Healy-Pass-summer-meadow-small.jpg
END:VEVENT
END:VCALENDAR