BEGIN:VCALENDAR
VERSION:2.0
PRODID:-//Fit Frog Adventures - ECPv6.15.20//NONSGML v1.0//EN
CALSCALE:GREGORIAN
METHOD:PUBLISH
X-ORIGINAL-URL:https://www.fitfrog.ca
X-WR-CALDESC:Events for Fit Frog Adventures
REFRESH-INTERVAL;VALUE=DURATION:PT1H
X-Robots-Tag:noindex
X-PUBLISHED-TTL:PT1H
BEGIN:VTIMEZONE
TZID:America/Edmonton
BEGIN:DAYLIGHT
TZOFFSETFROM:-0700
TZOFFSETTO:-0600
TZNAME:MDT
DTSTART:20210314T090000
END:DAYLIGHT
BEGIN:STANDARD
TZOFFSETFROM:-0600
TZOFFSETTO:-0700
TZNAME:MST
DTSTART:20211107T080000
END:STANDARD
BEGIN:DAYLIGHT
TZOFFSETFROM:-0700
TZOFFSETTO:-0600
TZNAME:MDT
DTSTART:20220313T090000
END:DAYLIGHT
BEGIN:STANDARD
TZOFFSETFROM:-0600
TZOFFSETTO:-0700
TZNAME:MST
DTSTART:20221106T080000
END:STANDARD
BEGIN:DAYLIGHT
TZOFFSETFROM:-0700
TZOFFSETTO:-0600
TZNAME:MDT
DTSTART:20230312T090000
END:DAYLIGHT
BEGIN:STANDARD
TZOFFSETFROM:-0600
TZOFFSETTO:-0700
TZNAME:MST
DTSTART:20231105T080000
END:STANDARD
END:VTIMEZONE
BEGIN:VEVENT
DTSTART;TZID=America/Edmonton:20221002T073000
DTEND;TZID=America/Edmonton:20221002T160000
DTSTAMP:20260419T184133
CREATED:20220404T143729Z
LAST-MODIFIED:20220920T205823Z
UID:3640-1664695800-1664726400@www.fitfrog.ca
SUMMARY:Burstall Pass Larch\, Kananaskis
DESCRIPTION:Description:\nBurstall Pass trail winds through forests and willow flats near the Burstall Lakes then climbs to alpine meadows and golden larches. \nMeet Place:\nMeet at the Shell Gas station across from COP on Hwy 1 (Trans Canada) or at the trailhead (exact trailhead driving instructions will be given closer to the date) \nDirections:\nBurstall Pass trailhead is located on Hwy 762 (Smith Dorrien) in Kananaskis. \nDistance/Length:\nRated MOD: 16 km + 450 m elevation gain: 5 hours of hiking. \nCarpool Option:\nWhen possible\, carpooling will be arranged from the Co-op Gas Station at the Brentwood LRT.  If you need to carpool because you do not have a car\, please advise Lori.
URL:https://www.fitfrog.ca/event/burstall-pass-larch-kananaskis-fall-2022/
LOCATION:Shell Station at COP\, HWY 1\, 8435 Bowfort Rd NW\, Calgary\, AB T3B 2V2
CATEGORIES:Full Day Alberta Hikes / Snowshoeing
ATTACH;FMTTYPE=image/jpeg:https://www.fitfrog.ca/wp-content/uploads/2022/04/Burstall-Pass-fall-hike.jpg
END:VEVENT
BEGIN:VEVENT
DTSTART;TZID=America/Edmonton:20221027T080000
DTEND;TZID=America/Edmonton:20221027T160000
DTSTAMP:20260419T184134
CREATED:20220203T002827Z
LAST-MODIFIED:20221024T193410Z
UID:3062-1666857600-1666886400@www.fitfrog.ca
SUMMARY:Prairie View and Jewell Pass (Yates Mountain)\, Kananaskis
DESCRIPTION:Description:\nThis trail goes by secluded Jewell Falls and has beautiful views of Barrier Lake. We’ll climb to the top of Yates Mountain where a fire lookout is perched\, and have lunch before looping back on the Prairie View Trail. \nMeet Place:\nShell Station across from COP \nDirections:\nWe’ll meet in Calgary and carpool or you can meet us at the trailhead.\, or you can meet at the Barrier Dam Trailhead at 9 am: Follow Hwy 1 west to Hwy 40. Take Hwy 40 to the Barrier Dam Parking lot (just past the Kananaskis Visitor Centre and before the Kananaskis Village and Nakiska Ski Hill turn off). Here is teh Google Map link to the Barrier Lake Trailhead \nDistance/Length:\nRated (MOD/INT)\, 12 km + 600 meters elevation gain: 5-6 hours hiking. There is an option for some people to stop after about 500 metres of elevation gain and enjoy the views. \nCarpool Option:\nWhen possible\, carpooling will be arranged from the Shell Station. It is not guaranteed but may be an option.
URL:https://www.fitfrog.ca/event/prairie-view-and-jewell-pass-yates-mountain-kananaskis-oct/
LOCATION:Shell Station at COP\, HWY 1\, 8435 Bowfort Rd NW\, Calgary\, AB T3B 2V2
CATEGORIES:Full Day Alberta Hikes / Snowshoeing
ATTACH;FMTTYPE=image/jpeg:https://www.fitfrog.ca/wp-content/uploads/2021/05/Barrier-Lake-reflection-prairie-view-Jewell-Pass-hike-small.jpg
END:VEVENT
BEGIN:VEVENT
DTSTART;TZID=America/Edmonton:20221030T080000
DTEND;TZID=America/Edmonton:20221030T150000
DTSTAMP:20260419T184134
CREATED:20220404T153204Z
LAST-MODIFIED:20221025T202257Z
UID:3651-1667116800-1667142000@www.fitfrog.ca
SUMMARY:Canmore hike and café
DESCRIPTION:Description:\nWe’ll hike the neighbourhoods\, river trails\, and the High Line Trail trail in Canmore. We’ll walk along the Bow River towards the Three Sisters mountain ranges before walking the Highline Trail. We’ll stop in downtown Canmore for a late lunch. Bring food for the hike as lunch will be after 1 pm. You will be back in Calgary by 3-4 pm.\n*Lunch cost not included.  \nMeet Place:\nMeet at the Shell Station across from COP (or at the Malcolm Hotel in Canmore) \nDirections:\nTake Hwy 1 to Canmore and park in the official town parking lot just before the Malcolm Hotel. \nDistance/Length:\nRated (AL)\, 10 km + 200 meters elevation gain: 3-4 hours on trail. \nCarpool Option:\nWhen possible\, carpooling will be arranged from the Calgary meet place.  If you need to carpool because you do not have a car\, please advise Lori.
URL:https://www.fitfrog.ca/event/canmore-hike-cafe-fall/
LOCATION:Shell Station at COP\, HWY 1\, 8435 Bowfort Rd NW\, Calgary\, AB T3B 2V2
CATEGORIES:Full Day Alberta Hikes / Snowshoeing
ATTACH;FMTTYPE=image/jpeg:https://www.fitfrog.ca/wp-content/uploads/2022/04/Canmore-Mountains.jpg
END:VEVENT
END:VCALENDAR