BEGIN:VCALENDAR
VERSION:2.0
PRODID:-//Fit Frog Adventures - ECPv6.15.20//NONSGML v1.0//EN
CALSCALE:GREGORIAN
METHOD:PUBLISH
X-ORIGINAL-URL:https://www.fitfrog.ca
X-WR-CALDESC:Events for Fit Frog Adventures
REFRESH-INTERVAL;VALUE=DURATION:PT1H
X-Robots-Tag:noindex
X-PUBLISHED-TTL:PT1H
BEGIN:VTIMEZONE
TZID:America/Edmonton
BEGIN:DAYLIGHT
TZOFFSETFROM:-0700
TZOFFSETTO:-0600
TZNAME:MDT
DTSTART:20210314T090000
END:DAYLIGHT
BEGIN:STANDARD
TZOFFSETFROM:-0600
TZOFFSETTO:-0700
TZNAME:MST
DTSTART:20211107T080000
END:STANDARD
BEGIN:DAYLIGHT
TZOFFSETFROM:-0700
TZOFFSETTO:-0600
TZNAME:MDT
DTSTART:20220313T090000
END:DAYLIGHT
BEGIN:STANDARD
TZOFFSETFROM:-0600
TZOFFSETTO:-0700
TZNAME:MST
DTSTART:20221106T080000
END:STANDARD
BEGIN:DAYLIGHT
TZOFFSETFROM:-0700
TZOFFSETTO:-0600
TZNAME:MDT
DTSTART:20230312T090000
END:DAYLIGHT
BEGIN:STANDARD
TZOFFSETFROM:-0600
TZOFFSETTO:-0700
TZNAME:MST
DTSTART:20231105T080000
END:STANDARD
END:VTIMEZONE
BEGIN:VEVENT
DTSTART;TZID=America/Edmonton:20221111T083000
DTEND;TZID=America/Edmonton:20221111T153000
DTSTAMP:20260419T184048
CREATED:20220808T141048Z
LAST-MODIFIED:20221109T181021Z
UID:4910-1668155400-1668180600@www.fitfrog.ca
SUMMARY:Nihahi Ridge hike/snowshoe\, Kananaskis
DESCRIPTION:Description:\n\nThis hike has it all\, starting in the forest before traversing a beautiful grassy meadow and then gaining elevation in the alpine as you climb to the ridge. The views are spectacular throughout the hike. Due to the recent snowfall\, we will hike with cleats or snowshoes\, depending on the depth of the snow. \n\nMeet Place:\nAllen Bill trailhead\, Elbow Falls Trail (Hwy 66) Kananaskis \nDirections:\nThis trailhead is about a 45-55 minute drive from Calgary. \n\nAccess Hwy. 66 from Hwy. 22 (Hwy. 22 becomes Hwy. 66) or from Hwy. 8 (Glenmore Trail West).\nFollow Hwy. 66 into Kananaskis Country\nGo past the Information Centre and watch for the “Allen Bill” sign.\nThe sign and parking are just past the Elbow River Crossing at the bottom of a long\, gradual hill.\n\nDistance/Length:\nRated (MOD/INT)\, 10 km + 500 meters elevation gain: 4-5 hours hiking time \nCarpool Option:\nWhen possible\, carpooling will be arranged from the meeting place.
URL:https://www.fitfrog.ca/event/nihahi-ridge-kananaskis-2022-nov/
LOCATION:Allen Bill Day Use Area\, W826+H8\, Bragg Creek\, Alberta\, T0L 0K0\, Canada
CATEGORIES:Full Day Alberta Hikes / Snowshoeing
ATTACH;FMTTYPE=image/jpeg:https://www.fitfrog.ca/wp-content/uploads/2021/03/Nihahi-Ridge-hiker-clouds.jpg
END:VEVENT
BEGIN:VEVENT
DTSTART;TZID=America/Edmonton:20221117T080000
DTEND;TZID=America/Edmonton:20221117T150000
DTSTAMP:20260419T184048
CREATED:20220308T005348Z
LAST-MODIFIED:20221114T141010Z
UID:3394-1668672000-1668697200@www.fitfrog.ca
SUMMARY:Banff Neighbourhoods & Hoodoos cafe hike
DESCRIPTION:Description:\nWe’ll walk from Banff townsite\, along the Bow River\, through neighbourhoods\, and along forested pathways below the steep cliffs of Tunnel Mountain. As the final section of the trail ascends\, views open up across the Bow Valley to Mount Rundle. We’ll loop back through town to warm up at a café *. \n*Café stop is optional. We will stop along the walk to eat so bring a lunch/snacks and plan to enjoy something more to eat at the café if you’d like to stay after the walk. \nMeet Place:\nShell Station at COP (or meet us at 9:20 am INSIDE the train station in Banff. Access the train station from the Norquay ski hill turn off and there is FREE parking and warm bathrooms here. Here is the Google Map link to the train station) \nDirections:\nTake Hwy 1 to the town of Banff. \nDistance/Length:\nRated (AL)\, 11 km + 200 meters elevation gain: 3-4 hours on pathways and side streets\, \nCarpool Option:\nWhen possible\, carpooling will be arranged. If you need to carpool because you do not have a car\, please advise Lori.
URL:https://www.fitfrog.ca/event/banff-hoodoos-cafe-hike/
LOCATION:Shell Station at COP\, HWY 1\, 8435 Bowfort Rd NW\, Calgary\, AB T3B 2V2
CATEGORIES:Full Day Alberta Hikes / Snowshoeing
ATTACH;FMTTYPE=image/jpeg:https://www.fitfrog.ca/wp-content/uploads/2022/03/Banff-Hoodoo-Trail-views-scaled.jpg
END:VEVENT
BEGIN:VEVENT
DTSTART;TZID=America/Edmonton:20221118T080000
DTEND;TZID=America/Edmonton:20221118T160000
DTSTAMP:20260419T184048
CREATED:20220805T145347Z
LAST-MODIFIED:20221125T153115Z
UID:4893-1668758400-1668787200@www.fitfrog.ca
SUMMARY:Highwood Pass Snowshoe\, Kananaskis
DESCRIPTION:Description:\nWe’ll wind our way along a forested path before entering a spectacular cirque with big views all around. \nMeet Place:\nShell Station at COP \nDirections:\nMeet at the Shell station at COP. We will drive west on Hwy 1 to Hwy 40 turnoff. Continue on Hwy. 40 to the Highwood Pass Parking lot. \nDistance/Length:\nRated (MOD)\, 8 km + 300 meters elevation gain. Approx. 4 hours on the trail. \nCarpool Option:\nWhen possible\, carpooling will be arranged from the Shell Station or from the Brentwood LRT. If you do not have a car and want to meet at the LRT\, please advise Lori.
URL:https://www.fitfrog.ca/event/highwood-pass-snowshoe-kananaskis-nov/
LOCATION:Shell Station at COP\, HWY 1\, 8435 Bowfort Rd NW\, Calgary\, AB T3B 2V2
CATEGORIES:Full Day Alberta Hikes / Snowshoeing
ATTACH;FMTTYPE=image/jpeg:https://www.fitfrog.ca/wp-content/uploads/2021/04/Snowshoes-at-Highwood-Pass-copy.jpg
END:VEVENT
BEGIN:VEVENT
DTSTART;TZID=America/Edmonton:20221127T090000
DTEND;TZID=America/Edmonton:20221127T150000
DTSTAMP:20260419T184048
CREATED:20221125T152514Z
LAST-MODIFIED:20221125T153029Z
UID:5580-1669539600-1669561200@www.fitfrog.ca
SUMMARY:Powderface Ridge\, Kananaskis
DESCRIPTION:Description:\nThis scenic trail takes you to breathtaking views of the front ranges\, the Elbow River Valley\, and the city of Calgary. \nMeet Place:\nAllen Bill trailhead\, Elbow Falls Trail (Hwy 66) Kananaskis \nDirections:\nThis trailhead is about a 45-55 minute drive from Calgary. \n\nAccess Hwy. 66 from Hwy. 22 (Hwy. 22 becomes Hwy. 66) or from Hwy. 8 (Glenmore Trail West).\nFollow Hwy. 66 into Kananaskis Country\nGo past the Information Centre and watch for the “Allen Bill” sign.\nThe sign and parking is just past the Elbow River Crossing at the bottom of a long\, gradual hill.\n\nDistance/Length:\nRated (MOD/INT)\, 10 km + 650 meters elevation gain: 5 hours hiking time \nCarpool Option:\nWhen possible\, carpooling will be arranged from the meet place. It is not guaranteed but may be an option.
URL:https://www.fitfrog.ca/event/powderface-ridge-kananaskis-winter/
LOCATION:Allen Bill Day Use Area\, W826+H8\, Bragg Creek\, Alberta\, T0L 0K0\, Canada
CATEGORIES:Full Day Alberta Hikes / Snowshoeing
ATTACH;FMTTYPE=image/jpeg:https://www.fitfrog.ca/wp-content/uploads/2021/03/View-of-front-ranges-from-Elbow-Valley-Hike.jpg
END:VEVENT
END:VCALENDAR