BEGIN:VCALENDAR
VERSION:2.0
PRODID:-//Fit Frog Adventures - ECPv6.15.20//NONSGML v1.0//EN
CALSCALE:GREGORIAN
METHOD:PUBLISH
X-WR-CALNAME:Fit Frog Adventures
X-ORIGINAL-URL:https://www.fitfrog.ca
X-WR-CALDESC:Events for Fit Frog Adventures
REFRESH-INTERVAL;VALUE=DURATION:PT1H
X-Robots-Tag:noindex
X-PUBLISHED-TTL:PT1H
BEGIN:VTIMEZONE
TZID:America/Edmonton
BEGIN:DAYLIGHT
TZOFFSETFROM:-0700
TZOFFSETTO:-0600
TZNAME:MDT
DTSTART:20210314T090000
END:DAYLIGHT
BEGIN:STANDARD
TZOFFSETFROM:-0600
TZOFFSETTO:-0700
TZNAME:MST
DTSTART:20211107T080000
END:STANDARD
BEGIN:DAYLIGHT
TZOFFSETFROM:-0700
TZOFFSETTO:-0600
TZNAME:MDT
DTSTART:20220313T090000
END:DAYLIGHT
BEGIN:STANDARD
TZOFFSETFROM:-0600
TZOFFSETTO:-0700
TZNAME:MST
DTSTART:20221106T080000
END:STANDARD
BEGIN:DAYLIGHT
TZOFFSETFROM:-0700
TZOFFSETTO:-0600
TZNAME:MDT
DTSTART:20230312T090000
END:DAYLIGHT
BEGIN:STANDARD
TZOFFSETFROM:-0600
TZOFFSETTO:-0700
TZNAME:MST
DTSTART:20231105T080000
END:STANDARD
END:VTIMEZONE
BEGIN:VEVENT
DTSTART;TZID=America/Edmonton:20221210T080000
DTEND;TZID=America/Edmonton:20221210T160000
DTSTAMP:20260419T160643
CREATED:20220718T143559Z
LAST-MODIFIED:20220805T144514Z
UID:4792-1670659200-1670688000@www.fitfrog.ca
SUMMARY:Boom Lake Snowshoe\, Banff National Park
DESCRIPTION:Description:\nWe’ll climb along a forested path to big open views of surrounding peaks and the spectacular Boom Lake. \nMeet Place:\nShell Station at COP \nDirections:\nWe’ll meet in Calgary and carpool or you can meet us at the trailhead. Directions will be given. \nDistance/Length:\nRated (MOD)\, 10 km + 3-400 meters elevation gain: 4+ hours on trail. \nCarpool Option:\nWhen possible\, carpooling will be arranged from the Brentwood LRT Co-op gas station in Calgary\, please advise if you do not have a car and need to use this option. It is not guaranteed but may be an option.
URL:https://www.fitfrog.ca/event/boom-lake-snowshoe-banff-national-park-dec/
LOCATION:Shell Station at COP\, HWY 1\, 8435 Bowfort Rd NW\, Calgary\, AB T3B 2V2
CATEGORIES:Full Day Alberta Hikes / Snowshoeing
ATTACH;FMTTYPE=image/jpeg:https://www.fitfrog.ca/wp-content/uploads/2022/07/Boom-Lake-snowshoe.jpg
END:VEVENT
END:VCALENDAR