BEGIN:VCALENDAR
VERSION:2.0
PRODID:-//Fit Frog Adventures - ECPv6.15.20//NONSGML v1.0//EN
CALSCALE:GREGORIAN
METHOD:PUBLISH
X-WR-CALNAME:Fit Frog Adventures
X-ORIGINAL-URL:https://www.fitfrog.ca
X-WR-CALDESC:Events for Fit Frog Adventures
REFRESH-INTERVAL;VALUE=DURATION:PT1H
X-Robots-Tag:noindex
X-PUBLISHED-TTL:PT1H
BEGIN:VTIMEZONE
TZID:America/Edmonton
BEGIN:DAYLIGHT
TZOFFSETFROM:-0700
TZOFFSETTO:-0600
TZNAME:MDT
DTSTART:20220313T090000
END:DAYLIGHT
BEGIN:STANDARD
TZOFFSETFROM:-0600
TZOFFSETTO:-0700
TZNAME:MST
DTSTART:20221106T080000
END:STANDARD
BEGIN:DAYLIGHT
TZOFFSETFROM:-0700
TZOFFSETTO:-0600
TZNAME:MDT
DTSTART:20230312T090000
END:DAYLIGHT
BEGIN:STANDARD
TZOFFSETFROM:-0600
TZOFFSETTO:-0700
TZNAME:MST
DTSTART:20231105T080000
END:STANDARD
BEGIN:DAYLIGHT
TZOFFSETFROM:-0700
TZOFFSETTO:-0600
TZNAME:MDT
DTSTART:20240310T090000
END:DAYLIGHT
BEGIN:STANDARD
TZOFFSETFROM:-0600
TZOFFSETTO:-0700
TZNAME:MST
DTSTART:20241103T080000
END:STANDARD
END:VTIMEZONE
BEGIN:VEVENT
DTSTART;TZID=America/Edmonton:20230706T083000
DTEND;TZID=America/Edmonton:20230706T160000
DTSTAMP:20260419T061809
CREATED:20230213T212128Z
LAST-MODIFIED:20230703T201414Z
UID:5842-1688632200-1688659200@www.fitfrog.ca
SUMMARY:Lillian & Galatea Lakes (and Guinn's Pass option)\, Kananaskis
DESCRIPTION:Description:\nThe trail to Lillian Lake and the Galatea Lakes follows a forested trail alongside Galatea Creek\, crisscrossing bridges until Lillian Lake comes into view. The 1 km climb to Galatea lake offers spectacular views. There is an option to stop at Lillian for those who do not want to climb the extra 1 km. \nMeet Place:\nGalatea trailhead\, Hwy 40\, Kananaskis \nDirections:\nIt is about a 1 hour and 15 minute drive from Calgary to the Galatea trailhead on Hwy. 40. Take Hwy 1 (Trans Canada) west to Hwy 40. Continue along Hwy 40 to the Galatea trailhead\, just past the Village of Kananaskis. \nDistance/Length:\nRated MOD to Lillian Lake and INT to Galatea Lake and Guinn’s Pass:  Lillian Lake is 12.5 km + 475 metres round trip; Galatea Lake is 17 km +675 metres elevation gain round trip ( 6+ hiking hours including lunch stop to Galatea Lake and 7 + hours to Guinn’s Pass) \nCarpool Option:\nWhen possible\, carpooling will be arranged from the Shell station in Calgary. It is not guaranteed but may be an option.
URL:https://www.fitfrog.ca/event/lillian-galatea-lakes-kananaskis-summer-2023/
LOCATION:Galatea Trailhead\, Kananaskis\, VR6F+GG Kananaskis Village\, Alberta
CATEGORIES:Full Day Alberta Hikes / Snowshoeing
ATTACH;FMTTYPE=image/jpeg:https://www.fitfrog.ca/wp-content/uploads/2022/07/Galtea-Lake-summer.jpg
END:VEVENT
END:VCALENDAR