BEGIN:VCALENDAR
VERSION:2.0
PRODID:-//Fit Frog Adventures - ECPv6.15.20//NONSGML v1.0//EN
CALSCALE:GREGORIAN
METHOD:PUBLISH
X-WR-CALNAME:Fit Frog Adventures
X-ORIGINAL-URL:https://www.fitfrog.ca
X-WR-CALDESC:Events for Fit Frog Adventures
REFRESH-INTERVAL;VALUE=DURATION:PT1H
X-Robots-Tag:noindex
X-PUBLISHED-TTL:PT1H
BEGIN:VTIMEZONE
TZID:America/Edmonton
BEGIN:DAYLIGHT
TZOFFSETFROM:-0700
TZOFFSETTO:-0600
TZNAME:MDT
DTSTART:20190310T090000
END:DAYLIGHT
BEGIN:STANDARD
TZOFFSETFROM:-0600
TZOFFSETTO:-0700
TZNAME:MST
DTSTART:20191103T080000
END:STANDARD
BEGIN:DAYLIGHT
TZOFFSETFROM:-0700
TZOFFSETTO:-0600
TZNAME:MDT
DTSTART:20200308T090000
END:DAYLIGHT
BEGIN:STANDARD
TZOFFSETFROM:-0600
TZOFFSETTO:-0700
TZNAME:MST
DTSTART:20201101T080000
END:STANDARD
BEGIN:DAYLIGHT
TZOFFSETFROM:-0700
TZOFFSETTO:-0600
TZNAME:MDT
DTSTART:20210314T090000
END:DAYLIGHT
BEGIN:STANDARD
TZOFFSETFROM:-0600
TZOFFSETTO:-0700
TZNAME:MST
DTSTART:20211107T080000
END:STANDARD
END:VTIMEZONE
BEGIN:VEVENT
DTSTART;TZID=America/Edmonton:20200916T073000
DTEND;TZID=America/Edmonton:20200916T160000
DTSTAMP:20260424T001142
CREATED:20210531T232100Z
LAST-MODIFIED:20210601T010326Z
UID:1613-1600241400-1600272000@www.fitfrog.ca
SUMMARY:Pocaterra Ridge Larch\, Highwood Pass\, Kananaskis
DESCRIPTION:Description:\nThis is a moderate to a strenuous hike to panoramic views\, with some off-trail hiking up to Pocaterra Ridge. There are options to stop before the top as the views are spectacular the entire hike! \nMeet Place:\nHighwood Pass parking lot\, Kananaskis \nDirections:\nMeet at the Highwood Pass parking lot\, Hwy 40\, Kananaskis (trailhead for Pocaterra Ridge and Ptarmigan Cirque trails) \nDistance/Length:\nRated (INT)\, 12 km + 760 meters elevation gain: 5-6 hours hiking. There is an option for some people to stop after about 500 metres of elevation gain and enjoy the views while others hike to the top. \nCarpool Option:\nWhen possible\, carpooling will be arranged from the meet place.
URL:https://www.fitfrog.ca/event/pocaterra-ridge-larch-highwood-pass-kananaskis/
LOCATION:Shell Station at COP\, HWY 1\, 8435 Bowfort Rd NW\, Calgary\, AB T3B 2V2
CATEGORIES:Full Day Alberta Hikes / Snowshoeing
ATTACH;FMTTYPE=image/jpeg:https://www.fitfrog.ca/wp-content/uploads/2021/05/Larch-hike-Pocaterra-Ridge-Kananaskis.jpg
END:VEVENT
BEGIN:VEVENT
DTSTART;TZID=America/Edmonton:20200903T090000
DTEND;TZID=America/Edmonton:20200903T103000
DTSTAMP:20260424T001142
CREATED:20210715T220648Z
LAST-MODIFIED:20210901T004933Z
UID:1875-1599123600-1599129000@www.fitfrog.ca
SUMMARY:Edgemont Park Ravines\, NW
DESCRIPTION:Description:\nWe’ll hike along a mix of neighbourhood side-streets to the spectacular views from the Edgemont Hills. A paved pathway into the Edgemont Ravines leads us to wetlands. \nMeet Place:\nPark in the official parking lot at the intersection of Edgemont Hill and Edgemont Drive\, NW (just off John Laurie Blvd.) The official parking lot for the Edgemont Skating Rink. \nBathrooms:\nNo \nPost-Walk Coffee Stop (Optional):\nFriends Café
URL:https://www.fitfrog.ca/event/edgemont-park-ravines-nw-fall/
LOCATION:Edgemont\, NW\, 6911 Edgemont Dr NW\, Calgary\, AB T3A 2J8
CATEGORIES:Calgary City Walk & Cafe
ATTACH;FMTTYPE=image/jpeg:https://www.fitfrog.ca/wp-content/uploads/2021/04/Edgemont-Ravines-Rabbits.jpg
END:VEVENT
END:VCALENDAR